Back to Multiple platform build/check report for BioC 3.14
ABCDEFGH[I]JKLMNOPQRSTUVWXYZ

This page was generated on 2021-11-24 15:05:32 -0500 (Wed, 24 Nov 2021).

CHECK results for intansv on tokay2

To the developers/maintainers of the intansv package:
- Please allow up to 24 hours (and sometimes 48 hours) for your latest push to git@git.bioconductor.org:packages/intansv.git to
reflect on this report. See How and When does the builder pull? When will my changes propagate? here for more information.
- Make sure to use the following settings in order to reproduce any error or warning you see on this page.

raw results

Package 938/2083HostnameOS / ArchINSTALLBUILDCHECKBUILD BIN
intansv 1.34.0  (landing page)
Wen Yao
Snapshot Date: 2021-11-23 04:15:06 -0500 (Tue, 23 Nov 2021)
git_url: https://git.bioconductor.org/packages/intansv
git_branch: RELEASE_3_14
git_last_commit: 499d4d8
git_last_commit_date: 2021-10-26 12:09:02 -0500 (Tue, 26 Oct 2021)
nebbiolo2Linux (Ubuntu 20.04.3 LTS) / x86_64  OK    OK    OK  UNNEEDED, same version is already published
tokay2Windows Server 2012 R2 Standard / x64  OK    OK    OK    OK  UNNEEDED, same version is already published
machv2macOS 10.14.6 Mojave / x86_64  OK    OK    OK    OK  UNNEEDED, same version is already published

Summary

Package: intansv
Version: 1.34.0
Command: C:\Users\biocbuild\bbs-3.14-bioc\R\bin\R.exe CMD check --force-multiarch --install=check:intansv.install-out.txt --library=C:\Users\biocbuild\bbs-3.14-bioc\R\library --no-vignettes --timings intansv_1.34.0.tar.gz
StartedAt: 2021-11-23 23:39:03 -0500 (Tue, 23 Nov 2021)
EndedAt: 2021-11-23 23:47:03 -0500 (Tue, 23 Nov 2021)
EllapsedTime: 479.9 seconds
RetCode: 0
Status:   OK  
CheckDir: intansv.Rcheck
Warnings: 0

Command output

##############################################################################
##############################################################################
###
### Running command:
###
###   C:\Users\biocbuild\bbs-3.14-bioc\R\bin\R.exe CMD check --force-multiarch --install=check:intansv.install-out.txt --library=C:\Users\biocbuild\bbs-3.14-bioc\R\library --no-vignettes --timings intansv_1.34.0.tar.gz
###
##############################################################################
##############################################################################


* using log directory 'C:/Users/biocbuild/bbs-3.14-bioc/meat/intansv.Rcheck'
* using R version 4.1.2 (2021-11-01)
* using platform: x86_64-w64-mingw32 (64-bit)
* using session charset: ISO8859-1
* using option '--no-vignettes'
* checking for file 'intansv/DESCRIPTION' ... OK
* this is package 'intansv' version '1.34.0'
* checking package namespace information ... OK
* checking package dependencies ... OK
* checking if this is a source package ... OK
* checking if there is a namespace ... OK
* checking for hidden files and directories ... OK
* checking for portable file names ... OK
* checking whether package 'intansv' can be installed ... OK
* checking installed package size ... OK
* checking package directory ... OK
* checking 'build' directory ... OK
* checking DESCRIPTION meta-information ... OK
* checking top-level files ... OK
* checking for left-over files ... OK
* checking index information ... OK
* checking package subdirectories ... OK
* checking R files for non-ASCII characters ... OK
* checking R files for syntax errors ... OK
* loading checks for arch 'i386'
** checking whether the package can be loaded ... OK
** checking whether the package can be loaded with stated dependencies ... OK
** checking whether the package can be unloaded cleanly ... OK
** checking whether the namespace can be loaded with stated dependencies ... OK
** checking whether the namespace can be unloaded cleanly ... OK
* loading checks for arch 'x64'
** checking whether the package can be loaded ... OK
** checking whether the package can be loaded with stated dependencies ... OK
** checking whether the package can be unloaded cleanly ... OK
** checking whether the namespace can be loaded with stated dependencies ... OK
** checking whether the namespace can be unloaded cleanly ... OK
* checking dependencies in R code ... OK
* checking S3 generic/method consistency ... OK
* checking replacement functions ... OK
* checking foreign function calls ... OK
* checking R code for possible problems ... NOTE
DellyCluster: no visible global function definition for 'subjectHits'
LumpyCluster: no visible global function definition for 'subjectHits'
PindelCluster: no visible global function definition for 'subjectHits'
breakDancerCluster: no visible global function definition for
  'subjectHits'
mergeOLCNVs: no visible global function definition for 'subjectHits'
methodsMerge: no visible global function definition for 'subjectHits'
plotChromosome: no visible global function definition for 'queryHits'
plotChromosome: no visible global function definition for 'subjectHits'
plotChromosome: no visible global function definition for
  'seqlengths<-'
plotChromosome: no visible global function definition for 'seqlengths'
plotChromosome: no visible global function definition for 'aes'
plotRegion: no visible global function definition for 'seqlengths<-'
plotRegion: no visible global function definition for 'subjectHits'
plotRegion: no visible global function definition for 'aes'
plotRegion: no visible binding for global variable 'name'
readCnvnator: no visible global function definition for 'subjectHits'
readDelly: no visible global function definition for 'subjectHits'
readLumpy: no visible global function definition for 'subjectHits'
readPindel: no visible global function definition for 'subjectHits'
readSoftSearch: no visible global function definition for 'subjectHits'
readSvseq: no visible global function definition for 'subjectHits'
readSvseq : <anonymous>: no visible global function definition for
  'subjectHits'
softSearchCluster: no visible global function definition for
  'subjectHits'
tellOLPercantage: no visible global function definition for 'queryHits'
tellOLPercantage: no visible global function definition for
  'subjectHits'
Undefined global functions or variables:
  aes name queryHits seqlengths seqlengths<- subjectHits
* checking Rd files ... OK
* checking Rd metadata ... OK
* checking Rd cross-references ... OK
* checking for missing documentation entries ... OK
* checking for code/documentation mismatches ... OK
* checking Rd \usage sections ... OK
* checking Rd contents ... OK
* checking for unstated dependencies in examples ... OK
* checking files in 'vignettes' ... OK
* checking examples ...
** running examples for arch 'i386' ... OK
Examples with CPU (user + system) or elapsed time > 5s
              user system elapsed
methodsMerge 22.95   1.79    24.8
** running examples for arch 'x64' ... OK
Examples with CPU (user + system) or elapsed time > 5s
                user system elapsed
methodsMerge   23.37   0.29   23.66
plotChromosome  5.41   0.01    5.43
plotRegion      5.42   0.00    5.42
* checking for unstated dependencies in vignettes ... OK
* checking package vignettes in 'inst/doc' ... OK
* checking running R code from vignettes ... SKIPPED
* checking re-building of vignette outputs ... SKIPPED
* checking PDF version of manual ... OK
* DONE

Status: 1 NOTE
See
  'C:/Users/biocbuild/bbs-3.14-bioc/meat/intansv.Rcheck/00check.log'
for details.



Installation output

intansv.Rcheck/00install.out

##############################################################################
##############################################################################
###
### Running command:
###
###   C:\cygwin\bin\curl.exe -O http://155.52.207.166/BBS/3.14/bioc/src/contrib/intansv_1.34.0.tar.gz && rm -rf intansv.buildbin-libdir && mkdir intansv.buildbin-libdir && C:\Users\biocbuild\bbs-3.14-bioc\R\bin\R.exe CMD INSTALL --merge-multiarch --build --library=intansv.buildbin-libdir intansv_1.34.0.tar.gz && C:\Users\biocbuild\bbs-3.14-bioc\R\bin\R.exe CMD INSTALL intansv_1.34.0.zip && rm intansv_1.34.0.tar.gz intansv_1.34.0.zip
###
##############################################################################
##############################################################################


  % Total    % Received % Xferd  Average Speed   Time    Time     Time  Current
                                 Dload  Upload   Total   Spent    Left  Speed

  0     0    0     0    0     0      0      0 --:--:-- --:--:-- --:--:--     0
  3  484k    3 16227    0     0   137k      0  0:00:03 --:--:--  0:00:03  137k
100  484k  100  484k    0     0   746k      0 --:--:-- --:--:-- --:--:--  745k

install for i386

* installing *source* package 'intansv' ...
** using staged installation
** R
** inst
** byte-compile and prepare package for lazy loading
** help
*** installing help indices
  converting help for package 'intansv'
    finding HTML links ... done
    methodsMerge                            html  
    plotChromosome                          html  
    plotRegion                              html  
    readBreakDancer                         html  
    readCnvnator                            html  
    readDelly                               html  
    readLumpy                               html  
    readPindel                              html  
    readSoftSearch                          html  
    readSvseq                               html  
    svAnnotation                            html  
** building package indices
** installing vignettes
** testing if installed package can be loaded from temporary location
** testing if installed package can be loaded from final location
** testing if installed package keeps a record of temporary installation path

install for x64

* installing *source* package 'intansv' ...
** testing if installed package can be loaded
* MD5 sums
packaged installation of 'intansv' as intansv_1.34.0.zip
* DONE (intansv)
* installing to library 'C:/Users/biocbuild/bbs-3.14-bioc/R/library'
package 'intansv' successfully unpacked and MD5 sums checked

Tests output


Example timings

intansv.Rcheck/examples_i386/intansv-Ex.timings

nameusersystemelapsed
methodsMerge22.95 1.7924.80
plotChromosome4.740.164.89
plotRegion4.060.004.07
readBreakDancer1.30.01.3
readCnvnator0.560.000.56
readDelly2.830.002.83
readLumpy3.620.003.64
readPindel2.750.002.75
readSoftSearch0.490.000.49
readSvseq0.320.010.34
svAnnotation1.470.001.47

intansv.Rcheck/examples_x64/intansv-Ex.timings

nameusersystemelapsed
methodsMerge23.37 0.2923.66
plotChromosome5.410.015.43
plotRegion5.420.005.42
readBreakDancer1.960.001.96
readCnvnator0.630.000.63
readDelly3.150.003.16
readLumpy3.460.003.45
readPindel2.850.002.84
readSoftSearch0.320.000.33
readSvseq0.280.000.28
svAnnotation1.570.001.56