Back to Multiple platform build/check report for BioC 3.14
ABCDEFGH[I]JKLMNOPQRSTUVWXYZ

This page was generated on 2021-11-24 15:05:32 -0500 (Wed, 24 Nov 2021).

BUILD results for intansv on tokay2

To the developers/maintainers of the intansv package:
- Please allow up to 24 hours (and sometimes 48 hours) for your latest push to git@git.bioconductor.org:packages/intansv.git to
reflect on this report. See How and When does the builder pull? When will my changes propagate? here for more information.
- Make sure to use the following settings in order to reproduce any error or warning you see on this page.

raw results

Package 938/2083HostnameOS / ArchINSTALLBUILDCHECKBUILD BIN
intansv 1.34.0  (landing page)
Wen Yao
Snapshot Date: 2021-11-23 04:15:06 -0500 (Tue, 23 Nov 2021)
git_url: https://git.bioconductor.org/packages/intansv
git_branch: RELEASE_3_14
git_last_commit: 499d4d8
git_last_commit_date: 2021-10-26 12:09:02 -0500 (Tue, 26 Oct 2021)
nebbiolo2Linux (Ubuntu 20.04.3 LTS) / x86_64  OK    OK    OK  UNNEEDED, same version is already published
tokay2Windows Server 2012 R2 Standard / x64  OK    OK    OK    OK  UNNEEDED, same version is already published
machv2macOS 10.14.6 Mojave / x86_64  OK    OK    OK    OK  UNNEEDED, same version is already published

Summary

Package: intansv
Version: 1.34.0
Command: chmod a+r intansv -R && C:\Users\biocbuild\bbs-3.14-bioc\R\bin\R.exe CMD build --keep-empty-dirs --no-resave-data intansv
StartedAt: 2021-11-23 13:28:33 -0500 (Tue, 23 Nov 2021)
EndedAt: 2021-11-23 13:30:44 -0500 (Tue, 23 Nov 2021)
EllapsedTime: 130.9 seconds
RetCode: 0
Status:   OK  
PackageFile: intansv_1.34.0.tar.gz
PackageFileSize: 671.7 KiB

Command output

##############################################################################
##############################################################################
###
### Running command:
###
###   chmod a+r intansv -R && C:\Users\biocbuild\bbs-3.14-bioc\R\bin\R.exe CMD build --keep-empty-dirs --no-resave-data intansv
###
##############################################################################
##############################################################################


* checking for file 'intansv/DESCRIPTION' ... OK
* preparing 'intansv':
* checking DESCRIPTION meta-information ... OK
* installing the package to build vignettes
* creating vignettes ... OK
* checking for LF line-endings in source and make files and shell scripts
* checking for empty or unneeded directories
* building 'intansv_1.34.0.tar.gz'