Back to Multiple platform build/check report for BioC 3.14
ABCDEFGH[I]JKLMNOPQRSTUVWXYZ

This page was generated on 2021-11-24 15:05:32 -0500 (Wed, 24 Nov 2021).

BUILD BIN results for intansv on tokay2

To the developers/maintainers of the intansv package:
- Please allow up to 24 hours (and sometimes 48 hours) for your latest push to git@git.bioconductor.org:packages/intansv.git to
reflect on this report. See How and When does the builder pull? When will my changes propagate? here for more information.
- Make sure to use the following settings in order to reproduce any error or warning you see on this page.

raw results

Package 938/2083HostnameOS / ArchINSTALLBUILDCHECKBUILD BIN
intansv 1.34.0  (landing page)
Wen Yao
Snapshot Date: 2021-11-23 04:15:06 -0500 (Tue, 23 Nov 2021)
git_url: https://git.bioconductor.org/packages/intansv
git_branch: RELEASE_3_14
git_last_commit: 499d4d8
git_last_commit_date: 2021-10-26 12:09:02 -0500 (Tue, 26 Oct 2021)
nebbiolo2Linux (Ubuntu 20.04.3 LTS) / x86_64  OK    OK    OK  UNNEEDED, same version is already published
tokay2Windows Server 2012 R2 Standard / x64  OK    OK    OK    OK  UNNEEDED, same version is already published
machv2macOS 10.14.6 Mojave / x86_64  OK    OK    OK    OK  UNNEEDED, same version is already published

Summary

Package: intansv
Version: 1.34.0
Command: rm -rf intansv.buildbin-libdir && mkdir intansv.buildbin-libdir && C:\Users\biocbuild\bbs-3.14-bioc\R\bin\R.exe CMD INSTALL --merge-multiarch --build --library=intansv.buildbin-libdir intansv_1.34.0.tar.gz
StartedAt: 2021-11-24 09:34:22 -0500 (Wed, 24 Nov 2021)
EndedAt: 2021-11-24 09:35:55 -0500 (Wed, 24 Nov 2021)
EllapsedTime: 92.1 seconds
RetCode: 0
Status:   OK  
PackageFile: intansv_1.34.0.zip
PackageFileSize: 778.4 KiB

Command output

##############################################################################
##############################################################################
###
### Running command:
###
###   rm -rf intansv.buildbin-libdir && mkdir intansv.buildbin-libdir && C:\Users\biocbuild\bbs-3.14-bioc\R\bin\R.exe CMD INSTALL --merge-multiarch --build --library=intansv.buildbin-libdir intansv_1.34.0.tar.gz
###
##############################################################################
##############################################################################



install for i386

* installing *source* package 'intansv' ...
** using staged installation
** R
** inst
** byte-compile and prepare package for lazy loading
** help
*** installing help indices
  converting help for package 'intansv'
    finding HTML links ... done
    methodsMerge                            html  
    plotChromosome                          html  
    plotRegion                              html  
    readBreakDancer                         html  
    readCnvnator                            html  
    readDelly                               html  
    readLumpy                               html  
    readPindel                              html  
    readSoftSearch                          html  
    readSvseq                               html  
    svAnnotation                            html  
** building package indices
** installing vignettes
** testing if installed package can be loaded from temporary location
** testing if installed package can be loaded from final location
** testing if installed package keeps a record of temporary installation path

install for x64

* installing *source* package 'intansv' ...
** testing if installed package can be loaded
* MD5 sums
packaged installation of 'intansv' as intansv_1.34.0.zip
* DONE (intansv)