Index of /checkResults/release/bioc-LATEST/intansv/raw-results/riesling1

[ICO]NameLast modifiedSizeDescription

[DIR]Parent Directory  -  
[TXT]install-out.txt19-Mar-2022 00:07 1.6K 
[   ]install-summary.dcf19-Mar-2022 00:07 268  
[TXT]buildsrc-out.txt19-Mar-2022 00:07 839  
[   ]buildsrc-summary.dcf19-Mar-2022 00:07 452  
[TXT]checksrc-out.txt19-Mar-2022 00:07 4.9K 
[   ]checksrc-summary.dcf19-Mar-2022 00:07 447  
[TXT]buildbin-out.txt19-Mar-2022 00:07 1.7K 
[   ]buildbin-summary.dcf19-Mar-2022 00:07 513