Index of /checkResults/release/bioc-LATEST/intansv/raw-results/merida1

[ICO]NameLast modifiedSizeDescription

[DIR]Parent Directory  -  
[TXT]install-out.txt13-Aug-2022 02:23 1.0K 
[   ]install-summary.dcf13-Aug-2022 02:23 269  
[TXT]buildsrc-out.txt13-Aug-2022 02:23 816  
[   ]buildsrc-summary.dcf13-Aug-2022 02:23 428  
[TXT]checksrc-out.txt13-Aug-2022 02:23 5.1K 
[   ]checksrc-summary.dcf13-Aug-2022 02:23 444  
[TXT]buildbin-out.txt13-Aug-2022 02:23 1.1K 
[   ]buildbin-summary.dcf13-Aug-2022 02:23 531