Index of /checkResults/release/bioc-LATEST/intansv/raw-results/merida1

[ICO]NameLast modifiedSizeDescription

[DIR]Parent Directory  -  
[TXT]buildbin-out.txt02-Jul-2022 01:08 1.1K 
[   ]buildbin-summary.dcf02-Jul-2022 01:08 530  
[TXT]buildsrc-out.txt02-Jul-2022 01:08 816  
[   ]buildsrc-summary.dcf02-Jul-2022 01:08 428  
[TXT]checksrc-out.txt02-Jul-2022 01:08 5.1K 
[   ]checksrc-summary.dcf02-Jul-2022 01:08 444  
[TXT]install-out.txt02-Jul-2022 01:08 1.0K 
[   ]install-summary.dcf02-Jul-2022 01:08 269