Back to Multiple platform build/check report for BioC 3.13
ABCDEFGH[I]JKLMNOPQRSTUVWXYZ

This page was generated on 2021-09-20 15:05:16 -0400 (Mon, 20 Sep 2021).

CHECK results for ideal on tokay2

To the developers/maintainers of the ideal package:
- Please allow up to 24 hours (and sometimes 48 hours) for your latest push to git@git.bioconductor.org:packages/ideal.git to
reflect on this report. See How and When does the builder pull? When will my changes propagate? here for more information.
- Make sure to use the following settings in order to reproduce any error or warning you see on this page.

raw results

Package 899/2041HostnameOS / ArchINSTALLBUILDCHECKBUILD BIN
ideal 1.16.0  (landing page)
Federico Marini
Snapshot Date: 2021-09-19 04:50:10 -0400 (Sun, 19 Sep 2021)
git_url: https://git.bioconductor.org/packages/ideal
git_branch: RELEASE_3_13
git_last_commit: bbbffd1
git_last_commit_date: 2021-05-19 12:27:38 -0400 (Wed, 19 May 2021)
nebbiolo1Linux (Ubuntu 20.04.2 LTS) / x86_64  OK    OK    OK  UNNEEDED, same version is already published
tokay2Windows Server 2012 R2 Standard / x64  OK    OK    OK    OK  UNNEEDED, same version is already published
machv2macOS 10.14.6 Mojave / x86_64  OK    OK    OK    OK  UNNEEDED, same version is already published

Summary

Package: ideal
Version: 1.16.0
Command: C:\Users\biocbuild\bbs-3.13-bioc\R\bin\R.exe CMD check --force-multiarch --install=check:ideal.install-out.txt --library=C:\Users\biocbuild\bbs-3.13-bioc\R\library --no-vignettes --timings ideal_1.16.0.tar.gz
StartedAt: 2021-09-19 23:56:01 -0400 (Sun, 19 Sep 2021)
EndedAt: 2021-09-20 00:07:09 -0400 (Mon, 20 Sep 2021)
EllapsedTime: 667.9 seconds
RetCode: 0
Status:   OK  
CheckDir: ideal.Rcheck
Warnings: 0

Command output

##############################################################################
##############################################################################
###
### Running command:
###
###   C:\Users\biocbuild\bbs-3.13-bioc\R\bin\R.exe CMD check --force-multiarch --install=check:ideal.install-out.txt --library=C:\Users\biocbuild\bbs-3.13-bioc\R\library --no-vignettes --timings ideal_1.16.0.tar.gz
###
##############################################################################
##############################################################################


* using log directory 'C:/Users/biocbuild/bbs-3.13-bioc/meat/ideal.Rcheck'
* using R version 4.1.1 (2021-08-10)
* using platform: x86_64-w64-mingw32 (64-bit)
* using session charset: ISO8859-1
* using option '--no-vignettes'
* checking for file 'ideal/DESCRIPTION' ... OK
* checking extension type ... Package
* this is package 'ideal' version '1.16.0'
* package encoding: UTF-8
* checking package namespace information ... OK
* checking package dependencies ... OK
* checking if this is a source package ... OK
* checking if there is a namespace ... OK
* checking for hidden files and directories ... OK
* checking for portable file names ... OK
* checking whether package 'ideal' can be installed ... OK
* checking installed package size ... OK
* checking package directory ... OK
* checking 'build' directory ... OK
* checking DESCRIPTION meta-information ... OK
* checking top-level files ... OK
* checking for left-over files ... OK
* checking index information ... OK
* checking package subdirectories ... OK
* checking R files for non-ASCII characters ... OK
* checking R files for syntax errors ... OK
* loading checks for arch 'i386'
** checking whether the package can be loaded ... OK
** checking whether the package can be loaded with stated dependencies ... OK
** checking whether the package can be unloaded cleanly ... OK
** checking whether the namespace can be loaded with stated dependencies ... OK
** checking whether the namespace can be unloaded cleanly ... OK
* loading checks for arch 'x64'
** checking whether the package can be loaded ... OK
** checking whether the package can be loaded with stated dependencies ... OK
** checking whether the package can be unloaded cleanly ... OK
** checking whether the namespace can be loaded with stated dependencies ... OK
** checking whether the namespace can be unloaded cleanly ... OK
* checking dependencies in R code ... OK
* checking S3 generic/method consistency ... OK
* checking replacement functions ... OK
* checking foreign function calls ... OK
* checking R code for possible problems ... NOTE
ideal: no visible binding for '<<-' assignment to 'ideal_env'
ideal : <anonymous>: no visible binding for global variable 'airway'
ideal : <anonymous>: no visible binding for global variable 'pvalue'
ideal : <anonymous>: no visible binding for global variable 'baseMean'
ideal : <anonymous>: no visible binding for global variable 'ideal_env'
Undefined global functions or variables:
  airway baseMean ideal_env pvalue
* checking Rd files ... OK
* checking Rd metadata ... OK
* checking Rd cross-references ... OK
* checking for missing documentation entries ... OK
* checking for code/documentation mismatches ... OK
* checking Rd \usage sections ... OK
* checking Rd contents ... OK
* checking for unstated dependencies in examples ... OK
* checking files in 'vignettes' ... OK
* checking examples ...
** running examples for arch 'i386' ... OK
Examples with CPU (user + system) or elapsed time > 5s
                 user system elapsed
goseqTable      25.22   0.41   25.62
wrapup_for_iSEE  8.00   0.05    8.05
plot_volcano     7.05   0.01    7.06
plot_ma          6.24   0.27    6.50
ggplotCounts     4.98   0.36    5.36
** running examples for arch 'x64' ... OK
Examples with CPU (user + system) or elapsed time > 5s
                 user system elapsed
goseqTable      25.07   0.22   25.29
wrapup_for_iSEE  9.36   0.03    9.39
plot_ma          6.48   0.10    6.58
plot_volcano     6.00   0.06    6.06
ggplotCounts     5.41   0.05    5.45
* checking for unstated dependencies in 'tests' ... OK
* checking tests ...
** running tests for arch 'i386' ...
  Running 'testthat.R'
 OK
** running tests for arch 'x64' ...
  Running 'testthat.R'
 OK
* checking for unstated dependencies in vignettes ... OK
* checking package vignettes in 'inst/doc' ... OK
* checking running R code from vignettes ... SKIPPED
* checking re-building of vignette outputs ... SKIPPED
* checking PDF version of manual ... OK
* DONE

Status: 1 NOTE
See
  'C:/Users/biocbuild/bbs-3.13-bioc/meat/ideal.Rcheck/00check.log'
for details.



Installation output

ideal.Rcheck/00install.out

##############################################################################
##############################################################################
###
### Running command:
###
###   C:\cygwin\bin\curl.exe -O http://155.52.207.165/BBS/3.13/bioc/src/contrib/ideal_1.16.0.tar.gz && rm -rf ideal.buildbin-libdir && mkdir ideal.buildbin-libdir && C:\Users\biocbuild\bbs-3.13-bioc\R\bin\R.exe CMD INSTALL --merge-multiarch --build --library=ideal.buildbin-libdir ideal_1.16.0.tar.gz && C:\Users\biocbuild\bbs-3.13-bioc\R\bin\R.exe CMD INSTALL ideal_1.16.0.zip && rm ideal_1.16.0.tar.gz ideal_1.16.0.zip
###
##############################################################################
##############################################################################


  % Total    % Received % Xferd  Average Speed   Time    Time     Time  Current
                                 Dload  Upload   Total   Spent    Left  Speed

  0     0    0     0    0     0      0      0 --:--:-- --:--:-- --:--:--     0
  7 3976k    7  295k    0     0  1125k      0  0:00:03 --:--:--  0:00:03 1127k
100 3976k  100 3976k    0     0  3472k      0  0:00:01  0:00:01 --:--:-- 3475k

install for i386

* installing *source* package 'ideal' ...
** using staged installation
** R
** inst
** byte-compile and prepare package for lazy loading

groupGOTerms: 	GOBPTerm, GOMFTerm, GOCCTerm environments built.
** help
*** installing help indices
  converting help for package 'ideal'
    finding HTML links ... done
    deseqresult2DEgenes                     html  
    finding level-2 HTML links ... done

    deseqresult2tbl                         html  
    ggplotCounts                            html  
    goseqTable                              html  
    ideal-pkg                               html  
    ideal                                   html  
    plot_ma                                 html  
    plot_volcano                            html  
    read_gmt                                html  
    sepguesser                              html  
    sig_heatmap                             html  
    wrapup_for_iSEE                         html  
** building package indices
** installing vignettes
** testing if installed package can be loaded from temporary location

groupGOTerms: 	GOBPTerm, GOMFTerm, GOCCTerm environments built.
** testing if installed package can be loaded from final location

groupGOTerms: 	GOBPTerm, GOMFTerm, GOCCTerm environments built.
** testing if installed package keeps a record of temporary installation path

install for x64

* installing *source* package 'ideal' ...
** testing if installed package can be loaded

groupGOTerms: 	GOBPTerm, GOMFTerm, GOCCTerm environments built.
* MD5 sums
packaged installation of 'ideal' as ideal_1.16.0.zip
* DONE (ideal)
* installing to library 'C:/Users/biocbuild/bbs-3.13-bioc/R/library'
package 'ideal' successfully unpacked and MD5 sums checked

Tests output

ideal.Rcheck/tests_i386/testthat.Rout


R version 4.1.1 (2021-08-10) -- "Kick Things"
Copyright (C) 2021 The R Foundation for Statistical Computing
Platform: i386-w64-mingw32/i386 (32-bit)

R is free software and comes with ABSOLUTELY NO WARRANTY.
You are welcome to redistribute it under certain conditions.
Type 'license()' or 'licence()' for distribution details.

R is a collaborative project with many contributors.
Type 'contributors()' for more information and
'citation()' on how to cite R or R packages in publications.

Type 'demo()' for some demos, 'help()' for on-line help, or
'help.start()' for an HTML browser interface to help.
Type 'q()' to quit R.

> library(testthat)
> library(ideal)
Loading required package: topGO
Loading required package: BiocGenerics
Loading required package: parallel

Attaching package: 'BiocGenerics'

The following objects are masked from 'package:parallel':

    clusterApply, clusterApplyLB, clusterCall, clusterEvalQ,
    clusterExport, clusterMap, parApply, parCapply, parLapply,
    parLapplyLB, parRapply, parSapply, parSapplyLB

The following objects are masked from 'package:stats':

    IQR, mad, sd, var, xtabs

The following objects are masked from 'package:base':

    Filter, Find, Map, Position, Reduce, anyDuplicated, append,
    as.data.frame, basename, cbind, colnames, dirname, do.call,
    duplicated, eval, evalq, get, grep, grepl, intersect, is.unsorted,
    lapply, mapply, match, mget, order, paste, pmax, pmax.int, pmin,
    pmin.int, rank, rbind, rownames, sapply, setdiff, sort, table,
    tapply, union, unique, unsplit, which.max, which.min

Loading required package: graph
Loading required package: Biobase
Welcome to Bioconductor

    Vignettes contain introductory material; view with
    'browseVignettes()'. To cite Bioconductor, see
    'citation("Biobase")', and for packages 'citation("pkgname")'.

Loading required package: GO.db
Loading required package: AnnotationDbi
Loading required package: stats4
Loading required package: IRanges
Loading required package: S4Vectors

Attaching package: 'S4Vectors'

The following objects are masked from 'package:base':

    I, expand.grid, unname


Attaching package: 'IRanges'

The following object is masked from 'package:grDevices':

    windows


Loading required package: SparseM

Attaching package: 'SparseM'

The following object is masked from 'package:base':

    backsolve


groupGOTerms: 	GOBPTerm, GOMFTerm, GOCCTerm environments built.

Attaching package: 'topGO'

The following object is masked from 'package:IRanges':

    members

Welcome to ideal v1.16.0

If you use ideal in your work, please cite:

Federico Marini, Jan Linke, Harald Binder
ideal: an R/Bioconductor package for Interactive Differential Expression Analysis
BMC Bioinformatics, 2020 - https://doi.org/10.1186/s12859-020-03819-5

> 
> test_check("ideal")
[ FAIL 0 | WARN 0 | SKIP 0 | PASS 2 ]
> 
> proc.time()
   user  system elapsed 
  15.39    1.84   21.35 

ideal.Rcheck/tests_x64/testthat.Rout


R version 4.1.1 (2021-08-10) -- "Kick Things"
Copyright (C) 2021 The R Foundation for Statistical Computing
Platform: x86_64-w64-mingw32/x64 (64-bit)

R is free software and comes with ABSOLUTELY NO WARRANTY.
You are welcome to redistribute it under certain conditions.
Type 'license()' or 'licence()' for distribution details.

R is a collaborative project with many contributors.
Type 'contributors()' for more information and
'citation()' on how to cite R or R packages in publications.

Type 'demo()' for some demos, 'help()' for on-line help, or
'help.start()' for an HTML browser interface to help.
Type 'q()' to quit R.

> library(testthat)
> library(ideal)
Loading required package: topGO
Loading required package: BiocGenerics
Loading required package: parallel

Attaching package: 'BiocGenerics'

The following objects are masked from 'package:parallel':

    clusterApply, clusterApplyLB, clusterCall, clusterEvalQ,
    clusterExport, clusterMap, parApply, parCapply, parLapply,
    parLapplyLB, parRapply, parSapply, parSapplyLB

The following objects are masked from 'package:stats':

    IQR, mad, sd, var, xtabs

The following objects are masked from 'package:base':

    Filter, Find, Map, Position, Reduce, anyDuplicated, append,
    as.data.frame, basename, cbind, colnames, dirname, do.call,
    duplicated, eval, evalq, get, grep, grepl, intersect, is.unsorted,
    lapply, mapply, match, mget, order, paste, pmax, pmax.int, pmin,
    pmin.int, rank, rbind, rownames, sapply, setdiff, sort, table,
    tapply, union, unique, unsplit, which.max, which.min

Loading required package: graph
Loading required package: Biobase
Welcome to Bioconductor

    Vignettes contain introductory material; view with
    'browseVignettes()'. To cite Bioconductor, see
    'citation("Biobase")', and for packages 'citation("pkgname")'.

Loading required package: GO.db
Loading required package: AnnotationDbi
Loading required package: stats4
Loading required package: IRanges
Loading required package: S4Vectors

Attaching package: 'S4Vectors'

The following objects are masked from 'package:base':

    I, expand.grid, unname


Attaching package: 'IRanges'

The following object is masked from 'package:grDevices':

    windows


Loading required package: SparseM

Attaching package: 'SparseM'

The following object is masked from 'package:base':

    backsolve


groupGOTerms: 	GOBPTerm, GOMFTerm, GOCCTerm environments built.

Attaching package: 'topGO'

The following object is masked from 'package:IRanges':

    members

Welcome to ideal v1.16.0

If you use ideal in your work, please cite:

Federico Marini, Jan Linke, Harald Binder
ideal: an R/Bioconductor package for Interactive Differential Expression Analysis
BMC Bioinformatics, 2020 - https://doi.org/10.1186/s12859-020-03819-5

> 
> test_check("ideal")
[ FAIL 0 | WARN 0 | SKIP 0 | PASS 2 ]
> 
> proc.time()
   user  system elapsed 
  17.48    0.87   18.35 

Example timings

ideal.Rcheck/examples_i386/ideal-Ex.timings

nameusersystemelapsed
deseqresult2DEgenes3.370.844.25
deseqresult2tbl2.860.002.90
ggplotCounts4.980.365.36
goseqTable25.22 0.4125.62
ideal2.010.012.04
plot_ma6.240.276.50
plot_volcano7.050.017.06
read_gmt0.530.071.25
sepguesser0.000.010.01
sig_heatmap2.500.052.55
wrapup_for_iSEE8.000.058.05

ideal.Rcheck/examples_x64/ideal-Ex.timings

nameusersystemelapsed
deseqresult2DEgenes4.230.104.35
deseqresult2tbl3.940.003.94
ggplotCounts5.410.055.45
goseqTable25.07 0.2225.29
ideal2.340.032.37
plot_ma6.480.106.58
plot_volcano6.000.066.06
read_gmt0.380.040.85
sepguesser000
sig_heatmap1.920.041.95
wrapup_for_iSEE9.360.039.39