Back to Multiple platform build/check report for BioC 3.13
ABCDEFGH[I]JKLMNOPQRSTUVWXYZ

This page was generated on 2021-09-17 15:06:40 -0400 (Fri, 17 Sep 2021).

BUILD results for ideal on machv2

To the developers/maintainers of the ideal package:
- Please allow up to 24 hours (and sometimes 48 hours) for your latest push to git@git.bioconductor.org:packages/ideal.git to
reflect on this report. See How and When does the builder pull? When will my changes propagate? here for more information.
- Make sure to use the following settings in order to reproduce any error or warning you see on this page.

raw results

Package 899/2041HostnameOS / ArchINSTALLBUILDCHECKBUILD BIN
ideal 1.16.0  (landing page)
Federico Marini
Snapshot Date: 2021-09-16 04:50:11 -0400 (Thu, 16 Sep 2021)
git_url: https://git.bioconductor.org/packages/ideal
git_branch: RELEASE_3_13
git_last_commit: bbbffd1
git_last_commit_date: 2021-05-19 12:27:38 -0400 (Wed, 19 May 2021)
nebbiolo1Linux (Ubuntu 20.04.2 LTS) / x86_64  OK    OK    OK  UNNEEDED, same version is already published
tokay2Windows Server 2012 R2 Standard / x64  OK    OK    OK    OK  UNNEEDED, same version is already published
machv2macOS 10.14.6 Mojave / x86_64  OK    OK    OK    OK  UNNEEDED, same version is already published

Summary

Package: ideal
Version: 1.16.0
Command: /Library/Frameworks/R.framework/Versions/Current/Resources/bin/R CMD build --keep-empty-dirs --no-resave-data ideal
StartedAt: 2021-09-16 12:44:03 -0400 (Thu, 16 Sep 2021)
EndedAt: 2021-09-16 12:47:38 -0400 (Thu, 16 Sep 2021)
EllapsedTime: 214.6 seconds
RetCode: 0
Status:   OK  
PackageFile: ideal_1.16.0.tar.gz
PackageFileSize: 4.114 MiB

Command output

##############################################################################
##############################################################################
###
### Running command:
###
###   /Library/Frameworks/R.framework/Versions/Current/Resources/bin/R CMD build --keep-empty-dirs --no-resave-data ideal
###
##############################################################################
##############################################################################


* checking for file ‘ideal/DESCRIPTION’ ... OK
* preparing ‘ideal’:
* checking DESCRIPTION meta-information ... OK
* installing the package to build vignettes
* creating vignettes ... OK
* checking for LF line-endings in source and make files and shell scripts
* checking for empty or unneeded directories
WARNING: directory ‘ideal/.github/workflows’ is empty
Omitted ‘LazyData’ from DESCRIPTION
* building ‘ideal_1.16.0.tar.gz’