Index of /checkResults/release/bioc-LATEST/gwascat/raw-results/nebbiolo1

[ICO]NameLast modifiedSizeDescription

[DIR]Parent Directory  -  
[TXT]buildsrc-out.txt16-Oct-2021 04:05 869  
[   ]buildsrc-summary.dcf16-Oct-2021 04:05 418  
[TXT]checksrc-out.txt16-Oct-2021 04:05 6.2K 
[   ]checksrc-summary.dcf16-Oct-2021 04:05 424  
[TXT]install-out.txt16-Oct-2021 04:05 955  
[   ]install-summary.dcf16-Oct-2021 04:05 259