Index of /checkResults/release/bioc-LATEST/gwascat/raw-results/machv2

[ICO]NameLast modifiedSizeDescription

[DIR]Parent Directory  -  
[TXT]buildbin-out.txt16-Oct-2021 04:06 1.2K 
[   ]buildbin-summary.dcf16-Oct-2021 04:06 547  
[TXT]buildsrc-out.txt16-Oct-2021 04:06 896  
[   ]buildsrc-summary.dcf16-Oct-2021 04:06 445  
[TXT]checksrc-out.txt16-Oct-2021 04:06 6.5K 
[   ]checksrc-summary.dcf16-Oct-2021 04:06 478  
[TXT]install-out.txt16-Oct-2021 04:06 1.0K 
[   ]install-summary.dcf16-Oct-2021 04:06 286