Back to Multiple platform build/check report for BioC 3.13
ABCDEF[G]HIJKLMNOPQRSTUVWXYZ

This page was generated on 2021-09-20 15:04:50 -0400 (Mon, 20 Sep 2021).

CHECK results for gwascat on nebbiolo1

To the developers/maintainers of the gwascat package:
- Please allow up to 24 hours (and sometimes 48 hours) for your latest push to git@git.bioconductor.org:packages/gwascat.git to
reflect on this report. See How and When does the builder pull? When will my changes propagate? here for more information.
- Make sure to use the following settings in order to reproduce any error or warning you see on this page.

raw results

Package 833/2041HostnameOS / ArchINSTALLBUILDCHECKBUILD BIN
gwascat 2.24.0  (landing page)
VJ Carey
Snapshot Date: 2021-09-19 04:50:10 -0400 (Sun, 19 Sep 2021)
git_url: https://git.bioconductor.org/packages/gwascat
git_branch: RELEASE_3_13
git_last_commit: d251baa
git_last_commit_date: 2021-05-19 11:51:31 -0400 (Wed, 19 May 2021)
nebbiolo1Linux (Ubuntu 20.04.2 LTS) / x86_64  OK    OK    OK  UNNEEDED, same version is already published
tokay2Windows Server 2012 R2 Standard / x64  OK    OK    OK    OK  UNNEEDED, same version is already published
machv2macOS 10.14.6 Mojave / x86_64  OK    OK    OK    OK  UNNEEDED, same version is already published

Summary

Package: gwascat
Version: 2.24.0
Command: /home/biocbuild/bbs-3.13-bioc/R/bin/R CMD check --install=check:gwascat.install-out.txt --library=/home/biocbuild/bbs-3.13-bioc/R/library --no-vignettes --timings gwascat_2.24.0.tar.gz
StartedAt: 2021-09-19 10:05:59 -0400 (Sun, 19 Sep 2021)
EndedAt: 2021-09-19 10:13:16 -0400 (Sun, 19 Sep 2021)
EllapsedTime: 437.1 seconds
RetCode: 0
Status:   OK  
CheckDir: gwascat.Rcheck
Warnings: 0

Command output

##############################################################################
##############################################################################
###
### Running command:
###
###   /home/biocbuild/bbs-3.13-bioc/R/bin/R CMD check --install=check:gwascat.install-out.txt --library=/home/biocbuild/bbs-3.13-bioc/R/library --no-vignettes --timings gwascat_2.24.0.tar.gz
###
##############################################################################
##############################################################################


* using log directory ‘/home/biocbuild/bbs-3.13-bioc/meat/gwascat.Rcheck’
* using R version 4.1.1 (2021-08-10)
* using platform: x86_64-pc-linux-gnu (64-bit)
* using session charset: UTF-8
* using option ‘--no-vignettes’
* checking for file ‘gwascat/DESCRIPTION’ ... OK
* this is package ‘gwascat’ version ‘2.24.0’
* package encoding: UTF-8
* checking package namespace information ... OK
* checking package dependencies ... OK
* checking if this is a source package ... OK
* checking if there is a namespace ... OK
* checking for hidden files and directories ... OK
* checking for portable file names ... OK
* checking for sufficient/correct file permissions ... OK
* checking whether package ‘gwascat’ can be installed ... OK
* checking installed package size ... NOTE
  installed size is 33.9Mb
  sub-directories of 1Mb or more:
    data     10.1Mb
    legacy   15.7Mb
    obo       3.1Mb
    olddata   2.3Mb
    tab       1.1Mb
* checking package directory ... OK
* checking ‘build’ directory ... OK
* checking DESCRIPTION meta-information ... NOTE
Package listed in more than one of Depends, Imports, Suggests, Enhances:
  ‘IRanges’
A package should be listed in only one of these fields.
* checking top-level files ... OK
* checking for left-over files ... OK
* checking index information ... OK
* checking package subdirectories ... OK
* checking R files for non-ASCII characters ... OK
* checking R files for syntax errors ... OK
* checking whether the package can be loaded ... OK
* checking whether the package can be loaded with stated dependencies ... OK
* checking whether the package can be unloaded cleanly ... OK
* checking whether the namespace can be loaded with stated dependencies ... OK
* checking whether the namespace can be unloaded cleanly ... OK
* checking dependencies in R code ... OK
* checking S3 generic/method consistency ... OK
* checking replacement functions ... OK
* checking foreign function calls ... OK
* checking R code for possible problems ... NOTE
addSeqlengths: no visible global function definition for ‘seqlengths’
addSeqlengths: no visible global function definition for ‘seqlengths<-’
bindcadd_snv: no visible global function definition for ‘TabixFile’
bindcadd_snv: no visible global function definition for ‘findOverlaps’
buildq: no visible global function definition for ‘read.delim’
chklocs: no visible binding for global variable ‘gwrngs19’
chklocs: no visible global function definition for ‘snpsBySeqname’
gwascat_from_AHub: no visible global function definition for ‘data’
gwascat_from_AHub: no visible binding for global variable ‘si.hs.38’
gwascat_from_AHub: no visible global function definition for
  ‘sessionInfo’
gwcat_snapshot: no visible global function definition for ‘data’
gwcat_snapshot: no visible binding for global variable ‘si.hs.38’
gwcat_snapshot: no visible global function definition for ‘sessionInfo’
lo38to19: no visible global function definition for ‘liftOver’
lo38to19: no visible global function definition for ‘sessionInfo’
lo38to19: no visible global function definition for ‘data’
lo38to19: no visible binding for global variable ‘si.hs.37’
makeCurrentGwascat: no visible global function definition for
  ‘download.file’
makeCurrentGwascat: no visible global function definition for ‘data’
makeCurrentGwascat: no visible binding for global variable ‘si.hs.38’
makeCurrentGwascat: no visible global function definition for
  ‘sessionInfo’
process_gwas_dataframe: no visible global function definition for
  ‘data’
process_gwas_dataframe: no visible binding for global variable
  ‘si.hs.38’
process_gwas_dataframe: no visible global function definition for
  ‘sessionInfo’
snpGenos: no visible global function definition for ‘getSNPlocs’
tfilt: no visible binding for global variable ‘phr’
tpad: no visible binding for global variable ‘phr’
traitsManh: no visible global function definition for ‘aes’
traitsManh: no visible binding for global variable ‘PVALUE_MLOG’
variantProps: no visible binding for global variable ‘gwrngs’
Undefined global functions or variables:
  PVALUE_MLOG TabixFile aes data download.file findOverlaps getSNPlocs
  gwrngs gwrngs19 liftOver phr read.delim seqlengths seqlengths<-
  sessionInfo si.hs.37 si.hs.38 snpsBySeqname
Consider adding
  importFrom("utils", "data", "download.file", "read.delim",
             "sessionInfo")
to your NAMESPACE file.
* checking Rd files ... OK
* checking Rd metadata ... OK
* checking Rd cross-references ... OK
* checking for missing documentation entries ... OK
* checking for code/documentation mismatches ... OK
* checking Rd \usage sections ... OK
* checking Rd contents ... OK
* checking for unstated dependencies in examples ... OK
* checking contents of ‘data’ directory ... OK
* checking data for non-ASCII characters ... NOTE
  Note: found 2077 marked UTF-8 strings
* checking data for ASCII and uncompressed saves ... OK
* checking files in ‘vignettes’ ... OK
* checking examples ... OK
Examples with CPU (user + system) or elapsed time > 5s
                    user system elapsed
gwascat_from_AHub 25.199  1.360  27.337
gwcat_snapshot    20.027  0.943  22.044
gwcex2gviz         9.991  0.544  10.825
gg17N              7.528  0.108   7.637
* checking for unstated dependencies in ‘tests’ ... OK
* checking tests ...
  Running ‘testthat.R’
 OK
* checking for unstated dependencies in vignettes ... OK
* checking package vignettes in ‘inst/doc’ ... OK
* checking running R code from vignettes ... SKIPPED
* checking re-building of vignette outputs ... SKIPPED
* checking PDF version of manual ... OK
* DONE

Status: 4 NOTEs
See
  ‘/home/biocbuild/bbs-3.13-bioc/meat/gwascat.Rcheck/00check.log’
for details.



Installation output

gwascat.Rcheck/00install.out

##############################################################################
##############################################################################
###
### Running command:
###
###   /home/biocbuild/bbs-3.13-bioc/R/bin/R CMD INSTALL gwascat
###
##############################################################################
##############################################################################


* installing to library ‘/home/biocbuild/bbs-3.13-bioc/R/library’
* installing *source* package ‘gwascat’ ...
** using staged installation
** R
** data
** inst
** byte-compile and prepare package for lazy loading
** help
*** installing help indices
** building package indices
** installing vignettes
** testing if installed package can be loaded from temporary location
** testing if installed package can be loaded from final location
** testing if installed package keeps a record of temporary installation path
* DONE (gwascat)

Tests output

gwascat.Rcheck/tests/testthat.Rout


R version 4.1.1 (2021-08-10) -- "Kick Things"
Copyright (C) 2021 The R Foundation for Statistical Computing
Platform: x86_64-pc-linux-gnu (64-bit)

R is free software and comes with ABSOLUTELY NO WARRANTY.
You are welcome to redistribute it under certain conditions.
Type 'license()' or 'licence()' for distribution details.

R is a collaborative project with many contributors.
Type 'contributors()' for more information and
'citation()' on how to cite R or R packages in publications.

Type 'demo()' for some demos, 'help()' for on-line help, or
'help.start()' for an HTML browser interface to help.
Type 'q()' to quit R.

> library(testthat)
> 
> test_check("gwascat")
Loading required package: gwascat
gwascat loaded.  Use makeCurrentGwascat() to extract current image.
 from EBI.  The data folder of this package has some legacy extracts.
[ FAIL 0 | WARN 0 | SKIP 0 | PASS 0 ]
> 
> 
> proc.time()
   user  system elapsed 
 13.262   0.936  14.554 

Example timings

gwascat.Rcheck/gwascat-Ex.timings

nameusersystemelapsed
bindcadd_snv000
gg17N7.5280.1087.637
gwascat_from_AHub25.199 1.36027.337
gwcat_snapshot20.027 0.94322.044
gwcex2gviz 9.991 0.54410.825
ldtagr0.7400.0201.081
makeCurrentGwascat0.0000.0000.001
obo2graphNEL0.2840.0120.297
riskyAlleleCount0.0010.0000.000
topTraits0.960.061.02
traitsManh000