Back to Multiple platform build/check report for BioC 3.13
ABCDEF[G]HIJKLMNOPQRSTUVWXYZ

This page was generated on 2021-08-02 15:05:14 -0400 (Mon, 02 Aug 2021).

INSTALL results for graphite on tokay2

To the developers/maintainers of the graphite package:
- Please allow up to 24 hours (and sometimes 48 hours) for your latest push to git@git.bioconductor.org:packages/graphite.git to
reflect on this report. See How and When does the builder pull? When will my changes propagate? here for more information.
- Make sure to use the following settings in order to reproduce any error or warning you see on this page.

raw results

Package 808/2041HostnameOS / ArchINSTALLBUILDCHECKBUILD BIN
graphite 1.38.0  (landing page)
Gabriele Sales
Snapshot Date: 2021-08-01 04:50:10 -0400 (Sun, 01 Aug 2021)
URL: https://git.bioconductor.org/packages/graphite
Branch: RELEASE_3_13
Last Commit: 7517460
Last Changed Date: 2021-05-19 11:49:41 -0400 (Wed, 19 May 2021)
nebbiolo1Linux (Ubuntu 20.04.2 LTS) / x86_64  OK    OK    OK  UNNEEDED, same version is already published
tokay2Windows Server 2012 R2 Standard / x64  OK    OK    ERROR    OK  
machv2macOS 10.14.6 Mojave / x86_64  OK    OK    OK    OK  UNNEEDED, same version is already published

Summary

Package: graphite
Version: 1.38.0
Command: C:\cygwin\bin\curl.exe -O http://155.52.207.165/BBS/3.13/bioc/src/contrib/graphite_1.38.0.tar.gz && rm -rf graphite.buildbin-libdir && mkdir graphite.buildbin-libdir && C:\Users\biocbuild\bbs-3.13-bioc\R\bin\R.exe CMD INSTALL --merge-multiarch --build --library=graphite.buildbin-libdir graphite_1.38.0.tar.gz && C:\Users\biocbuild\bbs-3.13-bioc\R\bin\R.exe CMD INSTALL graphite_1.38.0.zip && rm graphite_1.38.0.tar.gz graphite_1.38.0.zip
StartedAt: 2021-08-01 08:03:08 -0400 (Sun, 01 Aug 2021)
EndedAt: 2021-08-01 08:06:40 -0400 (Sun, 01 Aug 2021)
EllapsedTime: 212.3 seconds
RetCode: 0
Status:   OK  

Command output

##############################################################################
##############################################################################
###
### Running command:
###
###   C:\cygwin\bin\curl.exe -O http://155.52.207.165/BBS/3.13/bioc/src/contrib/graphite_1.38.0.tar.gz && rm -rf graphite.buildbin-libdir && mkdir graphite.buildbin-libdir && C:\Users\biocbuild\bbs-3.13-bioc\R\bin\R.exe CMD INSTALL --merge-multiarch --build --library=graphite.buildbin-libdir graphite_1.38.0.tar.gz && C:\Users\biocbuild\bbs-3.13-bioc\R\bin\R.exe CMD INSTALL graphite_1.38.0.zip && rm graphite_1.38.0.tar.gz graphite_1.38.0.zip
###
##############################################################################
##############################################################################


  % Total    % Received % Xferd  Average Speed   Time    Time     Time  Current
                                 Dload  Upload   Total   Spent    Left  Speed

  0     0    0     0    0     0      0      0 --:--:-- --:--:-- --:--:--     0
100  459k  100  459k    0     0  2635k      0 --:--:-- --:--:-- --:--:-- 2654k

install for i386

* installing *source* package 'graphite' ...
** using staged installation
** R
** inst
** byte-compile and prepare package for lazy loading
** help
*** installing help indices
  converting help for package 'graphite'
    finding HTML links ... done
    Pathway-class                           html  
    PathwayList-class                       html  
    Pathways-class                          html  
    as.list.PathwayList                     html  
    buildPathway                            html  
    convertIdentifiers                      html  
    cytoscapePlot                           html  
    finding level-2 HTML links ... done

    pathwayDatabases                        html  
    pathwayGraph                            html  
    pathways                                html  
    prepareSPIA                             html  
    runClipper                              html  
    runSPIA                                 html  
    runTopologyGSA                          html  
** building package indices
** installing vignettes
** testing if installed package can be loaded from temporary location
** testing if installed package can be loaded from final location
** testing if installed package keeps a record of temporary installation path

install for x64

* installing *source* package 'graphite' ...
** testing if installed package can be loaded
* MD5 sums
packaged installation of 'graphite' as graphite_1.38.0.zip
* DONE (graphite)
* installing to library 'C:/Users/biocbuild/bbs-3.13-bioc/R/library'
package 'graphite' successfully unpacked and MD5 sums checked