Back to Multiple platform build/check report for BioC 3.13
ABCDEF[G]HIJKLMNOPQRSTUVWXYZ

This page was generated on 2021-07-21 15:04:59 -0400 (Wed, 21 Jul 2021).

INSTALL results for graphite on nebbiolo1

To the developers/maintainers of the graphite package:
- Please allow up to 24 hours (and sometimes 48 hours) for your latest push to git@git.bioconductor.org:packages/graphite.git to
reflect on this report. See How and When does the builder pull? When will my changes propagate? here for more information.
- Make sure to use the following settings in order to reproduce any error or warning you see on this page.

raw results

Package 808/2041HostnameOS / ArchINSTALLBUILDCHECKBUILD BIN
graphite 1.38.0  (landing page)
Gabriele Sales
Snapshot Date: 2021-07-20 04:50:13 -0400 (Tue, 20 Jul 2021)
URL: https://git.bioconductor.org/packages/graphite
Branch: RELEASE_3_13
Last Commit: 7517460
Last Changed Date: 2021-05-19 11:49:41 -0400 (Wed, 19 May 2021)
nebbiolo1Linux (Ubuntu 20.04.2 LTS) / x86_64  OK    OK    OK  UNNEEDED, same version is already published
tokay2Windows Server 2012 R2 Standard / x64  OK    OK    ERROR    OK  
machv2macOS 10.14.6 Mojave / x86_64  OK    OK    OK    OK  UNNEEDED, same version is already published

Summary

Package: graphite
Version: 1.38.0
Command: /home/biocbuild/bbs-3.13-bioc/R/bin/R CMD INSTALL graphite
StartedAt: 2021-07-20 06:10:17 -0400 (Tue, 20 Jul 2021)
EndedAt: 2021-07-20 06:10:30 -0400 (Tue, 20 Jul 2021)
EllapsedTime: 12.6 seconds
RetCode: 0
Status:   OK  

Command output

##############################################################################
##############################################################################
###
### Running command:
###
###   /home/biocbuild/bbs-3.13-bioc/R/bin/R CMD INSTALL graphite
###
##############################################################################
##############################################################################


* installing to library ‘/home/biocbuild/bbs-3.13-bioc/R/library’
* installing *source* package ‘graphite’ ...
** using staged installation
** R
** inst
** byte-compile and prepare package for lazy loading
** help
*** installing help indices
** building package indices
** installing vignettes
** testing if installed package can be loaded from temporary location
** testing if installed package can be loaded from final location
** testing if installed package keeps a record of temporary installation path
* DONE (graphite)