Index of /checkResults/release/bioc-LATEST/graph/raw-results/machv2

[ICO]NameLast modifiedSizeDescription

[DIR]Parent Directory  -  
[TXT]buildbin-out.txt04-Dec-2021 03:05 2.5K 
[   ]buildbin-summary.dcf04-Dec-2021 03:05 518  
[TXT]buildsrc-out.txt04-Dec-2021 03:05 901  
[   ]buildsrc-summary.dcf04-Dec-2021 03:05 421  
[TXT]checksrc-out.txt04-Dec-2021 03:05 3.9K 
[   ]checksrc-summary.dcf04-Dec-2021 03:05 435  
[TXT]install-out.txt04-Dec-2021 03:05 1.6K 
[   ]install-summary.dcf04-Dec-2021 03:05 265