Index of /checkResults/release/bioc-LATEST/graph/raw-results

[ICO]NameLast modifiedSizeDescription

[DIR]Parent Directory  -  
[   ]info.dcf02-Dec-2021 07:18 293  
[DIR]machv2/02-Dec-2021 07:18 -  
[DIR]nebbiolo2/02-Dec-2021 07:17 -  
[DIR]tokay2/02-Dec-2021 07:17 -