Back to Multiple platform build/check report for BioC 3.13
ABCDEF[G]HIJKLMNOPQRSTUVWXYZ

This page was generated on 2021-07-21 15:04:59 -0400 (Wed, 21 Jul 2021).

BUILD results for graph on nebbiolo1

To the developers/maintainers of the graph package:
- Please allow up to 24 hours (and sometimes 48 hours) for your latest push to git@git.bioconductor.org:packages/graph.git to
reflect on this report. See How and When does the builder pull? When will my changes propagate? here for more information.
- Make sure to use the following settings in order to reproduce any error or warning you see on this page.

raw results

Package 805/2041HostnameOS / ArchINSTALLBUILDCHECKBUILD BIN
graph 1.70.0  (landing page)
Bioconductor Package Maintainer
Snapshot Date: 2021-07-20 04:50:13 -0400 (Tue, 20 Jul 2021)
URL: https://git.bioconductor.org/packages/graph
Branch: RELEASE_3_13
Last Commit: 1c28350
Last Changed Date: 2021-05-19 11:33:03 -0400 (Wed, 19 May 2021)
nebbiolo1Linux (Ubuntu 20.04.2 LTS) / x86_64  OK    OK    OK  UNNEEDED, same version is already published
tokay2Windows Server 2012 R2 Standard / x64  OK    OK    OK    OK  UNNEEDED, same version is already published
machv2macOS 10.14.6 Mojave / x86_64  OK    OK    OK    OK  UNNEEDED, same version is already published

Summary

Package: graph
Version: 1.70.0
Command: /home/biocbuild/bbs-3.13-bioc/R/bin/R CMD build --keep-empty-dirs --no-resave-data graph
StartedAt: 2021-07-20 07:22:22 -0400 (Tue, 20 Jul 2021)
EndedAt: 2021-07-20 07:22:50 -0400 (Tue, 20 Jul 2021)
EllapsedTime: 28.4 seconds
RetCode: 0
Status:   OK  
PackageFile: graph_1.70.0.tar.gz
PackageFileSize: 907.8 KiB

Command output

##############################################################################
##############################################################################
###
### Running command:
###
###   /home/biocbuild/bbs-3.13-bioc/R/bin/R CMD build --keep-empty-dirs --no-resave-data graph
###
##############################################################################
##############################################################################


* checking for file ‘graph/DESCRIPTION’ ... OK
* preparing ‘graph’:
* checking DESCRIPTION meta-information ... OK
* cleaning src
* installing the package to build vignettes
* creating vignettes ... OK
* cleaning src
* checking for LF line-endings in source and make files and shell scripts
* checking for empty or unneeded directories
* looking to see if a ‘data/datalist’ file should be added
* building ‘graph_1.70.0.tar.gz’