Back to Multiple platform build/check report for BioC 3.13
ABCDEF[G]HIJKLMNOPQRSTUVWXYZ

This page was generated on 2021-09-24 15:05:23 -0400 (Fri, 24 Sep 2021).

All results for package graph

To the developers/maintainers of the graph package:
- Please allow up to 24 hours (and sometimes 48 hours) for your latest push to git@git.bioconductor.org:packages/graph.git to
reflect on this report. See How and When does the builder pull? When will my changes propagate? here for more information.
- Make sure to use the following settings in order to reproduce any error or warning you see on this page.

raw results

Package 805/2041HostnameOS / ArchINSTALLBUILDCHECKBUILD BIN
graph 1.70.0  (landing page)
Bioconductor Package Maintainer
Snapshot Date: 2021-09-23 04:50:12 -0400 (Thu, 23 Sep 2021)
git_url: https://git.bioconductor.org/packages/graph
git_branch: RELEASE_3_13
git_last_commit: 1c28350
git_last_commit_date: 2021-05-19 11:33:03 -0400 (Wed, 19 May 2021)
nebbiolo1Linux (Ubuntu 20.04.2 LTS) / x86_64  OK    OK    OK  UNNEEDED, same version is already published
tokay2Windows Server 2012 R2 Standard / x64  OK    OK    OK    OK  UNNEEDED, same version is already published
machv2macOS 10.14.6 Mojave / x86_64  OK    OK    OK    OK  UNNEEDED, same version is already published

Results for Bioconductor software packages that depend directly on package graph

QUICK STATSOS / ArchINSTALLBUILDCHECKBUILD BIN
nebbiolo1Linux (Ubuntu 20.04.2 LTS) / x86_64
0293
0590
001872
tokay2Windows Server 2012 R2 Standard / x64
0291
0687
031767
0087
machv2macOS 10.14.6 Mojave / x86_64
0290
0785
001867
0085
Package 1/95HostnameOS / ArchINSTALLBUILDCHECKBUILD BIN
alpine 1.18.0  (landing page)
Michael Love
git_last_commit: 06257d2
git_last_commit_date: 2021-05-19 12:22:33 -0400
nebbiolo1Linux (Ubuntu 20.04.2 LTS) / x86_64  OK    OK    OK  UNNEEDED, same version is already published
tokay2Windows Server 2012 R2 Standard / x64  OK    OK    OK    OK  UNNEEDED, same version is already published
machv2macOS 10.14.6 Mojave / x86_64  OK    OK    OK    OK  UNNEEDED, same version is already published
Package 2/95HostnameOS / ArchINSTALLBUILDCHECKBUILD BIN
AnnotationHubData 1.22.0  (landing page)
Bioconductor Package Maintainer
git_last_commit: c2a76fb
git_last_commit_date: 2021-05-19 12:15:21 -0400
nebbiolo1Linux (Ubuntu 20.04.2 LTS) / x86_64  OK    OK    WARNINGS  UNNEEDED, same version is already published
tokay2Windows Server 2012 R2 Standard / x64  OK    OK    WARNINGS    OK  UNNEEDED, same version is already published
machv2macOS 10.14.6 Mojave / x86_64  OK    OK    WARNINGS    OK  UNNEEDED, same version is already published
Package 3/95HostnameOS / ArchINSTALLBUILDCHECKBUILD BIN
apComplex 2.58.0  (landing page)
Denise Scholtens
git_last_commit: 9d396a7
git_last_commit_date: 2021-05-19 11:35:18 -0400
nebbiolo1Linux (Ubuntu 20.04.2 LTS) / x86_64  OK    OK    OK  UNNEEDED, same version is already published
tokay2Windows Server 2012 R2 Standard / x64  OK    OK    OK    OK  UNNEEDED, same version is already published
machv2macOS 10.14.6 Mojave / x86_64  OK    OK    OK    OK  UNNEEDED, same version is already published
Package 4/95HostnameOS / ArchINSTALLBUILDCHECKBUILD BIN
BgeeDB 2.18.1  (landing page)
Julien Wollbrett , Julien Roux , Andrea Komljenovic , Frederic Bastian
git_last_commit: 6e3f28d
git_last_commit_date: 2021-06-15 22:49:49 -0400
nebbiolo1Linux (Ubuntu 20.04.2 LTS) / x86_64  OK    OK    OK  UNNEEDED, same version is already published
tokay2Windows Server 2012 R2 Standard / x64  OK    OK    ERROR    OK  
machv2macOS 10.14.6 Mojave / x86_64  OK    OK    OK    OK  UNNEEDED, same version is already published
Package 5/95HostnameOS / ArchINSTALLBUILDCHECKBUILD BIN
BiocCheck 1.28.0  (landing page)
Bioconductor Package Maintainer
git_last_commit: 5fcd8f9
git_last_commit_date: 2021-05-19 12:04:16 -0400
nebbiolo1Linux (Ubuntu 20.04.2 LTS) / x86_64  OK    OK    OK  UNNEEDED, same version is already published
tokay2Windows Server 2012 R2 Standard / x64  OK    OK    OK    OK  UNNEEDED, same version is already published
machv2macOS 10.14.6 Mojave / x86_64  OK    OK    OK    OK  UNNEEDED, same version is already published
Package 6/95HostnameOS / ArchINSTALLBUILDCHECKBUILD BIN
biocGraph 1.54.0  (landing page)
Florian Hahne
git_last_commit: f0f25d4
git_last_commit_date: 2021-05-19 11:39:20 -0400
nebbiolo1Linux (Ubuntu 20.04.2 LTS) / x86_64  OK    OK    OK  UNNEEDED, same version is already published
tokay2Windows Server 2012 R2 Standard / x64  OK    OK    OK    OK  UNNEEDED, same version is already published
machv2macOS 10.14.6 Mojave / x86_64  OK    OK    OK    OK  UNNEEDED, same version is already published
Package 7/95HostnameOS / ArchINSTALLBUILDCHECKBUILD BIN
BiocOncoTK 1.12.1  (landing page)
VJ Carey
git_last_commit: 5b4a389
git_last_commit_date: 2021-06-28 15:44:05 -0400
nebbiolo1Linux (Ubuntu 20.04.2 LTS) / x86_64  OK    OK    OK  UNNEEDED, same version is already published
tokay2Windows Server 2012 R2 Standard / x64  OK    OK    OK    OK  UNNEEDED, same version is already published
machv2macOS 10.14.6 Mojave / x86_64  OK    OK    OK    OK  UNNEEDED, same version is already published
Package 8/95HostnameOS / ArchINSTALLBUILDCHECKBUILD BIN
BiocPkgTools 1.10.2  (landing page)
Sean Davis
git_last_commit: eed4730
git_last_commit_date: 2021-09-16 13:19:17 -0400
nebbiolo1Linux (Ubuntu 20.04.2 LTS) / x86_64  OK    OK    OK  UNNEEDED, same version is already published
tokay2Windows Server 2012 R2 Standard / x64  OK    OK    OK    OK  UNNEEDED, same version is already published
machv2macOS 10.14.6 Mojave / x86_64  OK    OK    OK    OK  UNNEEDED, same version is already published
Package 9/95HostnameOS / ArchINSTALLBUILDCHECKBUILD BIN
biocViews 1.60.0  (landing page)
Bioconductor Package Maintainer
git_last_commit: b861d8d
git_last_commit_date: 2021-05-19 11:36:22 -0400
nebbiolo1Linux (Ubuntu 20.04.2 LTS) / x86_64  OK    OK    OK  UNNEEDED, same version is already published
tokay2Windows Server 2012 R2 Standard / x64  OK    OK    OK    OK  UNNEEDED, same version is already published
machv2macOS 10.14.6 Mojave / x86_64  OK    OK    OK    OK  UNNEEDED, same version is already published
Package 10/95HostnameOS / ArchINSTALLBUILDCHECKBUILD BIN
BioMVCClass 1.60.0  (landing page)
Elizabeth Whalen
git_last_commit: b626fb8
git_last_commit_date: 2021-05-19 11:37:57 -0400
nebbiolo1Linux (Ubuntu 20.04.2 LTS) / x86_64  OK    OK    OK  UNNEEDED, same version is already published
tokay2Windows Server 2012 R2 Standard / x64  OK    OK    OK    OK  UNNEEDED, same version is already published
machv2macOS 10.14.6 Mojave / x86_64  OK    OK    OK    OK  UNNEEDED, same version is already published
Package 11/95HostnameOS / ArchINSTALLBUILDCHECKBUILD BIN
BioNet 1.52.0  (landing page)
Marcus Dittrich
git_last_commit: 5045304
git_last_commit_date: 2021-05-19 11:46:01 -0400
nebbiolo1Linux (Ubuntu 20.04.2 LTS) / x86_64  OK    OK    OK  UNNEEDED, same version is already published
tokay2Windows Server 2012 R2 Standard / x64  OK    OK    OK    OK  UNNEEDED, same version is already published
machv2macOS 10.14.6 Mojave / x86_64  OK    OK    OK    OK  UNNEEDED, same version is already published
Package 12/95HostnameOS / ArchINSTALLBUILDCHECKBUILD BIN
BLMA 1.16.0  (landing page)
Hung Nguyen
git_last_commit: 9b4e0e3
git_last_commit_date: 2021-05-19 12:27:28 -0400
nebbiolo1Linux (Ubuntu 20.04.2 LTS) / x86_64  OK    OK    OK  UNNEEDED, same version is already published
tokay2Windows Server 2012 R2 Standard / x64  OK    OK    OK    OK  UNNEEDED, same version is already published
machv2macOS 10.14.6 Mojave / x86_64  OK    OK    OK    OK  UNNEEDED, same version is already published
Package 13/95HostnameOS / ArchINSTALLBUILDCHECKBUILD BIN
bnem 1.0.0  (landing page)
Martin Pirkl
git_last_commit: 3109efd
git_last_commit_date: 2021-05-19 12:58:21 -0400
nebbiolo1Linux (Ubuntu 20.04.2 LTS) / x86_64  OK    OK    OK  UNNEEDED, same version is already published
tokay2Windows Server 2012 R2 Standard / x64  OK    OK    OK    OK  UNNEEDED, same version is already published
machv2macOS 10.14.6 Mojave / x86_64  OK    OK    OK    OK  UNNEEDED, same version is already published
Package 14/95HostnameOS / ArchINSTALLBUILDCHECKBUILD BIN
CAMERA 1.48.0  (landing page)
Steffen Neumann
git_last_commit: 5ad3135
git_last_commit_date: 2021-05-19 11:42:44 -0400
nebbiolo1Linux (Ubuntu 20.04.2 LTS) / x86_64  OK    OK    OK  UNNEEDED, same version is already published
tokay2Windows Server 2012 R2 Standard / x64  OK    OK    OK    OK  UNNEEDED, same version is already published
machv2macOS 10.14.6 Mojave / x86_64  OK    OK    OK    OK  UNNEEDED, same version is already published
Package 15/95HostnameOS / ArchINSTALLBUILDCHECKBUILD BIN
Category 2.58.0  (landing page)
Bioconductor Package Maintainer
git_last_commit: 5a966e0
git_last_commit_date: 2021-05-19 11:35:55 -0400
nebbiolo1Linux (Ubuntu 20.04.2 LTS) / x86_64  OK    OK    OK  UNNEEDED, same version is already published
tokay2Windows Server 2012 R2 Standard / x64  OK    OK    OK    OK  UNNEEDED, same version is already published
machv2macOS 10.14.6 Mojave / x86_64  OK    OK    OK    OK  UNNEEDED, same version is already published
Package 16/95HostnameOS / ArchINSTALLBUILDCHECKBUILD BIN
categoryCompare 1.36.0  (landing page)
Robert M. Flight
git_last_commit: 325b381
git_last_commit_date: 2021-05-19 11:52:22 -0400
nebbiolo1Linux (Ubuntu 20.04.2 LTS) / x86_64  OK    OK    OK  UNNEEDED, same version is already published
tokay2Windows Server 2012 R2 Standard / x64  OK    OK    OK    OK  UNNEEDED, same version is already published
machv2macOS 10.14.6 Mojave / x86_64  OK    OK    OK    OK  UNNEEDED, same version is already published
Package 17/95HostnameOS / ArchINSTALLBUILDCHECKBUILD BIN
CellNOptR 1.38.0  (landing page)
A.Gabor
git_last_commit: 8e211e0
git_last_commit_date: 2021-05-19 11:50:40 -0400
nebbiolo1Linux (Ubuntu 20.04.2 LTS) / x86_64  OK    OK    WARNINGS  UNNEEDED, same version is already published
tokay2Windows Server 2012 R2 Standard / x64  OK    OK    WARNINGS    OK  UNNEEDED, same version is already published
machv2macOS 10.14.6 Mojave / x86_64  OK    OK    WARNINGS    OK  UNNEEDED, same version is already published
Package 18/95HostnameOS / ArchINSTALLBUILDCHECKBUILD BIN
chimeraviz 1.18.0  (landing page)
Stian Lågstad
git_last_commit: bc2b277
git_last_commit_date: 2021-05-19 12:24:46 -0400
nebbiolo1Linux (Ubuntu 20.04.2 LTS) / x86_64  OK    OK    OK  UNNEEDED, same version is already published
tokay2Windows Server 2012 R2 Standard / x64  OK    ERROR  skippedskipped
machv2macOS 10.14.6 Mojave / x86_64  OK    ERROR  skippedskipped
Package 19/95HostnameOS / ArchINSTALLBUILDCHECKBUILD BIN
ChIPpeakAnno 3.26.4  (landing page)
Jianhong Ou
git_last_commit: 5104b7d
git_last_commit_date: 2021-09-09 15:41:30 -0400
nebbiolo1Linux (Ubuntu 20.04.2 LTS) / x86_64  OK    OK    OK  UNNEEDED, same version is already published
tokay2Windows Server 2012 R2 Standard / x64  OK    ERROR  skippedskipped
machv2macOS 10.14.6 Mojave / x86_64  OK    ERROR  skippedskipped
Package 20/95HostnameOS / ArchINSTALLBUILDCHECKBUILD BIN
CHRONOS 1.20.0  (landing page)
Panos Balomenos
git_last_commit: 696cc6f
git_last_commit_date: 2021-05-19 12:20:19 -0400
nebbiolo1Linux (Ubuntu 20.04.2 LTS) / x86_64  OK    OK    OK  UNNEEDED, same version is already published
tokay2Windows Server 2012 R2 Standard / x64  OK    OK    OK    OK  UNNEEDED, same version is already published
machv2macOS 10.14.6 Mojave / x86_64  OK    OK    OK    OK  UNNEEDED, same version is already published
Package 21/95HostnameOS / ArchINSTALLBUILDCHECKBUILD BIN
clipper 1.32.0  (landing page)
Paolo Martini
git_last_commit: 2faaf4e
git_last_commit_date: 2021-05-19 11:57:18 -0400
nebbiolo1Linux (Ubuntu 20.04.2 LTS) / x86_64  OK    OK    OK  UNNEEDED, same version is already published
tokay2Windows Server 2012 R2 Standard / x64  OK    OK    OK    OK  UNNEEDED, same version is already published
machv2macOS 10.14.6 Mojave / x86_64  OK    OK    OK    OK  UNNEEDED, same version is already published
Package 22/95HostnameOS / ArchINSTALLBUILDCHECKBUILD BIN
CNORfeeder 1.32.0  (landing page)
E.Gjerga
git_last_commit: 297743c
git_last_commit_date: 2021-05-19 11:58:14 -0400
nebbiolo1Linux (Ubuntu 20.04.2 LTS) / x86_64  OK    OK    OK  UNNEEDED, same version is already published
tokay2Windows Server 2012 R2 Standard / x64  OK    OK    OK    OK  UNNEEDED, same version is already published
machv2macOS 10.14.6 Mojave / x86_64  OK    OK    OK    OK  UNNEEDED, same version is already published
Package 23/95HostnameOS / ArchINSTALLBUILDCHECKBUILD BIN
CytoML 2.4.0  (landing page)
Mike Jiang
git_last_commit: 6e64d69
git_last_commit_date: 2021-05-19 12:21:29 -0400
nebbiolo1Linux (Ubuntu 20.04.2 LTS) / x86_64  OK    OK    WARNINGS  UNNEEDED, same version is already published
tokay2Windows Server 2012 R2 Standard / x64  OK    OK    WARNINGS    OK  UNNEEDED, same version is already published
machv2macOS 10.14.6 Mojave / x86_64  OK    OK    WARNINGS    OK  UNNEEDED, same version is already published
Package 24/95HostnameOS / ArchINSTALLBUILDCHECKBUILD BIN
DAPAR 1.24.8  (landing page)
Samuel Wieczorek
git_last_commit: 9faf177
git_last_commit_date: 2021-09-01 02:34:05 -0400
nebbiolo1Linux (Ubuntu 20.04.2 LTS) / x86_64  OK    OK    OK  UNNEEDED, same version is already published
tokay2Windows Server 2012 R2 Standard / x64  OK    OK    OK    OK  UNNEEDED, same version is already published
machv2macOS 10.14.6 Mojave / x86_64  OK    OK    OK    OK  UNNEEDED, same version is already published
Package 25/95HostnameOS / ArchINSTALLBUILDCHECKBUILD BIN
dce 1.0.0  (landing page)
Kim Philipp Jablonski
git_last_commit: a66589d
git_last_commit_date: 2021-05-19 13:00:18 -0400
nebbiolo1Linux (Ubuntu 20.04.2 LTS) / x86_64  OK    OK    OK  UNNEEDED, same version is already published
tokay2Windows Server 2012 R2 Standard / x64  OK    OK    OK    OK  UNNEEDED, same version is already published
machv2macOS 10.14.6 Mojave / x86_64  OK    OK    OK    OK  UNNEEDED, same version is already published
Package 26/95HostnameOS / ArchINSTALLBUILDCHECKBUILD BIN
DEGraph 1.44.0  (landing page)
Laurent Jacob
git_last_commit: 49e7998
git_last_commit_date: 2021-05-19 11:46:48 -0400
nebbiolo1Linux (Ubuntu 20.04.2 LTS) / x86_64  OK    OK    OK  UNNEEDED, same version is already published
tokay2Windows Server 2012 R2 Standard / x64... NOT SUPPORTED ...
machv2macOS 10.14.6 Mojave / x86_64... NOT SUPPORTED ...
Package 27/95HostnameOS / ArchINSTALLBUILDCHECKBUILD BIN
DEsubs 1.18.0  (landing page)
Aristidis G. Vrahatis , Panos Balomenos
git_last_commit: 9c8fa85
git_last_commit_date: 2021-05-19 12:23:24 -0400
nebbiolo1Linux (Ubuntu 20.04.2 LTS) / x86_64  OK    OK    OK  UNNEEDED, same version is already published
tokay2Windows Server 2012 R2 Standard / x64  OK    OK    OK    OK  UNNEEDED, same version is already published
machv2macOS 10.14.6 Mojave / x86_64  OK    OK    OK    OK  UNNEEDED, same version is already published
Package 28/95HostnameOS / ArchINSTALLBUILDCHECKBUILD BIN
EnrichmentBrowser 2.22.2  (landing page)
Ludwig Geistlinger
git_last_commit: e3ba414
git_last_commit_date: 2021-07-21 08:44:59 -0400
nebbiolo1Linux (Ubuntu 20.04.2 LTS) / x86_64  OK    OK    OK  UNNEEDED, same version is already published
tokay2Windows Server 2012 R2 Standard / x64  OK    OK    OK    OK  UNNEEDED, same version is already published
machv2macOS 10.14.6 Mojave / x86_64  OK    OK    OK    OK  UNNEEDED, same version is already published
Package 29/95HostnameOS / ArchINSTALLBUILDCHECKBUILD BIN
epiNEM 1.16.0  (landing page)
Martin Pirkl
git_last_commit: 2383f66
git_last_commit_date: 2021-05-19 12:26:21 -0400
nebbiolo1Linux (Ubuntu 20.04.2 LTS) / x86_64  OK    OK    OK  UNNEEDED, same version is already published
tokay2Windows Server 2012 R2 Standard / x64  OK    OK    OK    OK  UNNEEDED, same version is already published
machv2macOS 10.14.6 Mojave / x86_64  OK    OK    OK    OK  UNNEEDED, same version is already published
Package 30/95HostnameOS / ArchINSTALLBUILDCHECKBUILD BIN
EventPointer 3.0.0  (landing page)
Juan A. Ferrer-Bonsoms
git_last_commit: e4f2123
git_last_commit_date: 2021-05-19 12:26:09 -0400
nebbiolo1Linux (Ubuntu 20.04.2 LTS) / x86_64  OK    OK    OK  UNNEEDED, same version is already published
tokay2Windows Server 2012 R2 Standard / x64  OK    OK    OK    OK  UNNEEDED, same version is already published
machv2macOS 10.14.6 Mojave / x86_64  OK    OK    OK    OK  UNNEEDED, same version is already published
Package 31/95HostnameOS / ArchINSTALLBUILDCHECKBUILD BIN
fgga 1.0.0  (landing page)
Spetale Flavio
git_last_commit: aefd8a8
git_last_commit_date: 2021-05-19 13:03:00 -0400
nebbiolo1Linux (Ubuntu 20.04.2 LTS) / x86_64  OK    OK    OK  UNNEEDED, same version is already published
tokay2Windows Server 2012 R2 Standard / x64  OK    OK    OK    OK  UNNEEDED, same version is already published
machv2macOS 10.14.6 Mojave / x86_64  OK    OK    WARNINGS    OK  UNNEEDED, same version is already published
Package 32/95HostnameOS / ArchINSTALLBUILDCHECKBUILD BIN
flowCL 1.30.0  (landing page)
Justin Meskas
git_last_commit: f0a1525
git_last_commit_date: 2021-05-19 12:04:19 -0400
nebbiolo1Linux (Ubuntu 20.04.2 LTS) / x86_64  OK    OK    OK  UNNEEDED, same version is already published
tokay2Windows Server 2012 R2 Standard / x64  OK    OK    OK    OK  UNNEEDED, same version is already published
machv2macOS 10.14.6 Mojave / x86_64  OK    OK    OK    OK  UNNEEDED, same version is already published
Package 33/95HostnameOS / ArchINSTALLBUILDCHECKBUILD BIN
flowClust 3.30.0  (landing page)
Greg Finak , Mike Jiang
git_last_commit: c52585b
git_last_commit_date: 2021-05-19 11:40:35 -0400
nebbiolo1Linux (Ubuntu 20.04.2 LTS) / x86_64  OK    OK    OK  UNNEEDED, same version is already published
tokay2Windows Server 2012 R2 Standard / x64  OK    OK    OK    OK  UNNEEDED, same version is already published
machv2macOS 10.14.6 Mojave / x86_64  OK    OK    WARNINGS    OK  UNNEEDED, same version is already published
Package 34/95HostnameOS / ArchINSTALLBUILDCHECKBUILD BIN
flowMerge 2.40.0  (landing page)
Greg Finak
git_last_commit: beb6e37
git_last_commit_date: 2021-05-19 11:43:25 -0400
nebbiolo1Linux (Ubuntu 20.04.2 LTS) / x86_64  OK    OK    OK  UNNEEDED, same version is already published
tokay2Windows Server 2012 R2 Standard / x64  OK    OK    OK    OK  UNNEEDED, same version is already published
machv2macOS 10.14.6 Mojave / x86_64  OK    OK    OK    OK  UNNEEDED, same version is already published
Package 35/95HostnameOS / ArchINSTALLBUILDCHECKBUILD BIN
flowUtils 1.56.0  (landing page)
Josef Spidlen
git_last_commit: ad93cd2
git_last_commit_date: 2021-05-19 11:38:23 -0400
nebbiolo1Linux (Ubuntu 20.04.2 LTS) / x86_64  OK    OK    WARNINGS  UNNEEDED, same version is already published
tokay2Windows Server 2012 R2 Standard / x64  OK    OK    WARNINGS    OK  UNNEEDED, same version is already published
machv2macOS 10.14.6 Mojave / x86_64  OK    OK    WARNINGS    OK  UNNEEDED, same version is already published
Package 36/95HostnameOS / ArchINSTALLBUILDCHECKBUILD BIN
flowWorkspace 4.4.0  (landing page)
Greg Finak , Mike Jiang
git_last_commit: 8b26faf
git_last_commit_date: 2021-05-19 11:48:41 -0400
nebbiolo1Linux (Ubuntu 20.04.2 LTS) / x86_64  OK    OK    WARNINGS  UNNEEDED, same version is already published
tokay2Windows Server 2012 R2 Standard / x64  OK    OK    WARNINGS    OK  UNNEEDED, same version is already published
machv2macOS 10.14.6 Mojave / x86_64  OK    OK    WARNINGS    OK  UNNEEDED, same version is already published
Package 37/95HostnameOS / ArchINSTALLBUILDCHECKBUILD BIN
gage 2.42.0  (landing page)
Weijun Luo
git_last_commit: 8b222d6
git_last_commit_date: 2021-05-19 11:46:29 -0400
nebbiolo1Linux (Ubuntu 20.04.2 LTS) / x86_64  OK    OK    WARNINGS  UNNEEDED, same version is already published
tokay2Windows Server 2012 R2 Standard / x64  OK    OK    WARNINGS    OK  UNNEEDED, same version is already published
machv2macOS 10.14.6 Mojave / x86_64  OK    OK    WARNINGS    OK  UNNEEDED, same version is already published
Package 38/95HostnameOS / ArchINSTALLBUILDCHECKBUILD BIN
gaggle 1.60.0  (landing page)
Christopher Bare
git_last_commit: 9d24cfd
git_last_commit_date: 2021-05-19 11:37:37 -0400
nebbiolo1Linux (Ubuntu 20.04.2 LTS) / x86_64  OK    OK    OK  UNNEEDED, same version is already published
tokay2Windows Server 2012 R2 Standard / x64  OK    OK    OK    OK  UNNEEDED, same version is already published
machv2macOS 10.14.6 Mojave / x86_64  OK    OK    OK    OK  UNNEEDED, same version is already published
Package 39/95HostnameOS / ArchINSTALLBUILDCHECKBUILD BIN
GAPGOM 1.8.0  (landing page)
Rezvan Ehsani
git_last_commit: e8e35ed
git_last_commit_date: 2021-05-19 12:40:41 -0400
nebbiolo1Linux (Ubuntu 20.04.2 LTS) / x86_64  OK    OK    OK  UNNEEDED, same version is already published
tokay2Windows Server 2012 R2 Standard / x64  OK    OK    OK    OK  UNNEEDED, same version is already published
machv2macOS 10.14.6 Mojave / x86_64  OK    OK    OK    OK  UNNEEDED, same version is already published
Package 40/95HostnameOS / ArchINSTALLBUILDCHECKBUILD BIN
GeneNetworkBuilder 1.34.0  (landing page)
Jianhong Ou
git_last_commit: 2e9cc20
git_last_commit_date: 2021-05-19 11:53:28 -0400
nebbiolo1Linux (Ubuntu 20.04.2 LTS) / x86_64  OK    OK    OK  UNNEEDED, same version is already published
tokay2Windows Server 2012 R2 Standard / x64  OK    OK    OK    OK  UNNEEDED, same version is already published
machv2macOS 10.14.6 Mojave / x86_64  OK    OK    OK    OK  UNNEEDED, same version is already published
Package 41/95HostnameOS / ArchINSTALLBUILDCHECKBUILD BIN
GOSim 1.30.0  (landing page)
Holger Froehlich
git_last_commit: cd2c2c0
git_last_commit_date: 2021-05-19 12:00:43 -0400
nebbiolo1Linux (Ubuntu 20.04.2 LTS) / x86_64  OK    OK    OK  UNNEEDED, same version is already published
tokay2Windows Server 2012 R2 Standard / x64  OK    OK    OK    OK  UNNEEDED, same version is already published
machv2macOS 10.14.6 Mojave / x86_64  OK    OK    OK    OK  UNNEEDED, same version is already published
Package 42/95HostnameOS / ArchINSTALLBUILDCHECKBUILD BIN
GOstats 2.58.0  (landing page)
Bioconductor Package Maintainer
git_last_commit: d3406a6
git_last_commit_date: 2021-05-19 11:34:28 -0400
nebbiolo1Linux (Ubuntu 20.04.2 LTS) / x86_64  OK    OK    OK  UNNEEDED, same version is already published
tokay2Windows Server 2012 R2 Standard / x64  OK    OK    OK    OK  UNNEEDED, same version is already published
machv2macOS 10.14.6 Mojave / x86_64  OK    OK    OK    OK  UNNEEDED, same version is already published
Package 43/95HostnameOS / ArchINSTALLBUILDCHECKBUILD BIN
GraphAT 1.64.0  (landing page)
Thomas LaFramboise
git_last_commit: cf236c4
git_last_commit_date: 2021-05-19 11:34:36 -0400
nebbiolo1Linux (Ubuntu 20.04.2 LTS) / x86_64  OK    OK    OK  UNNEEDED, same version is already published
tokay2Windows Server 2012 R2 Standard / x64  OK    OK    OK    OK  UNNEEDED, same version is already published
machv2macOS 10.14.6 Mojave / x86_64  OK    OK    OK    OK  UNNEEDED, same version is already published
Package 44/95HostnameOS / ArchINSTALLBUILDCHECKBUILD BIN
graphite 1.38.0  (landing page)
Gabriele Sales
git_last_commit: 7517460
git_last_commit_date: 2021-05-19 11:49:41 -0400
nebbiolo1Linux (Ubuntu 20.04.2 LTS) / x86_64  OK    OK    OK  UNNEEDED, same version is already published
tokay2Windows Server 2012 R2 Standard / x64  OK    OK    OK    OK  UNNEEDED, same version is already published
machv2macOS 10.14.6 Mojave / x86_64  OK    OK    OK    OK  UNNEEDED, same version is already published
Package 45/95HostnameOS / ArchINSTALLBUILDCHECKBUILD BIN
GRridge 1.16.0  (landing page)
Mark A. van de Wiel
git_last_commit: 45dab71
git_last_commit_date: 2021-05-19 12:24:38 -0400
nebbiolo1Linux (Ubuntu 20.04.2 LTS) / x86_64  OK    OK    WARNINGS  UNNEEDED, same version is already published
tokay2Windows Server 2012 R2 Standard / x64  OK    OK    WARNINGS    OK  UNNEEDED, same version is already published
machv2macOS 10.14.6 Mojave / x86_64  OK    OK    WARNINGS    OK  UNNEEDED, same version is already published
Package 46/95HostnameOS / ArchINSTALLBUILDCHECKBUILD BIN
GSEABase 1.54.0  (landing page)
Bioconductor Package Maintainer
git_last_commit: 5b59f70
git_last_commit_date: 2021-05-19 11:39:15 -0400
nebbiolo1Linux (Ubuntu 20.04.2 LTS) / x86_64  OK    OK    OK  UNNEEDED, same version is already published
tokay2Windows Server 2012 R2 Standard / x64  OK    OK    OK    OK  UNNEEDED, same version is already published
machv2macOS 10.14.6 Mojave / x86_64  OK    OK    OK    OK  UNNEEDED, same version is already published
Package 47/95HostnameOS / ArchINSTALLBUILDCHECKBUILD BIN
hyperdraw 1.44.0  (landing page)
Paul Murrell
git_last_commit: 35eda74
git_last_commit_date: 2021-05-19 11:44:38 -0400
nebbiolo1Linux (Ubuntu 20.04.2 LTS) / x86_64  OK    OK    OK  UNNEEDED, same version is already published
tokay2Windows Server 2012 R2 Standard / x64  OK    OK    OK    OK  UNNEEDED, same version is already published
machv2macOS 10.14.6 Mojave / x86_64  OK    OK    OK    OK  UNNEEDED, same version is already published
Package 48/95HostnameOS / ArchINSTALLBUILDCHECKBUILD BIN
hypergraph 1.64.0  (landing page)
Bioconductor Package Maintainer
git_last_commit: d4e5e2f
git_last_commit_date: 2021-05-19 11:35:52 -0400
nebbiolo1Linux (Ubuntu 20.04.2 LTS) / x86_64  OK    OK    OK  UNNEEDED, same version is already published
tokay2Windows Server 2012 R2 Standard / x64  OK    OK    OK    OK  UNNEEDED, same version is already published
machv2macOS 10.14.6 Mojave / x86_64  OK    OK    OK    OK  UNNEEDED, same version is already published
Package 49/95HostnameOS / ArchINSTALLBUILDCHECKBUILD BIN
KEGGgraph 1.52.0  (landing page)
Jitao David Zhang
git_last_commit: 295f4c0
git_last_commit_date: 2021-05-19 11:42:28 -0400
nebbiolo1Linux (Ubuntu 20.04.2 LTS) / x86_64  OK    OK    OK  UNNEEDED, same version is already published
tokay2Windows Server 2012 R2 Standard / x64  OK    OK    OK    OK  UNNEEDED, same version is already published
machv2macOS 10.14.6 Mojave / x86_64  OK    OK    OK    OK  UNNEEDED, same version is already published
Package 50/95HostnameOS / ArchINSTALLBUILDCHECKBUILD BIN
keggorthology 2.44.0  (landing page)
VJ Carey
git_last_commit: 479043c
git_last_commit_date: 2021-05-19 11:39:23 -0400
nebbiolo1Linux (Ubuntu 20.04.2 LTS) / x86_64  OK    OK    OK  UNNEEDED, same version is already published
tokay2Windows Server 2012 R2 Standard / x64  OK    OK    OK    OK  UNNEEDED, same version is already published
machv2macOS 10.14.6 Mojave / x86_64  OK    OK    OK    OK  UNNEEDED, same version is already published
Package 51/95HostnameOS / ArchINSTALLBUILDCHECKBUILD BIN
maigesPack 1.56.0  (landing page)
Gustavo H. Esteves
git_last_commit: 3f54ee8
git_last_commit_date: 2021-05-19 11:39:47 -0400
nebbiolo1Linux (Ubuntu 20.04.2 LTS) / x86_64  OK    OK    OK  UNNEEDED, same version is already published
tokay2Windows Server 2012 R2 Standard / x64  OK    OK    OK    OK  UNNEEDED, same version is already published
machv2macOS 10.14.6 Mojave / x86_64  OK    OK    OK    OK  UNNEEDED, same version is already published
Package 52/95HostnameOS / ArchINSTALLBUILDCHECKBUILD BIN
MIGSA 1.16.0  (landing page)
Juan C. Rodriguez
git_last_commit: 021bffb
git_last_commit_date: 2021-05-19 12:26:14 -0400
nebbiolo1Linux (Ubuntu 20.04.2 LTS) / x86_64  OK    OK    OK  UNNEEDED, same version is already published
tokay2Windows Server 2012 R2 Standard / x64  OK    OK    ERROR    OK  
machv2macOS 10.14.6 Mojave / x86_64  OK    OK    OK    OK  UNNEEDED, same version is already published
Package 53/95HostnameOS / ArchINSTALLBUILDCHECKBUILD BIN
MineICA 1.32.0  (landing page)
Anne Biton
git_last_commit: def84c7
git_last_commit_date: 2021-05-19 11:57:33 -0400
nebbiolo1Linux (Ubuntu 20.04.2 LTS) / x86_64  OK    OK    WARNINGS  UNNEEDED, same version is already published
tokay2Windows Server 2012 R2 Standard / x64  OK    OK    WARNINGS    OK  UNNEEDED, same version is already published
machv2macOS 10.14.6 Mojave / x86_64  OK    OK    WARNINGS    OK  UNNEEDED, same version is already published
Package 54/95HostnameOS / ArchINSTALLBUILDCHECKBUILD BIN
mirIntegrator 1.22.0  (landing page)
Diana Diaz
git_last_commit: 7ce3bbd
git_last_commit_date: 2021-05-19 12:14:07 -0400
nebbiolo1Linux (Ubuntu 20.04.2 LTS) / x86_64  OK    OK    OK  UNNEEDED, same version is already published
tokay2Windows Server 2012 R2 Standard / x64  OK    OK    OK    OK  UNNEEDED, same version is already published
machv2macOS 10.14.6 Mojave / x86_64  OK    OK    OK    OK  UNNEEDED, same version is already published
Package 55/95HostnameOS / ArchINSTALLBUILDCHECKBUILD BIN
mnem 1.8.0  (landing page)
Martin Pirkl
git_last_commit: b3e3d91
git_last_commit_date: 2021-05-19 12:44:10 -0400
nebbiolo1Linux (Ubuntu 20.04.2 LTS) / x86_64  OK    OK    OK  UNNEEDED, same version is already published
tokay2Windows Server 2012 R2 Standard / x64  OK    OK    OK    OK  UNNEEDED, same version is already published
machv2macOS 10.14.6 Mojave / x86_64  OK    OK    OK    OK  UNNEEDED, same version is already published
Package 56/95HostnameOS / ArchINSTALLBUILDCHECKBUILD BIN
NCIgraph 1.40.0  (landing page)
Laurent Jacob
git_last_commit: b75cc38
git_last_commit_date: 2021-05-19 11:48:14 -0400
nebbiolo1Linux (Ubuntu 20.04.2 LTS) / x86_64  OK    OK    OK  UNNEEDED, same version is already published
tokay2Windows Server 2012 R2 Standard / x64... NOT SUPPORTED ...
machv2macOS 10.14.6 Mojave / x86_64... NOT SUPPORTED ...
Package 57/95HostnameOS / ArchINSTALLBUILDCHECKBUILD BIN
NeighborNet 1.10.0  (landing page)
Sahar Ansari
git_last_commit: 9ca22cb
git_last_commit_date: 2021-05-19 12:38:31 -0400
nebbiolo1Linux (Ubuntu 20.04.2 LTS) / x86_64  OK    OK    OK  UNNEEDED, same version is already published
tokay2Windows Server 2012 R2 Standard / x64  OK    OK    OK    OK  UNNEEDED, same version is already published
machv2macOS 10.14.6 Mojave / x86_64  OK    OK    OK    OK  UNNEEDED, same version is already published
Package 58/95HostnameOS / ArchINSTALLBUILDCHECKBUILD BIN
netresponse 1.52.0  (landing page)
Leo Lahti
git_last_commit: 1ecd688
git_last_commit_date: 2021-05-19 11:46:24 -0400
nebbiolo1Linux (Ubuntu 20.04.2 LTS) / x86_64  OK    OK    OK  UNNEEDED, same version is already published
tokay2Windows Server 2012 R2 Standard / x64  OK    OK    OK    OK  UNNEEDED, same version is already published
machv2macOS 10.14.6 Mojave / x86_64  OK    OK    OK    OK  UNNEEDED, same version is already published
Package 59/95HostnameOS / ArchINSTALLBUILDCHECKBUILD BIN
OncoSimulR 3.0.0  (landing page)
Ramon Diaz-Uriarte
git_last_commit: 3add541
git_last_commit_date: 2021-05-19 12:06:18 -0400
nebbiolo1Linux (Ubuntu 20.04.2 LTS) / x86_64  OK    OK    OK  UNNEEDED, same version is already published
tokay2Windows Server 2012 R2 Standard / x64  OK    OK    OK    OK  UNNEEDED, same version is already published
machv2macOS 10.14.6 Mojave / x86_64  OK    OK    OK    OK  UNNEEDED, same version is already published
Package 60/95HostnameOS / ArchINSTALLBUILDCHECKBUILD BIN
ontoProc 1.14.0  (landing page)
VJ Carey
git_last_commit: 2ba1033
git_last_commit_date: 2021-05-19 12:31:28 -0400
nebbiolo1Linux (Ubuntu 20.04.2 LTS) / x86_64  OK    OK    OK  UNNEEDED, same version is already published
tokay2Windows Server 2012 R2 Standard / x64  OK    OK    OK    OK  UNNEEDED, same version is already published
machv2macOS 10.14.6 Mojave / x86_64  OK    OK    OK    OK  UNNEEDED, same version is already published
Package 61/95HostnameOS / ArchINSTALLBUILDCHECKBUILD BIN
openCyto 2.4.0  (landing page)
Mike Jiang ,Jake Wagner
git_last_commit: 458a40d
git_last_commit_date: 2021-05-19 12:01:23 -0400
nebbiolo1Linux (Ubuntu 20.04.2 LTS) / x86_64  OK    OK    OK  UNNEEDED, same version is already published
tokay2Windows Server 2012 R2 Standard / x64  OK    OK    OK    OK  UNNEEDED, same version is already published
machv2macOS 10.14.6 Mojave / x86_64  OK    OK    OK    OK  UNNEEDED, same version is already published
Package 62/95HostnameOS / ArchINSTALLBUILDCHECKBUILD BIN
oposSOM 2.10.0  (landing page)
Henry Loeffler-Wirth
git_last_commit: 8a2b436
git_last_commit_date: 2021-05-19 12:05:49 -0400
nebbiolo1Linux (Ubuntu 20.04.2 LTS) / x86_64  OK    OK    WARNINGS  UNNEEDED, same version is already published
tokay2Windows Server 2012 R2 Standard / x64  OK    OK    WARNINGS    OK  UNNEEDED, same version is already published
machv2macOS 10.14.6 Mojave / x86_64  OK    OK    WARNINGS    OK  UNNEEDED, same version is already published
Package 63/95HostnameOS / ArchINSTALLBUILDCHECKBUILD BIN
OrganismDbi 1.34.0  (landing page)
Bioconductor Package Maintainer
git_last_commit: 253c4ae
git_last_commit_date: 2021-05-19 11:53:46 -0400
nebbiolo1Linux (Ubuntu 20.04.2 LTS) / x86_64  OK    OK    WARNINGS  UNNEEDED, same version is already published
tokay2Windows Server 2012 R2 Standard / x64  OK    OK    WARNINGS    OK  UNNEEDED, same version is already published
machv2macOS 10.14.6 Mojave / x86_64  OK    OK    WARNINGS    OK  UNNEEDED, same version is already published
Package 64/95HostnameOS / ArchINSTALLBUILDCHECKBUILD BIN
pathRender 1.60.0  (landing page)
Vince Carey
git_last_commit: a976baf
git_last_commit_date: 2021-05-19 11:36:44 -0400
nebbiolo1Linux (Ubuntu 20.04.2 LTS) / x86_64  OK    OK    OK  UNNEEDED, same version is already published
tokay2Windows Server 2012 R2 Standard / x64  OK    OK    OK    OK  UNNEEDED, same version is already published
machv2macOS 10.14.6 Mojave / x86_64  OK    OK    OK    OK  UNNEEDED, same version is already published
Package 65/95HostnameOS / ArchINSTALLBUILDCHECKBUILD BIN
pathview 1.32.0  (landing page)
Weijun Luo
git_last_commit: ec7e0e1
git_last_commit_date: 2021-05-19 11:58:02 -0400
nebbiolo1Linux (Ubuntu 20.04.2 LTS) / x86_64  OK    OK    WARNINGS  UNNEEDED, same version is already published
tokay2Windows Server 2012 R2 Standard / x64  OK    OK    WARNINGS    OK  UNNEEDED, same version is already published
machv2macOS 10.14.6 Mojave / x86_64  OK    OK    WARNINGS    OK  UNNEEDED, same version is already published
Package 66/95HostnameOS / ArchINSTALLBUILDCHECKBUILD BIN
PCpheno 1.54.0  (landing page)
Nolwenn Le Meur
git_last_commit: a344578
git_last_commit_date: 2021-05-19 11:40:08 -0400
nebbiolo1Linux (Ubuntu 20.04.2 LTS) / x86_64  ERROR    ERROR  skipped
tokay2Windows Server 2012 R2 Standard / x64  ERROR    ERROR  skippedskipped
machv2macOS 10.14.6 Mojave / x86_64  ERROR    ERROR  skippedskipped
Package 67/95HostnameOS / ArchINSTALLBUILDCHECKBUILD BIN
PFP 1.0.0  (landing page)
XC Zhang
git_last_commit: 80a0d85
git_last_commit_date: 2021-05-19 12:58:46 -0400
nebbiolo1Linux (Ubuntu 20.04.2 LTS) / x86_64  OK    OK    OK  UNNEEDED, same version is already published
tokay2Windows Server 2012 R2 Standard / x64  OK    OK    OK    OK  UNNEEDED, same version is already published
machv2macOS 10.14.6 Mojave / x86_64  OK    OK    OK    OK  UNNEEDED, same version is already published
Package 68/95HostnameOS / ArchINSTALLBUILDCHECKBUILD BIN
PhenStat 2.28.0  (landing page)
Hamed Haselimashhadi
git_last_commit: d1496a6
git_last_commit_date: 2021-05-19 12:02:09 -0400
nebbiolo1Linux (Ubuntu 20.04.2 LTS) / x86_64  OK    OK    OK  UNNEEDED, same version is already published
tokay2Windows Server 2012 R2 Standard / x64  OK    OK    OK    OK  UNNEEDED, same version is already published
machv2macOS 10.14.6 Mojave / x86_64  OK    OK    OK    OK  UNNEEDED, same version is already published
Package 69/95HostnameOS / ArchINSTALLBUILDCHECKBUILD BIN
Pigengene 1.18.0  (landing page)
Habil Zare
git_last_commit: 848d21a
git_last_commit_date: 2021-05-19 12:20:45 -0400
nebbiolo1Linux (Ubuntu 20.04.2 LTS) / x86_64  OK    ERROR  skipped
tokay2Windows Server 2012 R2 Standard / x64  OK    ERROR  skippedskipped
machv2macOS 10.14.6 Mojave / x86_64  OK    ERROR  skippedskipped
Package 70/95HostnameOS / ArchINSTALLBUILDCHECKBUILD BIN
pkgDepTools 1.58.0  (landing page)
Bioconductor Package Maintainer
git_last_commit: 706a7e5
git_last_commit_date: 2021-05-19 11:38:05 -0400
nebbiolo1Linux (Ubuntu 20.04.2 LTS) / x86_64  OK    OK    OK  UNNEEDED, same version is already published
tokay2Windows Server 2012 R2 Standard / x64  OK    OK    OK    OK  UNNEEDED, same version is already published
machv2macOS 10.14.6 Mojave / x86_64  OK    OK    OK    OK  UNNEEDED, same version is already published
Package 71/95HostnameOS / ArchINSTALLBUILDCHECKBUILD BIN
PoTRA 1.8.2  (landing page)
Margaret Linan
git_last_commit: cf90958
git_last_commit_date: 2021-07-19 16:59:29 -0400
nebbiolo1Linux (Ubuntu 20.04.2 LTS) / x86_64  OK    OK    OK  UNNEEDED, same version is already published
tokay2Windows Server 2012 R2 Standard / x64  OK    OK    OK    OK  UNNEEDED, same version is already published
machv2macOS 10.14.6 Mojave / x86_64  OK    OK    OK    OK  UNNEEDED, same version is already published
Package 72/95HostnameOS / ArchINSTALLBUILDCHECKBUILD BIN
ppiStats 1.58.0  (landing page)
Bioconductor Package Maintainer
git_last_commit: 0d9ffa4
git_last_commit_date: 2021-05-19 11:38:18 -0400
nebbiolo1Linux (Ubuntu 20.04.2 LTS) / x86_64  OK    OK    OK  UNNEEDED, same version is already published
tokay2Windows Server 2012 R2 Standard / x64  OK    OK    OK    OK  UNNEEDED, same version is already published
machv2macOS 10.14.6 Mojave / x86_64  OK    OK    OK    OK  UNNEEDED, same version is already published
Package 73/95HostnameOS / ArchINSTALLBUILDCHECKBUILD BIN
pwOmics 1.24.0  (landing page)
Maren Sitte
git_last_commit: 9b1e369
git_last_commit_date: 2021-05-19 12:13:37 -0400
nebbiolo1Linux (Ubuntu 20.04.2 LTS) / x86_64  OK    OK    WARNINGS  UNNEEDED, same version is already published
tokay2Windows Server 2012 R2 Standard / x64  OK    OK    WARNINGS    OK  UNNEEDED, same version is already published
machv2macOS 10.14.6 Mojave / x86_64  OK    OK    WARNINGS    OK  UNNEEDED, same version is already published
Package 74/95HostnameOS / ArchINSTALLBUILDCHECKBUILD BIN
qpgraph 2.26.0  (landing page)
Robert Castelo
git_last_commit: 80062b5
git_last_commit_date: 2021-05-19 11:42:31 -0400
nebbiolo1Linux (Ubuntu 20.04.2 LTS) / x86_64  OK    OK    WARNINGS  UNNEEDED, same version is already published
tokay2Windows Server 2012 R2 Standard / x64  OK    OK    WARNINGS    OK  UNNEEDED, same version is already published
machv2macOS 10.14.6 Mojave / x86_64  OK    OK    WARNINGS    OK  UNNEEDED, same version is already published
Package 75/95HostnameOS / ArchINSTALLBUILDCHECKBUILD BIN
RbcBook1 1.60.0  (landing page)
Vince Carey
git_last_commit: f563f7a
git_last_commit_date: 2021-05-19 11:38:15 -0400
nebbiolo1Linux (Ubuntu 20.04.2 LTS) / x86_64  OK    OK    OK  UNNEEDED, same version is already published
tokay2Windows Server 2012 R2 Standard / x64  OK    OK    OK    OK  UNNEEDED, same version is already published
machv2macOS 10.14.6 Mojave / x86_64  OK    OK    OK    OK  UNNEEDED, same version is already published
Package 76/95HostnameOS / ArchINSTALLBUILDCHECKBUILD BIN
RBGL 1.68.0  (landing page)
Bioconductor Package Maintainer
git_last_commit: 9433738
git_last_commit_date: 2021-05-19 11:33:37 -0400
nebbiolo1Linux (Ubuntu 20.04.2 LTS) / x86_64  OK    OK    WARNINGS  UNNEEDED, same version is already published
tokay2Windows Server 2012 R2 Standard / x64  OK    OK    WARNINGS    OK  UNNEEDED, same version is already published
machv2macOS 10.14.6 Mojave / x86_64  OK    OK    OK    OK  UNNEEDED, same version is already published
Package 77/95HostnameOS / ArchINSTALLBUILDCHECKBUILD BIN
RBioinf 1.52.0  (landing page)
Robert Gentleman
git_last_commit: 4edfe70
git_last_commit_date: 2021-05-19 11:40:41 -0400
nebbiolo1Linux (Ubuntu 20.04.2 LTS) / x86_64  OK    OK    OK  UNNEEDED, same version is already published
tokay2Windows Server 2012 R2 Standard / x64  OK    OK    OK    OK  UNNEEDED, same version is already published
machv2macOS 10.14.6 Mojave / x86_64  OK    OK    OK    OK  UNNEEDED, same version is already published
Package 78/95HostnameOS / ArchINSTALLBUILDCHECKBUILD BIN
RchyOptimyx 2.32.0  (landing page)
Adrin Jalali , Nima Aghaeepour
git_last_commit: 0b6f214
git_last_commit_date: 2021-05-19 11:51:57 -0400
nebbiolo1Linux (Ubuntu 20.04.2 LTS) / x86_64  ERROR    ERROR  skipped
tokay2Windows Server 2012 R2 Standard / x64  ERROR    ERROR  skippedskipped
machv2macOS 10.14.6 Mojave / x86_64  ERROR    ERROR  skippedskipped
Package 79/95HostnameOS / ArchINSTALLBUILDCHECKBUILD BIN
RCy3 2.12.4  (landing page)
Alex Pico
git_last_commit: 5bb5011
git_last_commit_date: 2021-08-09 14:24:15 -0400
nebbiolo1Linux (Ubuntu 20.04.2 LTS) / x86_64  OK    OK    OK  UNNEEDED, same version is already published
tokay2Windows Server 2012 R2 Standard / x64  OK    OK    OK    OK  UNNEEDED, same version is already published
machv2macOS 10.14.6 Mojave / x86_64  OK    OK    OK    OK  UNNEEDED, same version is already published
Package 80/95HostnameOS / ArchINSTALLBUILDCHECKBUILD BIN
RCyjs 2.14.0  (landing page)
Paul Shannon
git_last_commit: d93cc23
git_last_commit_date: 2021-05-19 12:13:00 -0400
nebbiolo1Linux (Ubuntu 20.04.2 LTS) / x86_64  OK    OK    WARNINGS  UNNEEDED, same version is already published
tokay2Windows Server 2012 R2 Standard / x64  OK    OK    WARNINGS    OK  UNNEEDED, same version is already published
machv2macOS 10.14.6 Mojave / x86_64  OK    OK    WARNINGS    OK  UNNEEDED, same version is already published
Package 81/95HostnameOS / ArchINSTALLBUILDCHECKBUILD BIN
RDAVIDWebService 1.30.0  (landing page)
Cristobal Fresno
git_last_commit: c4e7bae
git_last_commit_date: 2021-05-19 11:59:21 -0400
nebbiolo1Linux (Ubuntu 20.04.2 LTS) / x86_64  OK    ERROR  skipped
tokay2Windows Server 2012 R2 Standard / x64  OK    ERROR  skippedskipped
machv2macOS 10.14.6 Mojave / x86_64  OK    ERROR  skippedskipped
Package 82/95HostnameOS / ArchINSTALLBUILDCHECKBUILD BIN
RGraph2js 1.20.0  (landing page)
Stephane Cano
git_last_commit: 3a5e683
git_last_commit_date: 2021-05-19 12:17:43 -0400
nebbiolo1Linux (Ubuntu 20.04.2 LTS) / x86_64  OK    OK    OK  UNNEEDED, same version is already published
tokay2Windows Server 2012 R2 Standard / x64  OK    OK    OK    OK  UNNEEDED, same version is already published
machv2macOS 10.14.6 Mojave / x86_64  OK    OK    OK    OK  UNNEEDED, same version is already published
Package 83/95HostnameOS / ArchINSTALLBUILDCHECKBUILD BIN
Rgraphviz 2.36.0  (landing page)
Kasper Daniel Hansen
git_last_commit: 1ea05ef
git_last_commit_date: 2021-05-19 11:33:11 -0400
nebbiolo1Linux (Ubuntu 20.04.2 LTS) / x86_64  OK    OK    WARNINGS  UNNEEDED, same version is already published
tokay2Windows Server 2012 R2 Standard / x64  OK    OK    OK    OK  UNNEEDED, same version is already published
machv2macOS 10.14.6 Mojave / x86_64  OK    OK    WARNINGS    OK  UNNEEDED, same version is already published
Package 84/95HostnameOS / ArchINSTALLBUILDCHECKBUILD BIN
ROntoTools 2.20.0  (landing page)
Calin Voichita
git_last_commit: b1691c3
git_last_commit_date: 2021-05-19 11:58:19 -0400
nebbiolo1Linux (Ubuntu 20.04.2 LTS) / x86_64  OK    OK    OK  UNNEEDED, same version is already published
tokay2Windows Server 2012 R2 Standard / x64  OK    OK    OK    OK  UNNEEDED, same version is already published
machv2macOS 10.14.6 Mojave / x86_64  OK    OK    OK    OK  UNNEEDED, same version is already published
Package 85/95HostnameOS / ArchINSTALLBUILDCHECKBUILD BIN
RpsiXML 2.34.0  (landing page)
Jitao David Zhang
git_last_commit: 94db0a3
git_last_commit_date: 2021-05-19 11:41:31 -0400
nebbiolo1Linux (Ubuntu 20.04.2 LTS) / x86_64  OK    OK    OK  UNNEEDED, same version is already published
tokay2Windows Server 2012 R2 Standard / x64  OK    OK    OK    OK  UNNEEDED, same version is already published
machv2macOS 10.14.6 Mojave / x86_64  OK    OK    OK    OK  UNNEEDED, same version is already published
Package 86/95HostnameOS / ArchINSTALLBUILDCHECKBUILD BIN
rsbml 2.50.0  (landing page)
Michael Lawrence
git_last_commit: 84b2f61
git_last_commit_date: 2021-05-19 11:39:45 -0400
nebbiolo1Linux (Ubuntu 20.04.2 LTS) / x86_64  OK    OK    WARNINGS  UNNEEDED, same version is already published
tokay2Windows Server 2012 R2 Standard / x64  OK    OK    WARNINGS    OK  UNNEEDED, same version is already published
machv2macOS 10.14.6 Mojave / x86_64... NOT SUPPORTED ...
Package 87/95HostnameOS / ArchINSTALLBUILDCHECKBUILD BIN
Rtreemix 1.54.0  (landing page)
Jasmina Bogojeska
git_last_commit: 5821181
git_last_commit_date: 2021-05-19 11:39:55 -0400
nebbiolo1Linux (Ubuntu 20.04.2 LTS) / x86_64  OK    OK    OK  UNNEEDED, same version is already published
tokay2Windows Server 2012 R2 Standard / x64  OK    OK    OK    OK  UNNEEDED, same version is already published
machv2macOS 10.14.6 Mojave / x86_64  OK    OK    OK    OK  UNNEEDED, same version is already published
Package 88/95HostnameOS / ArchINSTALLBUILDCHECKBUILD BIN
SplicingGraphs 1.32.0  (landing page)
H. Pagès
git_last_commit: 6066f74
git_last_commit_date: 2021-05-19 11:58:48 -0400
nebbiolo1Linux (Ubuntu 20.04.2 LTS) / x86_64  OK    OK    WARNINGS  UNNEEDED, same version is already published
tokay2Windows Server 2012 R2 Standard / x64  OK    OK    WARNINGS    OK  UNNEEDED, same version is already published
machv2macOS 10.14.6 Mojave / x86_64  OK    OK    WARNINGS    OK  UNNEEDED, same version is already published
Package 89/95HostnameOS / ArchINSTALLBUILDCHECKBUILD BIN
SRAdb 1.54.0  (landing page)
Jack Zhu
git_last_commit: d4df032
git_last_commit_date: 2021-05-19 11:45:18 -0400
nebbiolo1Linux (Ubuntu 20.04.2 LTS) / x86_64  OK    OK    OK  UNNEEDED, same version is already published
tokay2Windows Server 2012 R2 Standard / x64  OK    OK    OK    OK  UNNEEDED, same version is already published
machv2macOS 10.14.6 Mojave / x86_64  OK    OK    OK    OK  UNNEEDED, same version is already published
Package 90/95HostnameOS / ArchINSTALLBUILDCHECKBUILD BIN
Streamer 1.38.0  (landing page)
Martin Morgan
git_last_commit: c079c02
git_last_commit_date: 2021-05-19 11:49:23 -0400
nebbiolo1Linux (Ubuntu 20.04.2 LTS) / x86_64  OK    OK    OK  UNNEEDED, same version is already published
tokay2Windows Server 2012 R2 Standard / x64  OK    OK    OK    OK  UNNEEDED, same version is already published
machv2macOS 10.14.6 Mojave / x86_64  OK    OK    OK    OK  UNNEEDED, same version is already published
Package 91/95HostnameOS / ArchINSTALLBUILDCHECKBUILD BIN
ToPASeq 1.26.0  (landing page)
Ivana Ihnatova
git_last_commit: 39671a5
git_last_commit_date: 2021-05-19 12:09:12 -0400
nebbiolo1Linux (Ubuntu 20.04.2 LTS) / x86_64  OK    ERROR  skipped
tokay2Windows Server 2012 R2 Standard / x64  OK    OK    ERROR    OK  
machv2macOS 10.14.6 Mojave / x86_64  OK    ERROR  skippedskipped
Package 92/95HostnameOS / ArchINSTALLBUILDCHECKBUILD BIN
topGO 2.44.0  (landing page)
Adrian Alexa
git_last_commit: d907c12
git_last_commit_date: 2021-05-19 11:38:47 -0400
nebbiolo1Linux (Ubuntu 20.04.2 LTS) / x86_64  OK    OK    OK  UNNEEDED, same version is already published
tokay2Windows Server 2012 R2 Standard / x64  OK    OK    OK    OK  UNNEEDED, same version is already published
machv2macOS 10.14.6 Mojave / x86_64  OK    OK    OK    OK  UNNEEDED, same version is already published
Package 93/95HostnameOS / ArchINSTALLBUILDCHECKBUILD BIN
trackViewer 1.28.1  (landing page)
Jianhong Ou
git_last_commit: 84fca6e
git_last_commit_date: 2021-07-06 12:09:25 -0400
nebbiolo1Linux (Ubuntu 20.04.2 LTS) / x86_64  OK    OK    OK  UNNEEDED, same version is already published
tokay2Windows Server 2012 R2 Standard / x64  OK    OK    OK    OK  UNNEEDED, same version is already published
machv2macOS 10.14.6 Mojave / x86_64  OK    OK    OK    OK  UNNEEDED, same version is already published
Package 94/95HostnameOS / ArchINSTALLBUILDCHECKBUILD BIN
VariantFiltering 1.28.0  (landing page)
Robert Castelo
git_last_commit: a7b2d16
git_last_commit_date: 2021-05-19 12:04:28 -0400
nebbiolo1Linux (Ubuntu 20.04.2 LTS) / x86_64  OK    OK    OK  UNNEEDED, same version is already published
tokay2Windows Server 2012 R2 Standard / x64  OK    OK    OK    OK  UNNEEDED, same version is already published
machv2macOS 10.14.6 Mojave / x86_64  OK    OK    OK    OK  UNNEEDED, same version is already published
Package 95/95HostnameOS / ArchINSTALLBUILDCHECKBUILD BIN
vtpnet 0.32.0  (landing page)
VJ Carey
git_last_commit: adfd187
git_last_commit_date: 2021-05-19 11:59:05 -0400
nebbiolo1Linux (Ubuntu 20.04.2 LTS) / x86_64  OK    OK    OK  UNNEEDED, same version is already published
tokay2Windows Server 2012 R2 Standard / x64  OK    OK    OK    OK  UNNEEDED, same version is already published
machv2macOS 10.14.6 Mojave / x86_64  OK    OK    OK    OK  UNNEEDED, same version is already published