Back to Multiple platform build/check report for BioC 3.19:   simplified   long
ABCDEF[G]HIJKLMNOPQRSTUVWXYZ

This page was generated on 2024-05-20 11:35:18 -0400 (Mon, 20 May 2024).

HostnameOSArch (*)R versionInstalled pkgs
nebbiolo1Linux (Ubuntu 22.04.3 LTS)x86_644.4.0 (2024-04-24) -- "Puppy Cup" 4751
palomino3Windows Server 2022 Datacenterx644.4.0 (2024-04-24 ucrt) -- "Puppy Cup" 4485
lconwaymacOS 12.7.1 Montereyx86_644.4.0 (2024-04-24) -- "Puppy Cup" 4515
Click on any hostname to see more info about the system (e.g. compilers)      (*) as reported by 'uname -p', except on Windows and Mac OS X

All results for package ggbio


To the developers/maintainers of the ggbio package:
- Allow up to 24 hours (and sometimes 48 hours) for your latest push to git@git.bioconductor.org:packages/ggbio.git to reflect on this report. See Troubleshooting Build Report for more information.
- Use the following Renviron settings to reproduce errors and warnings.
- If 'R CMD check' started to fail recently on the Linux builder(s) over a missing dependency, add the missing dependency to 'Suggests:' in your DESCRIPTION file. See Renviron.bioc for more information.

raw results

Package 859/2300HostnameOS / ArchINSTALLBUILDCHECKBUILD BIN
ggbio 1.52.0  (landing page)
Michael Lawrence
Snapshot Date: 2024-05-19 14:00:13 -0400 (Sun, 19 May 2024)
git_url: https://git.bioconductor.org/packages/ggbio
git_branch: RELEASE_3_19
git_last_commit: 10b0089
git_last_commit_date: 2024-04-30 10:26:03 -0400 (Tue, 30 Apr 2024)
nebbiolo1Linux (Ubuntu 22.04.3 LTS) / x86_64  OK    OK    WARNINGS  UNNEEDED, same version is already published
palomino3Windows Server 2022 Datacenter / x64  OK    OK    WARNINGS    OK  UNNEEDED, same version is already published
lconwaymacOS 12.7.1 Monterey / x86_64  OK    OK    WARNINGS    OK  UNNEEDED, same version is already published
kjohnson3macOS 13.6.5 Ventura / arm64see weekly results here

Results for Bioconductor software packages that depend directly on package ggbio

QUICK STATSOS / ArchINSTALLBUILDCHECKBUILD BIN
nebbiolo1Linux (Ubuntu 22.04.3 LTS) / x86_64
0113
0113
0049
palomino3Windows Server 2022 Datacenter / x64
0112
0112
0048
0012
lconwaymacOS 12.7.1 Monterey / x86_64
0112
0112
0039
0012
Package 1/14HostnameOS / ArchINSTALLBUILDCHECKBUILD BIN
BOBaFIT 1.8.0  (landing page)
Gaia Mazzocchetti
git_last_commit: f0189db
git_last_commit_date: 2024-04-30 11:39:42 -0400
nebbiolo1Linux (Ubuntu 22.04.3 LTS) / x86_64  OK    OK    WARNINGS  UNNEEDED, same version is already published
palomino3Windows Server 2022 Datacenter / x64  OK    OK    WARNINGS    OK  UNNEEDED, same version is already published
lconwaymacOS 12.7.1 Monterey / x86_64  OK    OK    WARNINGS    OK  UNNEEDED, same version is already published
kjohnson3macOS 13.6.5 Ventura / arm64see weekly results here
Package 2/14HostnameOS / ArchINSTALLBUILDCHECKBUILD BIN
CAFE 1.40.0  (landing page)
Sander Bollen
git_last_commit: 67621fe
git_last_commit_date: 2024-04-30 10:35:22 -0400
nebbiolo1Linux (Ubuntu 22.04.3 LTS) / x86_64  OK    OK    WARNINGS  UNNEEDED, same version is already published
palomino3Windows Server 2022 Datacenter / x64  OK    OK    WARNINGS    OK  UNNEEDED, same version is already published
lconwaymacOS 12.7.1 Monterey / x86_64  OK    OK    WARNINGS    OK  UNNEEDED, same version is already published
kjohnson3macOS 13.6.5 Ventura / arm64see weekly results here
Package 3/14HostnameOS / ArchINSTALLBUILDCHECKBUILD BIN
cageminer 1.10.0  (landing page)
Fabrício Almeida-Silva
git_last_commit: 9fafcfa
git_last_commit_date: 2024-04-30 11:36:00 -0400
nebbiolo1Linux (Ubuntu 22.04.3 LTS) / x86_64  OK    OK    OK  UNNEEDED, same version is already published
palomino3Windows Server 2022 Datacenter / x64  OK    OK    OK    OK  UNNEEDED, same version is already published
lconwaymacOS 12.7.1 Monterey / x86_64  OK    OK    OK    OK  UNNEEDED, same version is already published
kjohnson3macOS 13.6.5 Ventura / arm64see weekly results here
Package 4/14HostnameOS / ArchINSTALLBUILDCHECKBUILD BIN
Damsel 1.0.0  (landing page)
Caitlin Page
git_last_commit: f617ae8
git_last_commit_date: 2024-04-30 11:56:05 -0400
nebbiolo1Linux (Ubuntu 22.04.3 LTS) / x86_64  OK    OK    OK  NO, package depends on 'goseq' which is not available
palomino3Windows Server 2022 Datacenter / x64  OK    OK    OK    OK  NO, package depends on 'goseq' which is not available
lconwaymacOS 12.7.1 Monterey / x86_64  OK    OK    OK    OK  NO, package depends on 'goseq' which is not available
kjohnson3macOS 13.6.5 Ventura / arm64see weekly results here
Package 5/14HostnameOS / ArchINSTALLBUILDCHECKBUILD BIN
derfinderPlot 1.38.0  (landing page)
Leonardo Collado-Torres
git_last_commit: db6304d
git_last_commit_date: 2024-04-30 10:39:16 -0400
nebbiolo1Linux (Ubuntu 22.04.3 LTS) / x86_64  OK    OK    OK  UNNEEDED, same version is already published
palomino3Windows Server 2022 Datacenter / x64  OK    OK    OK    OK  UNNEEDED, same version is already published
lconwaymacOS 12.7.1 Monterey / x86_64  OK    OK    OK    OK  UNNEEDED, same version is already published
kjohnson3macOS 13.6.5 Ventura / arm64see weekly results here
Package 6/14HostnameOS / ArchINSTALLBUILDCHECKBUILD BIN
FLAMES 1.10.0  (landing page)
Changqing Wang
git_last_commit: bd149f9
git_last_commit_date: 2024-04-30 11:35:54 -0400
nebbiolo1Linux (Ubuntu 22.04.3 LTS) / x86_64  OK    OK    OK  UNNEEDED, same version is already published
palomino3Windows Server 2022 Datacenter / x64... NOT SUPPORTED ...
lconwaymacOS 12.7.1 Monterey / x86_64  OK    OK    OK    OK  UNNEEDED, same version is already published
kjohnson3macOS 13.6.5 Ventura / arm64see weekly results here
Package 7/14HostnameOS / ArchINSTALLBUILDCHECKBUILD BIN
GenomicOZone 1.18.0  (landing page)
Hua Zhong, Mingzhou Song
git_last_commit: f592f0e
git_last_commit_date: 2024-04-30 11:16:30 -0400
nebbiolo1Linux (Ubuntu 22.04.3 LTS) / x86_64  OK    OK    OK  UNNEEDED, same version is already published
palomino3Windows Server 2022 Datacenter / x64  OK    OK    OK    OK  UNNEEDED, same version is already published
lconwaymacOS 12.7.1 Monterey / x86_64  OK    OK    OK    OK  UNNEEDED, same version is already published
kjohnson3macOS 13.6.5 Ventura / arm64see weekly results here
Package 8/14HostnameOS / ArchINSTALLBUILDCHECKBUILD BIN
intansv 1.44.0  (landing page)
Wen Yao
git_last_commit: 735a100
git_last_commit_date: 2024-04-30 10:32:41 -0400
nebbiolo1Linux (Ubuntu 22.04.3 LTS) / x86_64  OK    OK    OK  UNNEEDED, same version is already published
palomino3Windows Server 2022 Datacenter / x64  OK    OK    OK    OK  UNNEEDED, same version is already published
lconwaymacOS 12.7.1 Monterey / x86_64  OK    OK    OK    OK  UNNEEDED, same version is already published
kjohnson3macOS 13.6.5 Ventura / arm64see weekly results here
Package 9/14HostnameOS / ArchINSTALLBUILDCHECKBUILD BIN
msgbsR 1.28.0  (landing page)
Benjamin Mayne
git_last_commit: a908a0f
git_last_commit_date: 2024-04-30 10:58:14 -0400
nebbiolo1Linux (Ubuntu 22.04.3 LTS) / x86_64  ERROR    ERROR  skipped
palomino3Windows Server 2022 Datacenter / x64  ERROR    ERROR  skippedskipped
lconwaymacOS 12.7.1 Monterey / x86_64  ERROR    ERROR  skippedskipped
kjohnson3macOS 13.6.5 Ventura / arm64see weekly results here
Package 10/14HostnameOS / ArchINSTALLBUILDCHECKBUILD BIN
R3CPET 1.36.0  (landing page)
Mohamed Nadhir Djekidel
git_last_commit: 8777457
git_last_commit_date: 2024-04-30 10:43:26 -0400
nebbiolo1Linux (Ubuntu 22.04.3 LTS) / x86_64  OK    OK    WARNINGS  UNNEEDED, same version is already published
palomino3Windows Server 2022 Datacenter / x64  OK    OK    WARNINGS    OK  UNNEEDED, same version is already published
lconwaymacOS 12.7.1 Monterey / x86_64... NOT SUPPORTED ...
kjohnson3macOS 13.6.5 Ventura / arm64see weekly results here
Package 11/14HostnameOS / ArchINSTALLBUILDCHECKBUILD BIN
ReportingTools 2.44.0  (landing page)
Jason A. Hackney , Gabriel Becker
git_last_commit: 6c9e290
git_last_commit_date: 2024-04-30 10:29:01 -0400
nebbiolo1Linux (Ubuntu 22.04.3 LTS) / x86_64  OK    OK    OK  UNNEEDED, same version is already published
palomino3Windows Server 2022 Datacenter / x64  OK    OK    OK    OK  UNNEEDED, same version is already published
lconwaymacOS 12.7.1 Monterey / x86_64  OK    OK    OK    OK  UNNEEDED, same version is already published
kjohnson3macOS 13.6.5 Ventura / arm64see weekly results here
Package 12/14HostnameOS / ArchINSTALLBUILDCHECKBUILD BIN
RiboProfiling 1.34.0  (landing page)
A. Popa
git_last_commit: 324d233
git_last_commit_date: 2024-04-30 10:46:22 -0400
nebbiolo1Linux (Ubuntu 22.04.3 LTS) / x86_64  OK    OK    WARNINGS  UNNEEDED, same version is already published
palomino3Windows Server 2022 Datacenter / x64  OK    OK    WARNINGS    OK  UNNEEDED, same version is already published
lconwaymacOS 12.7.1 Monterey / x86_64  OK    OK    WARNINGS    OK  UNNEEDED, same version is already published
kjohnson3macOS 13.6.5 Ventura / arm64see weekly results here
Package 13/14HostnameOS / ArchINSTALLBUILDCHECKBUILD BIN
scruff 1.22.0  (landing page)
Zhe Wang
git_last_commit: 0c32919
git_last_commit_date: 2024-04-30 11:07:52 -0400
nebbiolo1Linux (Ubuntu 22.04.3 LTS) / x86_64  OK    OK    OK  UNNEEDED, same version is already published
palomino3Windows Server 2022 Datacenter / x64  OK    OK    OK    OK  UNNEEDED, same version is already published
lconwaymacOS 12.7.1 Monterey / x86_64  OK    OK    OK    OK  UNNEEDED, same version is already published
kjohnson3macOS 13.6.5 Ventura / arm64see weekly results here
Package 14/14HostnameOS / ArchINSTALLBUILDCHECKBUILD BIN
SomaticSignatures 2.40.0  (landing page)
Julian Gehring
git_last_commit: c99d3e9
git_last_commit_date: 2024-04-30 10:34:57 -0400
nebbiolo1Linux (Ubuntu 22.04.3 LTS) / x86_64  OK    OK    OK  UNNEEDED, same version is already published
palomino3Windows Server 2022 Datacenter / x64  OK    OK    OK    OK  UNNEEDED, same version is already published
lconwaymacOS 12.7.1 Monterey / x86_64  OK    OK    OK    OK  UNNEEDED, same version is already published
kjohnson3macOS 13.6.5 Ventura / arm64see weekly results here