Back to Multiple platform build/check report for BioC 3.13
ABCDEF[G]HIJKLMNOPQRSTUVWXYZ

This page was generated on 2021-09-20 15:05:13 -0400 (Mon, 20 Sep 2021).

CHECK results for genbankr on tokay2

To the developers/maintainers of the genbankr package:
- Please allow up to 24 hours (and sometimes 48 hours) for your latest push to git@git.bioconductor.org:packages/genbankr.git to
reflect on this report. See How and When does the builder pull? When will my changes propagate? here for more information.
- Make sure to use the following settings in order to reproduce any error or warning you see on this page.

raw results

Package 706/2041HostnameOS / ArchINSTALLBUILDCHECKBUILD BIN
genbankr 1.20.0  (landing page)
Gabriel Becker
Snapshot Date: 2021-09-19 04:50:10 -0400 (Sun, 19 Sep 2021)
git_url: https://git.bioconductor.org/packages/genbankr
git_branch: RELEASE_3_13
git_last_commit: 968c425
git_last_commit_date: 2021-05-19 12:19:55 -0400 (Wed, 19 May 2021)
nebbiolo1Linux (Ubuntu 20.04.2 LTS) / x86_64  OK    OK    OK  UNNEEDED, same version is already published
tokay2Windows Server 2012 R2 Standard / x64  OK    OK    OK    OK  UNNEEDED, same version is already published
machv2macOS 10.14.6 Mojave / x86_64  OK    OK    OK    OK  UNNEEDED, same version is already published

Summary

Package: genbankr
Version: 1.20.0
Command: C:\Users\biocbuild\bbs-3.13-bioc\R\bin\R.exe CMD check --force-multiarch --install=check:genbankr.install-out.txt --library=C:\Users\biocbuild\bbs-3.13-bioc\R\library --no-vignettes --timings genbankr_1.20.0.tar.gz
StartedAt: 2021-09-19 22:46:03 -0400 (Sun, 19 Sep 2021)
EndedAt: 2021-09-19 22:52:41 -0400 (Sun, 19 Sep 2021)
EllapsedTime: 398.3 seconds
RetCode: 0
Status:   OK  
CheckDir: genbankr.Rcheck
Warnings: 0

Command output

##############################################################################
##############################################################################
###
### Running command:
###
###   C:\Users\biocbuild\bbs-3.13-bioc\R\bin\R.exe CMD check --force-multiarch --install=check:genbankr.install-out.txt --library=C:\Users\biocbuild\bbs-3.13-bioc\R\library --no-vignettes --timings genbankr_1.20.0.tar.gz
###
##############################################################################
##############################################################################


* using log directory 'C:/Users/biocbuild/bbs-3.13-bioc/meat/genbankr.Rcheck'
* using R version 4.1.1 (2021-08-10)
* using platform: x86_64-w64-mingw32 (64-bit)
* using session charset: ISO8859-1
* using option '--no-vignettes'
* checking for file 'genbankr/DESCRIPTION' ... OK
* this is package 'genbankr' version '1.20.0'
* checking package namespace information ... OK
* checking package dependencies ... OK
* checking if this is a source package ... OK
* checking if there is a namespace ... OK
* checking for hidden files and directories ... OK
* checking for portable file names ... OK
* checking whether package 'genbankr' can be installed ... OK
* checking installed package size ... OK
* checking package directory ... OK
* checking 'build' directory ... OK
* checking DESCRIPTION meta-information ... OK
* checking top-level files ... OK
* checking for left-over files ... OK
* checking index information ... OK
* checking package subdirectories ... OK
* checking R files for non-ASCII characters ... OK
* checking R files for syntax errors ... OK
* loading checks for arch 'i386'
** checking whether the package can be loaded ... OK
** checking whether the package can be loaded with stated dependencies ... OK
** checking whether the package can be unloaded cleanly ... OK
** checking whether the namespace can be loaded with stated dependencies ... OK
** checking whether the namespace can be unloaded cleanly ... OK
* loading checks for arch 'x64'
** checking whether the package can be loaded ... OK
** checking whether the package can be loaded with stated dependencies ... OK
** checking whether the package can be unloaded cleanly ... OK
** checking whether the namespace can be loaded with stated dependencies ... OK
** checking whether the namespace can be unloaded cleanly ... OK
* checking dependencies in R code ... OK
* checking S3 generic/method consistency ... OK
* checking replacement functions ... OK
* checking foreign function calls ... OK
* checking R code for possible problems ... OK
* checking Rd files ... OK
* checking Rd metadata ... OK
* checking Rd cross-references ... OK
* checking for missing documentation entries ... OK
* checking for code/documentation mismatches ... OK
* checking Rd \usage sections ... OK
* checking Rd contents ... OK
* checking for unstated dependencies in examples ... OK
* checking files in 'vignettes' ... OK
* checking examples ...
** running examples for arch 'i386' ... OK
** running examples for arch 'x64' ... OK
* checking for unstated dependencies in 'tests' ... OK
* checking tests ...
** running tests for arch 'i386' ...
  Running 'runTests.R'
 OK
** running tests for arch 'x64' ...
  Running 'runTests.R'
 OK
* checking for unstated dependencies in vignettes ... OK
* checking package vignettes in 'inst/doc' ... OK
* checking running R code from vignettes ... SKIPPED
* checking re-building of vignette outputs ... SKIPPED
* checking PDF version of manual ... OK
* DONE

Status: OK


Installation output

genbankr.Rcheck/00install.out

##############################################################################
##############################################################################
###
### Running command:
###
###   C:\cygwin\bin\curl.exe -O http://155.52.207.165/BBS/3.13/bioc/src/contrib/genbankr_1.20.0.tar.gz && rm -rf genbankr.buildbin-libdir && mkdir genbankr.buildbin-libdir && C:\Users\biocbuild\bbs-3.13-bioc\R\bin\R.exe CMD INSTALL --merge-multiarch --build --library=genbankr.buildbin-libdir genbankr_1.20.0.tar.gz && C:\Users\biocbuild\bbs-3.13-bioc\R\bin\R.exe CMD INSTALL genbankr_1.20.0.zip && rm genbankr_1.20.0.tar.gz genbankr_1.20.0.zip
###
##############################################################################
##############################################################################


  % Total    % Received % Xferd  Average Speed   Time    Time     Time  Current
                                 Dload  Upload   Total   Spent    Left  Speed

  0     0    0     0    0     0      0      0 --:--:-- --:--:-- --:--:--     0
100  344k  100  344k    0     0   554k      0 --:--:-- --:--:-- --:--:--  555k
100  344k  100  344k    0     0   554k      0 --:--:-- --:--:-- --:--:--  554k

install for i386

* installing *source* package 'genbankr' ...
** using staged installation
** R
** inst
** byte-compile and prepare package for lazy loading
** help
*** installing help indices
  converting help for package 'genbankr'
    finding HTML links ... done
    GBAccession                             html  
    GenBank-classes                         html  
    api-methods                             html  
    gbk-api                                 html  
    gbkfile                                 html  
    import                                  html  
    intergenic                              html  
    make_gbobjs                             html  
    otherFeatures                           html  
    parseGenBank                            html  
    readGenBank                             html  
    txdb                                    html  
    variants                                html  
** building package indices
** installing vignettes
** testing if installed package can be loaded from temporary location
** testing if installed package can be loaded from final location
** testing if installed package keeps a record of temporary installation path

install for x64

* installing *source* package 'genbankr' ...
** testing if installed package can be loaded
* MD5 sums
packaged installation of 'genbankr' as genbankr_1.20.0.zip
* DONE (genbankr)
* installing to library 'C:/Users/biocbuild/bbs-3.13-bioc/R/library'
package 'genbankr' successfully unpacked and MD5 sums checked

Tests output

genbankr.Rcheck/tests_i386/runTests.Rout


R version 4.1.1 (2021-08-10) -- "Kick Things"
Copyright (C) 2021 The R Foundation for Statistical Computing
Platform: i386-w64-mingw32/i386 (32-bit)

R is free software and comes with ABSOLUTELY NO WARRANTY.
You are welcome to redistribute it under certain conditions.
Type 'license()' or 'licence()' for distribution details.

R is a collaborative project with many contributors.
Type 'contributors()' for more information and
'citation()' on how to cite R or R packages in publications.

Type 'demo()' for some demos, 'help()' for on-line help, or
'help.start()' for an HTML browser interface to help.
Type 'q()' to quit R.

> BiocGenerics:::testPackage("genbankr")
Annotations don't have 'locus_tag' label, using 'gene' as gene_id column
Annotations don't have 'locus_tag' label, using 'gene' as gene_id column
No exons read from genbank file. Assuming sections of CDS are full exons
No transcript features (mRNA) found, using spans of CDSs
No exons read from genbank file. Assuming sections of CDS are full exons
No exons read from genbank file. Assuming sections of CDS are full exons
No exons read from genbank file. Assuming sections of CDS are full exons
No exons read from genbank file. Assuming sections of CDS are full exons
No exons read from genbank file. Assuming sections of CDS are full exons
No transcript features (mRNA) found, using spans of CDSs
No exons read from genbank file. Assuming sections of CDS are full exons
No transcript features (mRNA) found, using spans of CDSs
No exons read from genbank file. Assuming sections of CDS are full exons
No exons read from genbank file. Assuming sections of CDS are full exons
Annotations don't have 'locus_tag' label, using 'gene' as gene_id column
No exons read from genbank file. Assuming sections of CDS are full exons
Annotations don't have 'locus_tag' label, using 'gene' as gene_id column
Annotations don't have 'locus_tag' label, using 'gene' as gene_id column
No exons read from genbank file. Assuming sections of CDS are full exons
No transcript features (mRNA) found, using spans of CDSs


RUNIT TEST PROTOCOL -- Sun Sep 19 22:52:15 2021 
*********************************************** 
Number of test functions: 9 
Number of errors: 0 
Number of failures: 0 

 
1 Test Suite : 
genbankr RUnit Tests - 9 test functions, 0 errors, 0 failures
Number of test functions: 9 
Number of errors: 0 
Number of failures: 0 
Warning messages:
1: In readLines(file) :
  incomplete final line found on 'C:/Users/biocbuild/bbs-3.13-bioc/R/library/genbankr/unitTests/compjoin.gbk'
2: In fill_stack_df(rawvars, sqinfo = sqinfo) :
  Got unexpected multi-value field(s) [ note ]. The resulting column(s) will be of class CharacterList, rather than vector(s). Please contact the maintainer if multi-valuedness is expected/meaningful for the listed field(s).
3: In fill_stack_df(rawvars, sqinfo = sqinfo) :
  Got unexpected multi-value field(s) [ note ]. The resulting column(s) will be of class CharacterList, rather than vector(s). Please contact the maintainer if multi-valuedness is expected/meaningful for the listed field(s).
4: In make_feat_gr(str = rngstr, chr = chr, ats = c(type = type, attrs),  :
  Incomplete feature annotation detected. Omitting feature at <1..1353
5: In make_feat_gr(str = rngstr, chr = chr, ats = c(type = type, attrs),  :
  Incomplete feature annotation detected. Omitting feature at 689..>734
6: This class is extending the deprecated RTLFile class from rtracklayer. Use BiocFile from BiocIO in place of RTLFile. 
7: In make_feat_gr(str = rngstr, chr = chr, ats = c(type = type, attrs),  :
  Incomplete feature annotation detected. Omitting feature at 5..>660
8: In readLines(file) :
  incomplete final line found on 'C:/Users/biocbuild/bbs-3.13-bioc/R/library/genbankr/unitTests/compjoin.gbk'
> 
> proc.time()
   user  system elapsed 
  15.82    1.01   16.85 

genbankr.Rcheck/tests_x64/runTests.Rout


R version 4.1.1 (2021-08-10) -- "Kick Things"
Copyright (C) 2021 The R Foundation for Statistical Computing
Platform: x86_64-w64-mingw32/x64 (64-bit)

R is free software and comes with ABSOLUTELY NO WARRANTY.
You are welcome to redistribute it under certain conditions.
Type 'license()' or 'licence()' for distribution details.

R is a collaborative project with many contributors.
Type 'contributors()' for more information and
'citation()' on how to cite R or R packages in publications.

Type 'demo()' for some demos, 'help()' for on-line help, or
'help.start()' for an HTML browser interface to help.
Type 'q()' to quit R.

> BiocGenerics:::testPackage("genbankr")
Annotations don't have 'locus_tag' label, using 'gene' as gene_id column
Annotations don't have 'locus_tag' label, using 'gene' as gene_id column
No exons read from genbank file. Assuming sections of CDS are full exons
No transcript features (mRNA) found, using spans of CDSs
No exons read from genbank file. Assuming sections of CDS are full exons
No exons read from genbank file. Assuming sections of CDS are full exons
No exons read from genbank file. Assuming sections of CDS are full exons
No exons read from genbank file. Assuming sections of CDS are full exons
No exons read from genbank file. Assuming sections of CDS are full exons
No transcript features (mRNA) found, using spans of CDSs
No exons read from genbank file. Assuming sections of CDS are full exons
No transcript features (mRNA) found, using spans of CDSs
No exons read from genbank file. Assuming sections of CDS are full exons
No exons read from genbank file. Assuming sections of CDS are full exons
Annotations don't have 'locus_tag' label, using 'gene' as gene_id column
No exons read from genbank file. Assuming sections of CDS are full exons
Annotations don't have 'locus_tag' label, using 'gene' as gene_id column
Annotations don't have 'locus_tag' label, using 'gene' as gene_id column
No exons read from genbank file. Assuming sections of CDS are full exons
No transcript features (mRNA) found, using spans of CDSs


RUNIT TEST PROTOCOL -- Sun Sep 19 22:52:33 2021 
*********************************************** 
Number of test functions: 9 
Number of errors: 0 
Number of failures: 0 

 
1 Test Suite : 
genbankr RUnit Tests - 9 test functions, 0 errors, 0 failures
Number of test functions: 9 
Number of errors: 0 
Number of failures: 0 
Warning messages:
1: In readLines(file) :
  incomplete final line found on 'C:/Users/biocbuild/bbs-3.13-bioc/R/library/genbankr/unitTests/compjoin.gbk'
2: In fill_stack_df(rawvars, sqinfo = sqinfo) :
  Got unexpected multi-value field(s) [ note ]. The resulting column(s) will be of class CharacterList, rather than vector(s). Please contact the maintainer if multi-valuedness is expected/meaningful for the listed field(s).
3: In fill_stack_df(rawvars, sqinfo = sqinfo) :
  Got unexpected multi-value field(s) [ note ]. The resulting column(s) will be of class CharacterList, rather than vector(s). Please contact the maintainer if multi-valuedness is expected/meaningful for the listed field(s).
4: In make_feat_gr(str = rngstr, chr = chr, ats = c(type = type, attrs),  :
  Incomplete feature annotation detected. Omitting feature at <1..1353
5: In make_feat_gr(str = rngstr, chr = chr, ats = c(type = type, attrs),  :
  Incomplete feature annotation detected. Omitting feature at 689..>734
6: This class is extending the deprecated RTLFile class from rtracklayer. Use BiocFile from BiocIO in place of RTLFile. 
7: In make_feat_gr(str = rngstr, chr = chr, ats = c(type = type, attrs),  :
  Incomplete feature annotation detected. Omitting feature at 5..>660
8: In readLines(file) :
  incomplete final line found on 'C:/Users/biocbuild/bbs-3.13-bioc/R/library/genbankr/unitTests/compjoin.gbk'
> 
> proc.time()
   user  system elapsed 
  16.89    0.42   17.28 

Example timings

genbankr.Rcheck/examples_i386/genbankr-Ex.timings

nameusersystemelapsed
GBAccession000
GenBank-classes2.690.693.42
api-methods2.30.02.3
gbk-api202
gbkfile2.110.002.11
intergenic2.250.022.26
make_gbobjs2.050.002.05
otherFeatures2.540.002.55
parseGenBank1.360.001.36
readGenBank2.050.002.04
txdb0.870.000.88
variants1.990.001.98

genbankr.Rcheck/examples_x64/genbankr-Ex.timings

nameusersystemelapsed
GBAccession000
GenBank-classes2.870.052.92
api-methods202
gbk-api1.760.021.78
gbkfile2.030.012.04
intergenic1.910.001.91
make_gbobjs1.70.01.7
otherFeatures1.850.001.85
parseGenBank0.90.00.9
readGenBank1.830.001.83
txdb0.650.000.65
variants1.820.001.82