Back to Multiple platform build/check report for BioC 3.13
ABCDEF[G]HIJKLMNOPQRSTUVWXYZ

This page was generated on 2021-09-22 15:05:15 -0400 (Wed, 22 Sep 2021).

BUILD results for genbankr on tokay2

To the developers/maintainers of the genbankr package:
- Please allow up to 24 hours (and sometimes 48 hours) for your latest push to git@git.bioconductor.org:packages/genbankr.git to
reflect on this report. See How and When does the builder pull? When will my changes propagate? here for more information.
- Make sure to use the following settings in order to reproduce any error or warning you see on this page.

raw results

Package 706/2041HostnameOS / ArchINSTALLBUILDCHECKBUILD BIN
genbankr 1.20.0  (landing page)
Gabriel Becker
Snapshot Date: 2021-09-21 04:50:12 -0400 (Tue, 21 Sep 2021)
git_url: https://git.bioconductor.org/packages/genbankr
git_branch: RELEASE_3_13
git_last_commit: 968c425
git_last_commit_date: 2021-05-19 12:19:55 -0400 (Wed, 19 May 2021)
nebbiolo1Linux (Ubuntu 20.04.2 LTS) / x86_64  OK    OK    OK  UNNEEDED, same version is already published
tokay2Windows Server 2012 R2 Standard / x64  OK    OK    OK    OK  UNNEEDED, same version is already published
machv2macOS 10.14.6 Mojave / x86_64  OK    OK    OK    OK  UNNEEDED, same version is already published

Summary

Package: genbankr
Version: 1.20.0
Command: chmod a+r genbankr -R && C:\Users\biocbuild\bbs-3.13-bioc\R\bin\R.exe CMD build --keep-empty-dirs --no-resave-data genbankr
StartedAt: 2021-09-21 14:10:09 -0400 (Tue, 21 Sep 2021)
EndedAt: 2021-09-21 14:11:48 -0400 (Tue, 21 Sep 2021)
EllapsedTime: 98.4 seconds
RetCode: 0
Status:   OK  
PackageFile: genbankr_1.20.0.tar.gz
PackageFileSize: 560.7 KiB

Command output

##############################################################################
##############################################################################
###
### Running command:
###
###   chmod a+r genbankr -R && C:\Users\biocbuild\bbs-3.13-bioc\R\bin\R.exe CMD build --keep-empty-dirs --no-resave-data genbankr
###
##############################################################################
##############################################################################


* checking for file 'genbankr/DESCRIPTION' ... OK
* preparing 'genbankr':
* checking DESCRIPTION meta-information ... OK
* installing the package to build vignettes
* creating vignettes ... OK
* checking for LF line-endings in source and make files and shell scripts
* checking for empty or unneeded directories
* building 'genbankr_1.20.0.tar.gz'