Back to Multiple platform build/check report for BioC 3.13
ABCDEF[G]HIJKLMNOPQRSTUVWXYZ

This page was generated on 2021-09-22 15:05:15 -0400 (Wed, 22 Sep 2021).

BUILD BIN results for genbankr on tokay2

To the developers/maintainers of the genbankr package:
- Please allow up to 24 hours (and sometimes 48 hours) for your latest push to git@git.bioconductor.org:packages/genbankr.git to
reflect on this report. See How and When does the builder pull? When will my changes propagate? here for more information.
- Make sure to use the following settings in order to reproduce any error or warning you see on this page.

raw results

Package 706/2041HostnameOS / ArchINSTALLBUILDCHECKBUILD BIN
genbankr 1.20.0  (landing page)
Gabriel Becker
Snapshot Date: 2021-09-21 04:50:12 -0400 (Tue, 21 Sep 2021)
git_url: https://git.bioconductor.org/packages/genbankr
git_branch: RELEASE_3_13
git_last_commit: 968c425
git_last_commit_date: 2021-05-19 12:19:55 -0400 (Wed, 19 May 2021)
nebbiolo1Linux (Ubuntu 20.04.2 LTS) / x86_64  OK    OK    OK  UNNEEDED, same version is already published
tokay2Windows Server 2012 R2 Standard / x64  OK    OK    OK    OK  UNNEEDED, same version is already published
machv2macOS 10.14.6 Mojave / x86_64  OK    OK    OK    OK  UNNEEDED, same version is already published

Summary

Package: genbankr
Version: 1.20.0
Command: rm -rf genbankr.buildbin-libdir && mkdir genbankr.buildbin-libdir && C:\Users\biocbuild\bbs-3.13-bioc\R\bin\R.exe CMD INSTALL --merge-multiarch --build --library=genbankr.buildbin-libdir genbankr_1.20.0.tar.gz
StartedAt: 2021-09-22 09:09:56 -0400 (Wed, 22 Sep 2021)
EndedAt: 2021-09-22 09:11:16 -0400 (Wed, 22 Sep 2021)
EllapsedTime: 80.1 seconds
RetCode: 0
Status:   OK  
PackageFile: genbankr_1.20.0.zip
PackageFileSize: 1.07 MiB

Command output

##############################################################################
##############################################################################
###
### Running command:
###
###   rm -rf genbankr.buildbin-libdir && mkdir genbankr.buildbin-libdir && C:\Users\biocbuild\bbs-3.13-bioc\R\bin\R.exe CMD INSTALL --merge-multiarch --build --library=genbankr.buildbin-libdir genbankr_1.20.0.tar.gz
###
##############################################################################
##############################################################################



install for i386

* installing *source* package 'genbankr' ...
** using staged installation
** R
** inst
** byte-compile and prepare package for lazy loading
** help
*** installing help indices
  converting help for package 'genbankr'
    finding HTML links ... done
    GBAccession                             html  
    GenBank-classes                         html  
    api-methods                             html  
    gbk-api                                 html  
    gbkfile                                 html  
    import                                  html  
    intergenic                              html  
    make_gbobjs                             html  
    otherFeatures                           html  
    parseGenBank                            html  
    readGenBank                             html  
    txdb                                    html  
    variants                                html  
** building package indices
** installing vignettes
** testing if installed package can be loaded from temporary location
** testing if installed package can be loaded from final location
** testing if installed package keeps a record of temporary installation path

install for x64

* installing *source* package 'genbankr' ...
** testing if installed package can be loaded
* MD5 sums
packaged installation of 'genbankr' as genbankr_1.20.0.zip
* DONE (genbankr)