Back to Multiple platform build/check report for BioC 3.13
ABCDEF[G]HIJKLMNOPQRSTUVWXYZ

This page was generated on 2021-09-24 15:06:41 -0400 (Fri, 24 Sep 2021).

BUILD results for genbankr on machv2

To the developers/maintainers of the genbankr package:
- Please allow up to 24 hours (and sometimes 48 hours) for your latest push to git@git.bioconductor.org:packages/genbankr.git to
reflect on this report. See How and When does the builder pull? When will my changes propagate? here for more information.
- Make sure to use the following settings in order to reproduce any error or warning you see on this page.

raw results

Package 706/2041HostnameOS / ArchINSTALLBUILDCHECKBUILD BIN
genbankr 1.20.0  (landing page)
Gabriel Becker
Snapshot Date: 2021-09-23 04:50:12 -0400 (Thu, 23 Sep 2021)
git_url: https://git.bioconductor.org/packages/genbankr
git_branch: RELEASE_3_13
git_last_commit: 968c425
git_last_commit_date: 2021-05-19 12:19:55 -0400 (Wed, 19 May 2021)
nebbiolo1Linux (Ubuntu 20.04.2 LTS) / x86_64  OK    OK    OK  UNNEEDED, same version is already published
tokay2Windows Server 2012 R2 Standard / x64  OK    OK    OK    OK  UNNEEDED, same version is already published
machv2macOS 10.14.6 Mojave / x86_64  OK    OK    OK    OK  UNNEEDED, same version is already published

Summary

Package: genbankr
Version: 1.20.0
Command: /Library/Frameworks/R.framework/Versions/Current/Resources/bin/R CMD build --keep-empty-dirs --no-resave-data genbankr
StartedAt: 2021-09-23 12:10:57 -0400 (Thu, 23 Sep 2021)
EndedAt: 2021-09-23 12:12:35 -0400 (Thu, 23 Sep 2021)
EllapsedTime: 98.4 seconds
RetCode: 0
Status:   OK  
PackageFile: genbankr_1.20.0.tar.gz
PackageFileSize: 560.6 KiB

Command output

##############################################################################
##############################################################################
###
### Running command:
###
###   /Library/Frameworks/R.framework/Versions/Current/Resources/bin/R CMD build --keep-empty-dirs --no-resave-data genbankr
###
##############################################################################
##############################################################################


* checking for file ‘genbankr/DESCRIPTION’ ... OK
* preparing ‘genbankr’:
* checking DESCRIPTION meta-information ... OK
* installing the package to build vignettes
* creating vignettes ... OK
* checking for LF line-endings in source and make files and shell scripts
* checking for empty or unneeded directories
* building ‘genbankr_1.20.0.tar.gz’