Back to Multiple platform build/check report for BioC 3.13
ABCDEF[G]HIJKLMNOPQRSTUVWXYZ

This page was generated on 2021-09-24 15:06:10 -0400 (Fri, 24 Sep 2021).

BUILD results for gcapc on tokay2

To the developers/maintainers of the gcapc package:
- Please allow up to 24 hours (and sometimes 48 hours) for your latest push to git@git.bioconductor.org:packages/gcapc.git to
reflect on this report. See How and When does the builder pull? When will my changes propagate? here for more information.
- Make sure to use the following settings in order to reproduce any error or warning you see on this page.

raw results

Package 693/2041HostnameOS / ArchINSTALLBUILDCHECKBUILD BIN
gcapc 1.16.0  (landing page)
Mingxiang Teng
Snapshot Date: 2021-09-23 04:50:12 -0400 (Thu, 23 Sep 2021)
git_url: https://git.bioconductor.org/packages/gcapc
git_branch: RELEASE_3_13
git_last_commit: 38a05b9
git_last_commit_date: 2021-05-19 12:24:48 -0400 (Wed, 19 May 2021)
nebbiolo1Linux (Ubuntu 20.04.2 LTS) / x86_64  OK    OK    OK  UNNEEDED, same version is already published
tokay2Windows Server 2012 R2 Standard / x64  OK    OK    OK    OK  UNNEEDED, same version is already published
machv2macOS 10.14.6 Mojave / x86_64  OK    OK    OK    OK  UNNEEDED, same version is already published

Summary

Package: gcapc
Version: 1.16.0
Command: chmod a+r gcapc -R && C:\Users\biocbuild\bbs-3.13-bioc\R\bin\R.exe CMD build --keep-empty-dirs --no-resave-data gcapc
StartedAt: 2021-09-23 13:50:07 -0400 (Thu, 23 Sep 2021)
EndedAt: 2021-09-23 13:54:36 -0400 (Thu, 23 Sep 2021)
EllapsedTime: 269.7 seconds
RetCode: 0
Status:   OK  
PackageFile: gcapc_1.16.0.tar.gz
PackageFileSize: 3.599 MiB

Command output

##############################################################################
##############################################################################
###
### Running command:
###
###   chmod a+r gcapc -R && C:\Users\biocbuild\bbs-3.13-bioc\R\bin\R.exe CMD build --keep-empty-dirs --no-resave-data gcapc
###
##############################################################################
##############################################################################


* checking for file 'gcapc/DESCRIPTION' ... OK
* preparing 'gcapc':
* checking DESCRIPTION meta-information ... OK
* installing the package to build vignettes
* creating vignettes ... OK
* checking for LF line-endings in source and make files and shell scripts
* checking for empty or unneeded directories
Omitted 'LazyData' from DESCRIPTION
* building 'gcapc_1.16.0.tar.gz'