Back to Multiple platform build/check report for BioC 3.13
ABCDEF[G]HIJKLMNOPQRSTUVWXYZ

This page was generated on 2021-08-02 15:05:42 -0400 (Mon, 02 Aug 2021).

INSTALL results for gaggle on machv2

To the developers/maintainers of the gaggle package:
- Please allow up to 24 hours (and sometimes 48 hours) for your latest push to git@git.bioconductor.org:packages/gaggle.git to
reflect on this report. See How and When does the builder pull? When will my changes propagate? here for more information.
- Make sure to use the following settings in order to reproduce any error or warning you see on this page.

raw results

Package 686/2041HostnameOS / ArchINSTALLBUILDCHECKBUILD BIN
gaggle 1.60.0  (landing page)
Christopher Bare
Snapshot Date: 2021-08-01 04:50:10 -0400 (Sun, 01 Aug 2021)
URL: https://git.bioconductor.org/packages/gaggle
Branch: RELEASE_3_13
Last Commit: 9d24cfd
Last Changed Date: 2021-05-19 11:37:37 -0400 (Wed, 19 May 2021)
nebbiolo1Linux (Ubuntu 20.04.2 LTS) / x86_64  OK    OK    OK  UNNEEDED, same version is already published
tokay2Windows Server 2012 R2 Standard / x64  OK    OK    OK    OK  UNNEEDED, same version is already published
machv2macOS 10.14.6 Mojave / x86_64  OK    OK    OK    OK  UNNEEDED, same version is already published

Summary

Package: gaggle
Version: 1.60.0
Command: /Library/Frameworks/R.framework/Versions/Current/Resources/bin/R CMD INSTALL gaggle
StartedAt: 2021-08-01 08:31:02 -0400 (Sun, 01 Aug 2021)
EndedAt: 2021-08-01 08:31:39 -0400 (Sun, 01 Aug 2021)
EllapsedTime: 37.2 seconds
RetCode: 0
Status:   OK  

Command output

##############################################################################
##############################################################################
###
### Running command:
###
###   /Library/Frameworks/R.framework/Versions/Current/Resources/bin/R CMD INSTALL gaggle
###
##############################################################################
##############################################################################


* installing to library ‘/Library/Frameworks/R.framework/Versions/4.1/Resources/library’
* installing *source* package ‘gaggle’ ...
** using staged installation
** R
** inst
** byte-compile and prepare package for lazy loading
** help
*** installing help indices
** building package indices
** installing vignettes
** testing if installed package can be loaded from temporary location

onLoad -- libname: /Library/Frameworks/R.framework/Versions/4.1/Resources/library/00LOCK-gaggle/00new pkgname: gaggle 
path to jar: /Library/Frameworks/R.framework/Versions/4.1/Resources/library/00LOCK-gaggle/00new/gaggle/jars/gaggleRShell.jar 
      script:  gaggle.R $Revision: 4499 $   $Date: 2010-08-10 17:15:03 -0700 (Tue, 10 Aug 2010) $ 
  os version:  Mac OS X 
 jvm version:  14 

   You are using the wrong version of Java.
   Please see http://gaggle.systemsbiology.org/docs/html/java

** testing if installed package can be loaded from final location

onLoad -- libname: /Library/Frameworks/R.framework/Versions/4.1/Resources/library pkgname: gaggle 
path to jar: /Library/Frameworks/R.framework/Versions/4.1/Resources/library/gaggle/jars/gaggleRShell.jar 
      script:  gaggle.R $Revision: 4499 $   $Date: 2010-08-10 17:15:03 -0700 (Tue, 10 Aug 2010) $ 
  os version:  Mac OS X 
 jvm version:  14 

   You are using the wrong version of Java.
   Please see http://gaggle.systemsbiology.org/docs/html/java

** testing if installed package keeps a record of temporary installation path
* DONE (gaggle)