Back to Multiple platform build/check report for BioC 3.13
ABCDEF[G]HIJKLMNOPQRSTUVWXYZ

This page was generated on 2021-07-21 15:05:50 -0400 (Wed, 21 Jul 2021).

BUILD results for gaggle on machv2

To the developers/maintainers of the gaggle package:
- Please allow up to 24 hours (and sometimes 48 hours) for your latest push to git@git.bioconductor.org:packages/gaggle.git to
reflect on this report. See How and When does the builder pull? When will my changes propagate? here for more information.
- Make sure to use the following settings in order to reproduce any error or warning you see on this page.

raw results

Package 686/2041HostnameOS / ArchINSTALLBUILDCHECKBUILD BIN
gaggle 1.60.0  (landing page)
Christopher Bare
Snapshot Date: 2021-07-20 04:50:13 -0400 (Tue, 20 Jul 2021)
URL: https://git.bioconductor.org/packages/gaggle
Branch: RELEASE_3_13
Last Commit: 9d24cfd
Last Changed Date: 2021-05-19 11:37:37 -0400 (Wed, 19 May 2021)
nebbiolo1Linux (Ubuntu 20.04.2 LTS) / x86_64  OK    OK    OK  UNNEEDED, same version is already published
tokay2Windows Server 2012 R2 Standard / x64  OK    OK    OK    OK  UNNEEDED, same version is already published
machv2macOS 10.14.6 Mojave / x86_64  OK    OK    OK    OK  UNNEEDED, same version is already published

Summary

Package: gaggle
Version: 1.60.0
Command: /Library/Frameworks/R.framework/Versions/Current/Resources/bin/R CMD build --keep-empty-dirs --no-resave-data gaggle
StartedAt: 2021-07-20 11:57:35 -0400 (Tue, 20 Jul 2021)
EndedAt: 2021-07-20 11:58:06 -0400 (Tue, 20 Jul 2021)
EllapsedTime: 31.3 seconds
RetCode: 0
Status:   OK  
PackageFile: gaggle_1.60.0.tar.gz
PackageFileSize: 307.4 KiB

Command output

##############################################################################
##############################################################################
###
### Running command:
###
###   /Library/Frameworks/R.framework/Versions/Current/Resources/bin/R CMD build --keep-empty-dirs --no-resave-data gaggle
###
##############################################################################
##############################################################################


* checking for file ‘gaggle/DESCRIPTION’ ... OK
* preparing ‘gaggle’:
* checking DESCRIPTION meta-information ... OK
* installing the package to build vignettes
* creating vignettes ... OK
* checking for LF line-endings in source and make files and shell scripts
* checking for empty or unneeded directories
* building ‘gaggle_1.60.0.tar.gz’