Index of /checkResults/release/bioc-LATEST/gaga/raw-results/nebbiolo1

[ICO]NameLast modifiedSizeDescription

[DIR]Parent Directory  -  
[TXT]buildsrc-out.txt20-Jul-2024 06:37 824  
[   ]buildsrc-summary.dcf20-Jul-2024 06:37 408  
[TXT]checksrc-out.txt20-Jul-2024 06:37 6.9K 
[   ]checksrc-summary.dcf20-Jul-2024 06:37 401  
[TXT]install-out.txt20-Jul-2024 06:37 2.5K 
[   ]install-summary.dcf20-Jul-2024 06:37 253