Index of /checkResults/release/bioc-LATEST/gaga/raw-results/merida1

[ICO]NameLast modifiedSizeDescription

[DIR]Parent Directory  -  
[TXT]buildbin-out.txt20-Jul-2024 06:39 6.8K 
[   ]buildbin-summary.dcf20-Jul-2024 06:39 510  
[TXT]buildsrc-out.txt20-Jul-2024 06:39 834  
[   ]buildsrc-summary.dcf20-Jul-2024 06:39 418  
[TXT]checksrc-out.txt20-Jul-2024 06:39 7.3K 
[   ]checksrc-summary.dcf20-Jul-2024 06:39 438  
[TXT]install-out.txt20-Jul-2024 06:39 5.0K 
[   ]install-summary.dcf20-Jul-2024 06:39 263