Back to Multiple platform build/check report for BioC 3.13
ABCDE[F]GHIJKLMNOPQRSTUVWXYZ

This page was generated on 2021-07-30 15:06:23 -0400 (Fri, 30 Jul 2021).

INSTALL results for flowWorkspace on machv2

To the developers/maintainers of the flowWorkspace package:
- Please allow up to 24 hours (and sometimes 48 hours) for your latest push to git@git.bioconductor.org:packages/flowWorkspace.git to
reflect on this report. See How and When does the builder pull? When will my changes propagate? here for more information.
- Make sure to use the following settings in order to reproduce any error or warning you see on this page.

raw results

Package 669/2041HostnameOS / ArchINSTALLBUILDCHECKBUILD BIN
flowWorkspace 4.4.0  (landing page)
Greg Finak , Mike Jiang
Snapshot Date: 2021-07-29 04:50:02 -0400 (Thu, 29 Jul 2021)
URL: https://git.bioconductor.org/packages/flowWorkspace
Branch: RELEASE_3_13
Last Commit: 8b26faf
Last Changed Date: 2021-05-19 11:48:41 -0400 (Wed, 19 May 2021)
nebbiolo1Linux (Ubuntu 20.04.2 LTS) / x86_64  OK    OK    WARNINGS  UNNEEDED, same version is already published
tokay2Windows Server 2012 R2 Standard / x64  OK    OK    WARNINGS    OK  UNNEEDED, same version is already published
machv2macOS 10.14.6 Mojave / x86_64  OK    OK    WARNINGS    OK  UNNEEDED, same version is already published

Summary

Package: flowWorkspace
Version: 4.4.0
Command: /Library/Frameworks/R.framework/Versions/Current/Resources/bin/R CMD INSTALL flowWorkspace
StartedAt: 2021-07-29 08:56:43 -0400 (Thu, 29 Jul 2021)
EndedAt: 2021-07-29 09:00:04 -0400 (Thu, 29 Jul 2021)
EllapsedTime: 200.5 seconds
RetCode: 0
Status:   OK  

Command output

##############################################################################
##############################################################################
###
### Running command:
###
###   /Library/Frameworks/R.framework/Versions/Current/Resources/bin/R CMD INSTALL flowWorkspace
###
##############################################################################
##############################################################################


* installing to library ‘/Library/Frameworks/R.framework/Versions/4.1/Resources/library’
* installing *source* package ‘flowWorkspace’ ...
** using staged installation
** libs
clang++ -mmacosx-version-min=10.13 -std=gnu++11 -I"/Library/Frameworks/R.framework/Resources/include" -DNDEBUG -DROUT -I../inst/include -DBOOST_NO_AUTO_PTR  -I'/Library/Frameworks/R.framework/Versions/4.1/Resources/library/Rcpp/include' -I'/Library/Frameworks/R.framework/Versions/4.1/Resources/library/BH/include' -I'/Library/Frameworks/R.framework/Versions/4.1/Resources/library/RProtoBufLib/include' -I'/Library/Frameworks/R.framework/Versions/4.1/Resources/library/cytolib/include' -I'/Library/Frameworks/R.framework/Versions/4.1/Resources/library/Rhdf5lib/include' -I'/Library/Frameworks/R.framework/Versions/4.1/Resources/library/RcppArmadillo/include' -I'/Library/Frameworks/R.framework/Versions/4.1/Resources/library/RcppParallel/include' -I/usr/local/include   -fPIC  -Wall -g -O2  -c R_API.cpp -o R_API.o
In file included from R_API.cpp:9:
In file included from /Library/Frameworks/R.framework/Versions/4.1/Resources/library/cytolib/include/cytolib/GatingSet.hpp:14:
In file included from /Library/Frameworks/R.framework/Versions/4.1/Resources/library/cytolib/include/cytolib/GatingHierarchy.hpp:17:
In file included from /Library/Frameworks/R.framework/Versions/4.1/Resources/library/cytolib/include/cytolib/populationTree.hpp:14:
In file included from /Library/Frameworks/R.framework/Versions/4.1/Resources/library/BH/include/boost/graph/adjacency_list.hpp:255:
In file included from /Library/Frameworks/R.framework/Versions/4.1/Resources/library/BH/include/boost/graph/detail/adjacency_list.hpp:37:
In file included from /Library/Frameworks/R.framework/Versions/4.1/Resources/library/BH/include/boost/graph/adjacency_iterator.hpp:13:
/Library/Frameworks/R.framework/Versions/4.1/Resources/library/BH/include/boost/detail/iterator.hpp:13:1: warning: This header is deprecated. Use <iterator> instead. [-W#pragma-messages]
BOOST_HEADER_DEPRECATED("<iterator>")
^
/Library/Frameworks/R.framework/Versions/4.1/Resources/library/BH/include/boost/config/header_deprecated.hpp:23:37: note: expanded from macro 'BOOST_HEADER_DEPRECATED'
# define BOOST_HEADER_DEPRECATED(a) BOOST_PRAGMA_MESSAGE("This header is deprecated. Use " a " instead.")
                                    ^
/Library/Frameworks/R.framework/Versions/4.1/Resources/library/BH/include/boost/config/pragma_message.hpp:24:34: note: expanded from macro 'BOOST_PRAGMA_MESSAGE'
# define BOOST_PRAGMA_MESSAGE(x) _Pragma(BOOST_STRINGIZE(message(x)))
                                 ^
<scratch space>:108:2: note: expanded from here
 message("This header is deprecated. Use " "<iterator>" " instead.")
 ^
1 warning generated.
clang++ -mmacosx-version-min=10.13 -std=gnu++11 -I"/Library/Frameworks/R.framework/Resources/include" -DNDEBUG -DROUT -I../inst/include -DBOOST_NO_AUTO_PTR  -I'/Library/Frameworks/R.framework/Versions/4.1/Resources/library/Rcpp/include' -I'/Library/Frameworks/R.framework/Versions/4.1/Resources/library/BH/include' -I'/Library/Frameworks/R.framework/Versions/4.1/Resources/library/RProtoBufLib/include' -I'/Library/Frameworks/R.framework/Versions/4.1/Resources/library/cytolib/include' -I'/Library/Frameworks/R.framework/Versions/4.1/Resources/library/Rhdf5lib/include' -I'/Library/Frameworks/R.framework/Versions/4.1/Resources/library/RcppArmadillo/include' -I'/Library/Frameworks/R.framework/Versions/4.1/Resources/library/RcppParallel/include' -I/usr/local/include   -fPIC  -Wall -g -O2  -c R_GatingHierarchy.cpp -o R_GatingHierarchy.o
In file included from R_GatingHierarchy.cpp:17:
In file included from /Library/Frameworks/R.framework/Versions/4.1/Resources/library/cytolib/include/cytolib/GatingSet.hpp:14:
In file included from /Library/Frameworks/R.framework/Versions/4.1/Resources/library/cytolib/include/cytolib/GatingHierarchy.hpp:17:
In file included from /Library/Frameworks/R.framework/Versions/4.1/Resources/library/cytolib/include/cytolib/populationTree.hpp:14:
In file included from /Library/Frameworks/R.framework/Versions/4.1/Resources/library/BH/include/boost/graph/adjacency_list.hpp:255:
In file included from /Library/Frameworks/R.framework/Versions/4.1/Resources/library/BH/include/boost/graph/detail/adjacency_list.hpp:37:
In file included from /Library/Frameworks/R.framework/Versions/4.1/Resources/library/BH/include/boost/graph/adjacency_iterator.hpp:13:
/Library/Frameworks/R.framework/Versions/4.1/Resources/library/BH/include/boost/detail/iterator.hpp:13:1: warning: This header is deprecated. Use <iterator> instead. [-W#pragma-messages]
BOOST_HEADER_DEPRECATED("<iterator>")
^
/Library/Frameworks/R.framework/Versions/4.1/Resources/library/BH/include/boost/config/header_deprecated.hpp:23:37: note: expanded from macro 'BOOST_HEADER_DEPRECATED'
# define BOOST_HEADER_DEPRECATED(a) BOOST_PRAGMA_MESSAGE("This header is deprecated. Use " a " instead.")
                                    ^
/Library/Frameworks/R.framework/Versions/4.1/Resources/library/BH/include/boost/config/pragma_message.hpp:24:34: note: expanded from macro 'BOOST_PRAGMA_MESSAGE'
# define BOOST_PRAGMA_MESSAGE(x) _Pragma(BOOST_STRINGIZE(message(x)))
                                 ^
<scratch space>:108:2: note: expanded from here
 message("This header is deprecated. Use " "<iterator>" " instead.")
 ^
1 warning generated.
clang++ -mmacosx-version-min=10.13 -std=gnu++11 -I"/Library/Frameworks/R.framework/Resources/include" -DNDEBUG -DROUT -I../inst/include -DBOOST_NO_AUTO_PTR  -I'/Library/Frameworks/R.framework/Versions/4.1/Resources/library/Rcpp/include' -I'/Library/Frameworks/R.framework/Versions/4.1/Resources/library/BH/include' -I'/Library/Frameworks/R.framework/Versions/4.1/Resources/library/RProtoBufLib/include' -I'/Library/Frameworks/R.framework/Versions/4.1/Resources/library/cytolib/include' -I'/Library/Frameworks/R.framework/Versions/4.1/Resources/library/Rhdf5lib/include' -I'/Library/Frameworks/R.framework/Versions/4.1/Resources/library/RcppArmadillo/include' -I'/Library/Frameworks/R.framework/Versions/4.1/Resources/library/RcppParallel/include' -I/usr/local/include   -fPIC  -Wall -g -O2  -c R_GatingSet.cpp -o R_GatingSet.o
In file included from R_GatingSet.cpp:10:
In file included from ../inst/include/flowWorkspace.h:5:
In file included from /Library/Frameworks/R.framework/Versions/4.1/Resources/library/cytolib/include/cytolib/GatingSet.hpp:14:
In file included from /Library/Frameworks/R.framework/Versions/4.1/Resources/library/cytolib/include/cytolib/GatingHierarchy.hpp:17:
In file included from /Library/Frameworks/R.framework/Versions/4.1/Resources/library/cytolib/include/cytolib/populationTree.hpp:14:
In file included from /Library/Frameworks/R.framework/Versions/4.1/Resources/library/BH/include/boost/graph/adjacency_list.hpp:255:
In file included from /Library/Frameworks/R.framework/Versions/4.1/Resources/library/BH/include/boost/graph/detail/adjacency_list.hpp:37:
In file included from /Library/Frameworks/R.framework/Versions/4.1/Resources/library/BH/include/boost/graph/adjacency_iterator.hpp:13:
/Library/Frameworks/R.framework/Versions/4.1/Resources/library/BH/include/boost/detail/iterator.hpp:13:1: warning: This header is deprecated. Use <iterator> instead. [-W#pragma-messages]
BOOST_HEADER_DEPRECATED("<iterator>")
^
/Library/Frameworks/R.framework/Versions/4.1/Resources/library/BH/include/boost/config/header_deprecated.hpp:23:37: note: expanded from macro 'BOOST_HEADER_DEPRECATED'
# define BOOST_HEADER_DEPRECATED(a) BOOST_PRAGMA_MESSAGE("This header is deprecated. Use " a " instead.")
                                    ^
/Library/Frameworks/R.framework/Versions/4.1/Resources/library/BH/include/boost/config/pragma_message.hpp:24:34: note: expanded from macro 'BOOST_PRAGMA_MESSAGE'
# define BOOST_PRAGMA_MESSAGE(x) _Pragma(BOOST_STRINGIZE(message(x)))
                                 ^
<scratch space>:108:2: note: expanded from here
 message("This header is deprecated. Use " "<iterator>" " instead.")
 ^
1 warning generated.
clang++ -mmacosx-version-min=10.13 -std=gnu++11 -I"/Library/Frameworks/R.framework/Resources/include" -DNDEBUG -DROUT -I../inst/include -DBOOST_NO_AUTO_PTR  -I'/Library/Frameworks/R.framework/Versions/4.1/Resources/library/Rcpp/include' -I'/Library/Frameworks/R.framework/Versions/4.1/Resources/library/BH/include' -I'/Library/Frameworks/R.framework/Versions/4.1/Resources/library/RProtoBufLib/include' -I'/Library/Frameworks/R.framework/Versions/4.1/Resources/library/cytolib/include' -I'/Library/Frameworks/R.framework/Versions/4.1/Resources/library/Rhdf5lib/include' -I'/Library/Frameworks/R.framework/Versions/4.1/Resources/library/RcppArmadillo/include' -I'/Library/Frameworks/R.framework/Versions/4.1/Resources/library/RcppParallel/include' -I/usr/local/include   -fPIC  -Wall -g -O2  -c RcppExports.cpp -o RcppExports.o
In file included from RcppExports.cpp:4:
In file included from ./../inst/include/flowWorkspace.h:5:
In file included from /Library/Frameworks/R.framework/Versions/4.1/Resources/library/cytolib/include/cytolib/GatingSet.hpp:14:
In file included from /Library/Frameworks/R.framework/Versions/4.1/Resources/library/cytolib/include/cytolib/GatingHierarchy.hpp:17:
In file included from /Library/Frameworks/R.framework/Versions/4.1/Resources/library/cytolib/include/cytolib/populationTree.hpp:14:
In file included from /Library/Frameworks/R.framework/Versions/4.1/Resources/library/BH/include/boost/graph/adjacency_list.hpp:255:
In file included from /Library/Frameworks/R.framework/Versions/4.1/Resources/library/BH/include/boost/graph/detail/adjacency_list.hpp:37:
In file included from /Library/Frameworks/R.framework/Versions/4.1/Resources/library/BH/include/boost/graph/adjacency_iterator.hpp:13:
/Library/Frameworks/R.framework/Versions/4.1/Resources/library/BH/include/boost/detail/iterator.hpp:13:1: warning: This header is deprecated. Use <iterator> instead. [-W#pragma-messages]
BOOST_HEADER_DEPRECATED("<iterator>")
^
/Library/Frameworks/R.framework/Versions/4.1/Resources/library/BH/include/boost/config/header_deprecated.hpp:23:37: note: expanded from macro 'BOOST_HEADER_DEPRECATED'
# define BOOST_HEADER_DEPRECATED(a) BOOST_PRAGMA_MESSAGE("This header is deprecated. Use " a " instead.")
                                    ^
/Library/Frameworks/R.framework/Versions/4.1/Resources/library/BH/include/boost/config/pragma_message.hpp:24:34: note: expanded from macro 'BOOST_PRAGMA_MESSAGE'
# define BOOST_PRAGMA_MESSAGE(x) _Pragma(BOOST_STRINGIZE(message(x)))
                                 ^
<scratch space>:108:2: note: expanded from here
 message("This header is deprecated. Use " "<iterator>" " instead.")
 ^
In file included from RcppExports.cpp:4:
In file included from ./../inst/include/flowWorkspace.h:6:
In file included from ../inst/include/flowWorkspace/pairVectorRcppWrap.h:15:
In file included from /Library/Frameworks/R.framework/Versions/4.1/Resources/library/RcppArmadillo/include/RcppArmadillo.h:34:
In file included from /Library/Frameworks/R.framework/Versions/4.1/Resources/library/Rcpp/include/Rcpp.h:46:
/Library/Frameworks/R.framework/Versions/4.1/Resources/library/Rcpp/include/Rcpp/XPtr.h:30:5: warning: delete called on non-final 'cytolib::CytoFrameView' that has virtual functions but non-virtual destructor [-Wdelete-non-virtual-dtor]
    delete obj;
    ^
/Library/Frameworks/R.framework/Versions/4.1/Resources/library/Rcpp/include/Rcpp/XPtr.h:53:26: note: in instantiation of function template specialization 'Rcpp::standard_delete_finalizer<cytolib::CytoFrameView>' requested here
    void Finalizer(T*) = standard_delete_finalizer<T>,
                         ^
2 warnings generated.
clang++ -mmacosx-version-min=10.13 -std=gnu++11 -I"/Library/Frameworks/R.framework/Resources/include" -DNDEBUG -DROUT -I../inst/include -DBOOST_NO_AUTO_PTR  -I'/Library/Frameworks/R.framework/Versions/4.1/Resources/library/Rcpp/include' -I'/Library/Frameworks/R.framework/Versions/4.1/Resources/library/BH/include' -I'/Library/Frameworks/R.framework/Versions/4.1/Resources/library/RProtoBufLib/include' -I'/Library/Frameworks/R.framework/Versions/4.1/Resources/library/cytolib/include' -I'/Library/Frameworks/R.framework/Versions/4.1/Resources/library/Rhdf5lib/include' -I'/Library/Frameworks/R.framework/Versions/4.1/Resources/library/RcppArmadillo/include' -I'/Library/Frameworks/R.framework/Versions/4.1/Resources/library/RcppParallel/include' -I/usr/local/include   -fPIC  -Wall -g -O2  -c cytoctxAPI.cpp -o cytoctxAPI.o
In file included from cytoctxAPI.cpp:1:
In file included from ../inst/include/flowWorkspace/pairVectorRcppWrap.h:12:
In file included from /Library/Frameworks/R.framework/Versions/4.1/Resources/library/cytolib/include/cytolib/GatingSet.hpp:14:
In file included from /Library/Frameworks/R.framework/Versions/4.1/Resources/library/cytolib/include/cytolib/GatingHierarchy.hpp:17:
In file included from /Library/Frameworks/R.framework/Versions/4.1/Resources/library/cytolib/include/cytolib/populationTree.hpp:14:
In file included from /Library/Frameworks/R.framework/Versions/4.1/Resources/library/BH/include/boost/graph/adjacency_list.hpp:255:
In file included from /Library/Frameworks/R.framework/Versions/4.1/Resources/library/BH/include/boost/graph/detail/adjacency_list.hpp:37:
In file included from /Library/Frameworks/R.framework/Versions/4.1/Resources/library/BH/include/boost/graph/adjacency_iterator.hpp:13:
/Library/Frameworks/R.framework/Versions/4.1/Resources/library/BH/include/boost/detail/iterator.hpp:13:1: warning: This header is deprecated. Use <iterator> instead. [-W#pragma-messages]
BOOST_HEADER_DEPRECATED("<iterator>")
^
/Library/Frameworks/R.framework/Versions/4.1/Resources/library/BH/include/boost/config/header_deprecated.hpp:23:37: note: expanded from macro 'BOOST_HEADER_DEPRECATED'
# define BOOST_HEADER_DEPRECATED(a) BOOST_PRAGMA_MESSAGE("This header is deprecated. Use " a " instead.")
                                    ^
/Library/Frameworks/R.framework/Versions/4.1/Resources/library/BH/include/boost/config/pragma_message.hpp:24:34: note: expanded from macro 'BOOST_PRAGMA_MESSAGE'
# define BOOST_PRAGMA_MESSAGE(x) _Pragma(BOOST_STRINGIZE(message(x)))
                                 ^
<scratch space>:108:2: note: expanded from here
 message("This header is deprecated. Use " "<iterator>" " instead.")
 ^
1 warning generated.
clang++ -mmacosx-version-min=10.13 -std=gnu++11 -I"/Library/Frameworks/R.framework/Resources/include" -DNDEBUG -DROUT -I../inst/include -DBOOST_NO_AUTO_PTR  -I'/Library/Frameworks/R.framework/Versions/4.1/Resources/library/Rcpp/include' -I'/Library/Frameworks/R.framework/Versions/4.1/Resources/library/BH/include' -I'/Library/Frameworks/R.framework/Versions/4.1/Resources/library/RProtoBufLib/include' -I'/Library/Frameworks/R.framework/Versions/4.1/Resources/library/cytolib/include' -I'/Library/Frameworks/R.framework/Versions/4.1/Resources/library/Rhdf5lib/include' -I'/Library/Frameworks/R.framework/Versions/4.1/Resources/library/RcppArmadillo/include' -I'/Library/Frameworks/R.framework/Versions/4.1/Resources/library/RcppParallel/include' -I/usr/local/include   -fPIC  -Wall -g -O2  -c cytoframeAPI.cpp -o cytoframeAPI.o
In file included from cytoframeAPI.cpp:3:
In file included from ../inst/include/flowWorkspace/pairVectorRcppWrap.h:12:
In file included from /Library/Frameworks/R.framework/Versions/4.1/Resources/library/cytolib/include/cytolib/GatingSet.hpp:14:
In file included from /Library/Frameworks/R.framework/Versions/4.1/Resources/library/cytolib/include/cytolib/GatingHierarchy.hpp:17:
In file included from /Library/Frameworks/R.framework/Versions/4.1/Resources/library/cytolib/include/cytolib/populationTree.hpp:14:
In file included from /Library/Frameworks/R.framework/Versions/4.1/Resources/library/BH/include/boost/graph/adjacency_list.hpp:255:
In file included from /Library/Frameworks/R.framework/Versions/4.1/Resources/library/BH/include/boost/graph/detail/adjacency_list.hpp:37:
In file included from /Library/Frameworks/R.framework/Versions/4.1/Resources/library/BH/include/boost/graph/adjacency_iterator.hpp:13:
/Library/Frameworks/R.framework/Versions/4.1/Resources/library/BH/include/boost/detail/iterator.hpp:13:1: warning: This header is deprecated. Use <iterator> instead. [-W#pragma-messages]
BOOST_HEADER_DEPRECATED("<iterator>")
^
/Library/Frameworks/R.framework/Versions/4.1/Resources/library/BH/include/boost/config/header_deprecated.hpp:23:37: note: expanded from macro 'BOOST_HEADER_DEPRECATED'
# define BOOST_HEADER_DEPRECATED(a) BOOST_PRAGMA_MESSAGE("This header is deprecated. Use " a " instead.")
                                    ^
/Library/Frameworks/R.framework/Versions/4.1/Resources/library/BH/include/boost/config/pragma_message.hpp:24:34: note: expanded from macro 'BOOST_PRAGMA_MESSAGE'
# define BOOST_PRAGMA_MESSAGE(x) _Pragma(BOOST_STRINGIZE(message(x)))
                                 ^
<scratch space>:116:2: note: expanded from here
 message("This header is deprecated. Use " "<iterator>" " instead.")
 ^
In file included from cytoframeAPI.cpp:3:
In file included from ../inst/include/flowWorkspace/pairVectorRcppWrap.h:15:
In file included from /Library/Frameworks/R.framework/Versions/4.1/Resources/library/RcppArmadillo/include/RcppArmadillo.h:34:
In file included from /Library/Frameworks/R.framework/Versions/4.1/Resources/library/Rcpp/include/Rcpp.h:46:
/Library/Frameworks/R.framework/Versions/4.1/Resources/library/Rcpp/include/Rcpp/XPtr.h:30:5: warning: delete called on non-final 'cytolib::CytoFrameView' that has virtual functions but non-virtual destructor [-Wdelete-non-virtual-dtor]
    delete obj;
    ^
/Library/Frameworks/R.framework/Versions/4.1/Resources/library/Rcpp/include/Rcpp/XPtr.h:53:26: note: in instantiation of function template specialization 'Rcpp::standard_delete_finalizer<cytolib::CytoFrameView>' requested here
    void Finalizer(T*) = standard_delete_finalizer<T>,
                         ^
2 warnings generated.
clang++ -mmacosx-version-min=10.13 -std=gnu++11 -I"/Library/Frameworks/R.framework/Resources/include" -DNDEBUG -DROUT -I../inst/include -DBOOST_NO_AUTO_PTR  -I'/Library/Frameworks/R.framework/Versions/4.1/Resources/library/Rcpp/include' -I'/Library/Frameworks/R.framework/Versions/4.1/Resources/library/BH/include' -I'/Library/Frameworks/R.framework/Versions/4.1/Resources/library/RProtoBufLib/include' -I'/Library/Frameworks/R.framework/Versions/4.1/Resources/library/cytolib/include' -I'/Library/Frameworks/R.framework/Versions/4.1/Resources/library/Rhdf5lib/include' -I'/Library/Frameworks/R.framework/Versions/4.1/Resources/library/RcppArmadillo/include' -I'/Library/Frameworks/R.framework/Versions/4.1/Resources/library/RcppParallel/include' -I/usr/local/include   -fPIC  -Wall -g -O2  -c cytosetAPI.cpp -o cytosetAPI.o
In file included from cytosetAPI.cpp:2:
In file included from ../inst/include/flowWorkspace/pairVectorRcppWrap.h:12:
In file included from /Library/Frameworks/R.framework/Versions/4.1/Resources/library/cytolib/include/cytolib/GatingSet.hpp:14:
In file included from /Library/Frameworks/R.framework/Versions/4.1/Resources/library/cytolib/include/cytolib/GatingHierarchy.hpp:17:
In file included from /Library/Frameworks/R.framework/Versions/4.1/Resources/library/cytolib/include/cytolib/populationTree.hpp:14:
In file included from /Library/Frameworks/R.framework/Versions/4.1/Resources/library/BH/include/boost/graph/adjacency_list.hpp:255:
In file included from /Library/Frameworks/R.framework/Versions/4.1/Resources/library/BH/include/boost/graph/detail/adjacency_list.hpp:37:
In file included from /Library/Frameworks/R.framework/Versions/4.1/Resources/library/BH/include/boost/graph/adjacency_iterator.hpp:13:
/Library/Frameworks/R.framework/Versions/4.1/Resources/library/BH/include/boost/detail/iterator.hpp:13:1: warning: This header is deprecated. Use <iterator> instead. [-W#pragma-messages]
BOOST_HEADER_DEPRECATED("<iterator>")
^
/Library/Frameworks/R.framework/Versions/4.1/Resources/library/BH/include/boost/config/header_deprecated.hpp:23:37: note: expanded from macro 'BOOST_HEADER_DEPRECATED'
# define BOOST_HEADER_DEPRECATED(a) BOOST_PRAGMA_MESSAGE("This header is deprecated. Use " a " instead.")
                                    ^
/Library/Frameworks/R.framework/Versions/4.1/Resources/library/BH/include/boost/config/pragma_message.hpp:24:34: note: expanded from macro 'BOOST_PRAGMA_MESSAGE'
# define BOOST_PRAGMA_MESSAGE(x) _Pragma(BOOST_STRINGIZE(message(x)))
                                 ^
<scratch space>:116:2: note: expanded from here
 message("This header is deprecated. Use " "<iterator>" " instead.")
 ^
In file included from cytosetAPI.cpp:2:
In file included from ../inst/include/flowWorkspace/pairVectorRcppWrap.h:15:
In file included from /Library/Frameworks/R.framework/Versions/4.1/Resources/library/RcppArmadillo/include/RcppArmadillo.h:34:
In file included from /Library/Frameworks/R.framework/Versions/4.1/Resources/library/Rcpp/include/Rcpp.h:46:
/Library/Frameworks/R.framework/Versions/4.1/Resources/library/Rcpp/include/Rcpp/XPtr.h:30:5: warning: delete called on non-final 'cytolib::CytoFrameView' that has virtual functions but non-virtual destructor [-Wdelete-non-virtual-dtor]
    delete obj;
    ^
/Library/Frameworks/R.framework/Versions/4.1/Resources/library/Rcpp/include/Rcpp/XPtr.h:53:26: note: in instantiation of function template specialization 'Rcpp::standard_delete_finalizer<cytolib::CytoFrameView>' requested here
    void Finalizer(T*) = standard_delete_finalizer<T>,
                         ^
2 warnings generated.
clang++ -mmacosx-version-min=10.13 -std=gnu++11 -I"/Library/Frameworks/R.framework/Resources/include" -DNDEBUG -DROUT -I../inst/include -DBOOST_NO_AUTO_PTR  -I'/Library/Frameworks/R.framework/Versions/4.1/Resources/library/Rcpp/include' -I'/Library/Frameworks/R.framework/Versions/4.1/Resources/library/BH/include' -I'/Library/Frameworks/R.framework/Versions/4.1/Resources/library/RProtoBufLib/include' -I'/Library/Frameworks/R.framework/Versions/4.1/Resources/library/cytolib/include' -I'/Library/Frameworks/R.framework/Versions/4.1/Resources/library/Rhdf5lib/include' -I'/Library/Frameworks/R.framework/Versions/4.1/Resources/library/RcppArmadillo/include' -I'/Library/Frameworks/R.framework/Versions/4.1/Resources/library/RcppParallel/include' -I/usr/local/include   -fPIC  -Wall -g -O2  -c getDescendants.cpp -o getDescendants.o
In file included from getDescendants.cpp:1:
In file included from /Library/Frameworks/R.framework/Versions/4.1/Resources/library/cytolib/include/cytolib/GatingSet.hpp:14:
In file included from /Library/Frameworks/R.framework/Versions/4.1/Resources/library/cytolib/include/cytolib/GatingHierarchy.hpp:17:
In file included from /Library/Frameworks/R.framework/Versions/4.1/Resources/library/cytolib/include/cytolib/populationTree.hpp:14:
In file included from /Library/Frameworks/R.framework/Versions/4.1/Resources/library/BH/include/boost/graph/adjacency_list.hpp:255:
In file included from /Library/Frameworks/R.framework/Versions/4.1/Resources/library/BH/include/boost/graph/detail/adjacency_list.hpp:37:
In file included from /Library/Frameworks/R.framework/Versions/4.1/Resources/library/BH/include/boost/graph/adjacency_iterator.hpp:13:
/Library/Frameworks/R.framework/Versions/4.1/Resources/library/BH/include/boost/detail/iterator.hpp:13:1: warning: This header is deprecated. Use <iterator> instead. [-W#pragma-messages]
BOOST_HEADER_DEPRECATED("<iterator>")
^
/Library/Frameworks/R.framework/Versions/4.1/Resources/library/BH/include/boost/config/header_deprecated.hpp:23:37: note: expanded from macro 'BOOST_HEADER_DEPRECATED'
# define BOOST_HEADER_DEPRECATED(a) BOOST_PRAGMA_MESSAGE("This header is deprecated. Use " a " instead.")
                                    ^
/Library/Frameworks/R.framework/Versions/4.1/Resources/library/BH/include/boost/config/pragma_message.hpp:24:34: note: expanded from macro 'BOOST_PRAGMA_MESSAGE'
# define BOOST_PRAGMA_MESSAGE(x) _Pragma(BOOST_STRINGIZE(message(x)))
                                 ^
<scratch space>:108:2: note: expanded from here
 message("This header is deprecated. Use " "<iterator>" " instead.")
 ^
1 warning generated.
clang++ -mmacosx-version-min=10.13 -std=gnu++11 -I"/Library/Frameworks/R.framework/Resources/include" -DNDEBUG -DROUT -I../inst/include -DBOOST_NO_AUTO_PTR  -I'/Library/Frameworks/R.framework/Versions/4.1/Resources/library/Rcpp/include' -I'/Library/Frameworks/R.framework/Versions/4.1/Resources/library/BH/include' -I'/Library/Frameworks/R.framework/Versions/4.1/Resources/library/RProtoBufLib/include' -I'/Library/Frameworks/R.framework/Versions/4.1/Resources/library/cytolib/include' -I'/Library/Frameworks/R.framework/Versions/4.1/Resources/library/Rhdf5lib/include' -I'/Library/Frameworks/R.framework/Versions/4.1/Resources/library/RcppArmadillo/include' -I'/Library/Frameworks/R.framework/Versions/4.1/Resources/library/RcppParallel/include' -I/usr/local/include   -fPIC  -Wall -g -O2  -c getPopStats.cpp -o getPopStats.o
In file included from getPopStats.cpp:1:
In file included from /Library/Frameworks/R.framework/Versions/4.1/Resources/library/cytolib/include/cytolib/GatingSet.hpp:14:
In file included from /Library/Frameworks/R.framework/Versions/4.1/Resources/library/cytolib/include/cytolib/GatingHierarchy.hpp:17:
In file included from /Library/Frameworks/R.framework/Versions/4.1/Resources/library/cytolib/include/cytolib/populationTree.hpp:14:
In file included from /Library/Frameworks/R.framework/Versions/4.1/Resources/library/BH/include/boost/graph/adjacency_list.hpp:255:
In file included from /Library/Frameworks/R.framework/Versions/4.1/Resources/library/BH/include/boost/graph/detail/adjacency_list.hpp:37:
In file included from /Library/Frameworks/R.framework/Versions/4.1/Resources/library/BH/include/boost/graph/adjacency_iterator.hpp:13:
/Library/Frameworks/R.framework/Versions/4.1/Resources/library/BH/include/boost/detail/iterator.hpp:13:1: warning: This header is deprecated. Use <iterator> instead. [-W#pragma-messages]
BOOST_HEADER_DEPRECATED("<iterator>")
^
/Library/Frameworks/R.framework/Versions/4.1/Resources/library/BH/include/boost/config/header_deprecated.hpp:23:37: note: expanded from macro 'BOOST_HEADER_DEPRECATED'
# define BOOST_HEADER_DEPRECATED(a) BOOST_PRAGMA_MESSAGE("This header is deprecated. Use " a " instead.")
                                    ^
/Library/Frameworks/R.framework/Versions/4.1/Resources/library/BH/include/boost/config/pragma_message.hpp:24:34: note: expanded from macro 'BOOST_PRAGMA_MESSAGE'
# define BOOST_PRAGMA_MESSAGE(x) _Pragma(BOOST_STRINGIZE(message(x)))
                                 ^
<scratch space>:108:2: note: expanded from here
 message("This header is deprecated. Use " "<iterator>" " instead.")
 ^
1 warning generated.
clang++ -mmacosx-version-min=10.13 -std=gnu++11 -I"/Library/Frameworks/R.framework/Resources/include" -DNDEBUG -DROUT -I../inst/include -DBOOST_NO_AUTO_PTR  -I'/Library/Frameworks/R.framework/Versions/4.1/Resources/library/Rcpp/include' -I'/Library/Frameworks/R.framework/Versions/4.1/Resources/library/BH/include' -I'/Library/Frameworks/R.framework/Versions/4.1/Resources/library/RProtoBufLib/include' -I'/Library/Frameworks/R.framework/Versions/4.1/Resources/library/cytolib/include' -I'/Library/Frameworks/R.framework/Versions/4.1/Resources/library/Rhdf5lib/include' -I'/Library/Frameworks/R.framework/Versions/4.1/Resources/library/RcppArmadillo/include' -I'/Library/Frameworks/R.framework/Versions/4.1/Resources/library/RcppParallel/include' -I/usr/local/include   -fPIC  -Wall -g -O2  -c getSingleCellExpression.cpp -o getSingleCellExpression.o
In file included from getSingleCellExpression.cpp:1:
In file included from /Library/Frameworks/R.framework/Versions/4.1/Resources/library/cytolib/include/cytolib/GatingSet.hpp:14:
In file included from /Library/Frameworks/R.framework/Versions/4.1/Resources/library/cytolib/include/cytolib/GatingHierarchy.hpp:17:
In file included from /Library/Frameworks/R.framework/Versions/4.1/Resources/library/cytolib/include/cytolib/populationTree.hpp:14:
In file included from /Library/Frameworks/R.framework/Versions/4.1/Resources/library/BH/include/boost/graph/adjacency_list.hpp:255:
In file included from /Library/Frameworks/R.framework/Versions/4.1/Resources/library/BH/include/boost/graph/detail/adjacency_list.hpp:37:
In file included from /Library/Frameworks/R.framework/Versions/4.1/Resources/library/BH/include/boost/graph/adjacency_iterator.hpp:13:
/Library/Frameworks/R.framework/Versions/4.1/Resources/library/BH/include/boost/detail/iterator.hpp:13:1: warning: This header is deprecated. Use <iterator> instead. [-W#pragma-messages]
BOOST_HEADER_DEPRECATED("<iterator>")
^
/Library/Frameworks/R.framework/Versions/4.1/Resources/library/BH/include/boost/config/header_deprecated.hpp:23:37: note: expanded from macro 'BOOST_HEADER_DEPRECATED'
# define BOOST_HEADER_DEPRECATED(a) BOOST_PRAGMA_MESSAGE("This header is deprecated. Use " a " instead.")
                                    ^
/Library/Frameworks/R.framework/Versions/4.1/Resources/library/BH/include/boost/config/pragma_message.hpp:24:34: note: expanded from macro 'BOOST_PRAGMA_MESSAGE'
# define BOOST_PRAGMA_MESSAGE(x) _Pragma(BOOST_STRINGIZE(message(x)))
                                 ^
<scratch space>:108:2: note: expanded from here
 message("This header is deprecated. Use " "<iterator>" " instead.")
 ^
1 warning generated.
clang++ -mmacosx-version-min=10.13 -std=gnu++11 -I"/Library/Frameworks/R.framework/Resources/include" -DNDEBUG -DROUT -I../inst/include -DBOOST_NO_AUTO_PTR  -I'/Library/Frameworks/R.framework/Versions/4.1/Resources/library/Rcpp/include' -I'/Library/Frameworks/R.framework/Versions/4.1/Resources/library/BH/include' -I'/Library/Frameworks/R.framework/Versions/4.1/Resources/library/RProtoBufLib/include' -I'/Library/Frameworks/R.framework/Versions/4.1/Resources/library/cytolib/include' -I'/Library/Frameworks/R.framework/Versions/4.1/Resources/library/Rhdf5lib/include' -I'/Library/Frameworks/R.framework/Versions/4.1/Resources/library/RcppArmadillo/include' -I'/Library/Frameworks/R.framework/Versions/4.1/Resources/library/RcppParallel/include' -I/usr/local/include   -fPIC  -Wall -g -O2  -c h5_error_r_handler.cpp -o h5_error_r_handler.o
In file included from h5_error_r_handler.cpp:8:
In file included from ../inst/include/flowWorkspace/pairVectorRcppWrap.h:12:
In file included from /Library/Frameworks/R.framework/Versions/4.1/Resources/library/cytolib/include/cytolib/GatingSet.hpp:14:
In file included from /Library/Frameworks/R.framework/Versions/4.1/Resources/library/cytolib/include/cytolib/GatingHierarchy.hpp:17:
In file included from /Library/Frameworks/R.framework/Versions/4.1/Resources/library/cytolib/include/cytolib/populationTree.hpp:14:
In file included from /Library/Frameworks/R.framework/Versions/4.1/Resources/library/BH/include/boost/graph/adjacency_list.hpp:255:
In file included from /Library/Frameworks/R.framework/Versions/4.1/Resources/library/BH/include/boost/graph/detail/adjacency_list.hpp:37:
In file included from /Library/Frameworks/R.framework/Versions/4.1/Resources/library/BH/include/boost/graph/adjacency_iterator.hpp:13:
/Library/Frameworks/R.framework/Versions/4.1/Resources/library/BH/include/boost/detail/iterator.hpp:13:1: warning: This header is deprecated. Use <iterator> instead. [-W#pragma-messages]
BOOST_HEADER_DEPRECATED("<iterator>")
^
/Library/Frameworks/R.framework/Versions/4.1/Resources/library/BH/include/boost/config/header_deprecated.hpp:23:37: note: expanded from macro 'BOOST_HEADER_DEPRECATED'
# define BOOST_HEADER_DEPRECATED(a) BOOST_PRAGMA_MESSAGE("This header is deprecated. Use " a " instead.")
                                    ^
/Library/Frameworks/R.framework/Versions/4.1/Resources/library/BH/include/boost/config/pragma_message.hpp:24:34: note: expanded from macro 'BOOST_PRAGMA_MESSAGE'
# define BOOST_PRAGMA_MESSAGE(x) _Pragma(BOOST_STRINGIZE(message(x)))
                                 ^
<scratch space>:103:2: note: expanded from here
 message("This header is deprecated. Use " "<iterator>" " instead.")
 ^
1 warning generated.
clang++ -mmacosx-version-min=10.13 -std=gnu++11 -I"/Library/Frameworks/R.framework/Resources/include" -DNDEBUG -DROUT -I../inst/include -DBOOST_NO_AUTO_PTR  -I'/Library/Frameworks/R.framework/Versions/4.1/Resources/library/Rcpp/include' -I'/Library/Frameworks/R.framework/Versions/4.1/Resources/library/BH/include' -I'/Library/Frameworks/R.framework/Versions/4.1/Resources/library/RProtoBufLib/include' -I'/Library/Frameworks/R.framework/Versions/4.1/Resources/library/cytolib/include' -I'/Library/Frameworks/R.framework/Versions/4.1/Resources/library/Rhdf5lib/include' -I'/Library/Frameworks/R.framework/Versions/4.1/Resources/library/RcppArmadillo/include' -I'/Library/Frameworks/R.framework/Versions/4.1/Resources/library/RcppParallel/include' -I/usr/local/include   -fPIC  -Wall -g -O2  -c setCounts.cpp -o setCounts.o
In file included from setCounts.cpp:1:
In file included from /Library/Frameworks/R.framework/Versions/4.1/Resources/library/cytolib/include/cytolib/GatingSet.hpp:14:
In file included from /Library/Frameworks/R.framework/Versions/4.1/Resources/library/cytolib/include/cytolib/GatingHierarchy.hpp:17:
In file included from /Library/Frameworks/R.framework/Versions/4.1/Resources/library/cytolib/include/cytolib/populationTree.hpp:14:
In file included from /Library/Frameworks/R.framework/Versions/4.1/Resources/library/BH/include/boost/graph/adjacency_list.hpp:255:
In file included from /Library/Frameworks/R.framework/Versions/4.1/Resources/library/BH/include/boost/graph/detail/adjacency_list.hpp:37:
In file included from /Library/Frameworks/R.framework/Versions/4.1/Resources/library/BH/include/boost/graph/adjacency_iterator.hpp:13:
/Library/Frameworks/R.framework/Versions/4.1/Resources/library/BH/include/boost/detail/iterator.hpp:13:1: warning: This header is deprecated. Use <iterator> instead. [-W#pragma-messages]
BOOST_HEADER_DEPRECATED("<iterator>")
^
/Library/Frameworks/R.framework/Versions/4.1/Resources/library/BH/include/boost/config/header_deprecated.hpp:23:37: note: expanded from macro 'BOOST_HEADER_DEPRECATED'
# define BOOST_HEADER_DEPRECATED(a) BOOST_PRAGMA_MESSAGE("This header is deprecated. Use " a " instead.")
                                    ^
/Library/Frameworks/R.framework/Versions/4.1/Resources/library/BH/include/boost/config/pragma_message.hpp:24:34: note: expanded from macro 'BOOST_PRAGMA_MESSAGE'
# define BOOST_PRAGMA_MESSAGE(x) _Pragma(BOOST_STRINGIZE(message(x)))
                                 ^
<scratch space>:108:2: note: expanded from here
 message("This header is deprecated. Use " "<iterator>" " instead.")
 ^
1 warning generated.
clang++ -mmacosx-version-min=10.13 -std=gnu++11 -dynamiclib -Wl,-headerpad_max_install_names -undefined dynamic_lookup -single_module -multiply_defined suppress -L/Library/Frameworks/R.framework/Resources/lib -L/usr/local/lib -o flowWorkspace.so R_API.o R_GatingHierarchy.o R_GatingSet.o RcppExports.o cytoctxAPI.o cytoframeAPI.o cytosetAPI.o getDescendants.o getPopStats.o getSingleCellExpression.o h5_error_r_handler.o setCounts.o /Library/Frameworks/R.framework/Versions/4.1/Resources/library/cytolib/lib/libcytolib.a /Library/Frameworks/R.framework/Versions/4.1/Resources/library/Rhdf5lib/lib/libhdf5_cpp.a /Library/Frameworks/R.framework/Versions/4.1/Resources/library/Rhdf5lib/lib/libhdf5.a /Library/Frameworks/R.framework/Versions/4.1/Resources/library/Rhdf5lib/lib/libsz.a -lz -L/Library/Frameworks/R.framework/Resources/lib -lRlapack -L/Library/Frameworks/R.framework/Resources/lib -lRblas -F/Library/Frameworks/R.framework/.. -framework R -Wl,-framework -Wl,CoreFoundation
installing to /Library/Frameworks/R.framework/Versions/4.1/Resources/library/00LOCK-flowWorkspace/00new/flowWorkspace/libs
** R
** inst
** byte-compile and prepare package for lazy loading
** help
*** installing help indices
** building package indices
** installing vignettes
** testing if installed package can be loaded from temporary location
** checking absolute paths in shared objects and dynamic libraries
** testing if installed package can be loaded from final location
** testing if installed package keeps a record of temporary installation path
* DONE (flowWorkspace)