Back to Multiple platform build/check report for BioC 3.13
ABCDE[F]GHIJKLMNOPQRSTUVWXYZ

This page was generated on 2021-08-02 15:05:11 -0400 (Mon, 02 Aug 2021).

BUILD BIN results for flowUtils on tokay2

To the developers/maintainers of the flowUtils package:
- Please allow up to 24 hours (and sometimes 48 hours) for your latest push to git@git.bioconductor.org:packages/flowUtils.git to
reflect on this report. See How and When does the builder pull? When will my changes propagate? here for more information.
- Make sure to use the following settings in order to reproduce any error or warning you see on this page.

raw results

Package 666/2041HostnameOS / ArchINSTALLBUILDCHECKBUILD BIN
flowUtils 1.56.0  (landing page)
Josef Spidlen
Snapshot Date: 2021-08-01 04:50:10 -0400 (Sun, 01 Aug 2021)
URL: https://git.bioconductor.org/packages/flowUtils
Branch: RELEASE_3_13
Last Commit: ad93cd2
Last Changed Date: 2021-05-19 11:38:23 -0400 (Wed, 19 May 2021)
nebbiolo1Linux (Ubuntu 20.04.2 LTS) / x86_64  OK    OK    WARNINGS  UNNEEDED, same version is already published
tokay2Windows Server 2012 R2 Standard / x64  OK    OK    WARNINGS    OK  UNNEEDED, same version is already published
machv2macOS 10.14.6 Mojave / x86_64  OK    OK    WARNINGS    OK  UNNEEDED, same version is already published

Summary

Package: flowUtils
Version: 1.56.0
Command: rm -rf flowUtils.buildbin-libdir && mkdir flowUtils.buildbin-libdir && C:\Users\biocbuild\bbs-3.13-bioc\R\bin\R.exe CMD INSTALL --merge-multiarch --build --library=flowUtils.buildbin-libdir flowUtils_1.56.0.tar.gz
StartedAt: 2021-08-02 09:28:04 -0400 (Mon, 02 Aug 2021)
EndedAt: 2021-08-02 09:29:17 -0400 (Mon, 02 Aug 2021)
EllapsedTime: 73.4 seconds
RetCode: 0
Status:   OK  
PackageFile: flowUtils_1.56.0.zip
PackageFileSize: 520.2 KiB

Command output

##############################################################################
##############################################################################
###
### Running command:
###
###   rm -rf flowUtils.buildbin-libdir && mkdir flowUtils.buildbin-libdir && C:\Users\biocbuild\bbs-3.13-bioc\R\bin\R.exe CMD INSTALL --merge-multiarch --build --library=flowUtils.buildbin-libdir flowUtils_1.56.0.tar.gz
###
##############################################################################
##############################################################################



install for i386

* installing *source* package 'flowUtils' ...
** using staged installation
** R
** inst
** byte-compile and prepare package for lazy loading
No methods found in package 'flowCore' for requests: 'action', 'assign', 'Data', 'gate', 'tree' when loading 'flowUtils'
** help
*** installing help indices
  converting help for package 'flowUtils'
    finding HTML links ... done
    flowUtil-package                        html  
    read.gatingML                           html  
    testGatingMLCompliance                  html  
    write.gatingML                          html  
** building package indices
** installing vignettes
** testing if installed package can be loaded from temporary location
No methods found in package 'flowCore' for requests: 'action', 'assign', 'Data', 'gate', 'tree' when loading 'flowUtils'
** testing if installed package can be loaded from final location
No methods found in package 'flowCore' for requests: 'action', 'assign', 'Data', 'gate', 'tree' when loading 'flowUtils'
** testing if installed package keeps a record of temporary installation path

install for x64

* installing *source* package 'flowUtils' ...
** testing if installed package can be loaded
No methods found in package 'flowCore' for requests: 'action', 'assign', 'Data', 'gate', 'tree' when loading 'flowUtils'
* MD5 sums
packaged installation of 'flowUtils' as flowUtils_1.56.0.zip
* DONE (flowUtils)