Back to Multiple platform build/check report for BioC 3.13
ABCDE[F]GHIJKLMNOPQRSTUVWXYZ

This page was generated on 2021-07-23 15:06:34 -0400 (Fri, 23 Jul 2021).

BUILD BIN results for flowUtils on machv2

To the developers/maintainers of the flowUtils package:
- Please allow up to 24 hours (and sometimes 48 hours) for your latest push to git@git.bioconductor.org:packages/flowUtils.git to
reflect on this report. See How and When does the builder pull? When will my changes propagate? here for more information.
- Make sure to use the following settings in order to reproduce any error or warning you see on this page.

raw results

Package 666/2041HostnameOS / ArchINSTALLBUILDCHECKBUILD BIN
flowUtils 1.56.0  (landing page)
Josef Spidlen
Snapshot Date: 2021-07-22 04:50:13 -0400 (Thu, 22 Jul 2021)
URL: https://git.bioconductor.org/packages/flowUtils
Branch: RELEASE_3_13
Last Commit: ad93cd2
Last Changed Date: 2021-05-19 11:38:23 -0400 (Wed, 19 May 2021)
nebbiolo1Linux (Ubuntu 20.04.2 LTS) / x86_64  OK    OK    WARNINGS  UNNEEDED, same version is already published
tokay2Windows Server 2012 R2 Standard / x64  OK    OK    WARNINGS    OK  UNNEEDED, same version is already published
machv2macOS 10.14.6 Mojave / x86_64  OK    OK    WARNINGS    OK  UNNEEDED, same version is already published

Summary

Package: flowUtils
Version: 1.56.0
Command: rm -rf flowUtils.buildbin-libdir && mkdir flowUtils.buildbin-libdir && /Users/biocbuild/BBS/utils/build-universal.sh flowUtils_1.56.0.tar.gz /Library/Frameworks/R.framework/Versions/Current/Resources/bin/R flowUtils.buildbin-libdir
StartedAt: 2021-07-23 01:57:41 -0400 (Fri, 23 Jul 2021)
EndedAt: 2021-07-23 01:58:31 -0400 (Fri, 23 Jul 2021)
EllapsedTime: 50.8 seconds
RetCode: 0
Status:   OK  
PackageFile: flowUtils_1.56.0.tgz
PackageFileSize: 508.1 KiB

Command output

##############################################################################
##############################################################################
###
### Running command:
###
###   rm -rf flowUtils.buildbin-libdir && mkdir flowUtils.buildbin-libdir && /Users/biocbuild/BBS/utils/build-universal.sh flowUtils_1.56.0.tar.gz /Library/Frameworks/R.framework/Versions/Current/Resources/bin/R flowUtils.buildbin-libdir
###
##############################################################################
##############################################################################


>>>>>>> 
>>>>>>> INSTALLATION WITH 'R CMD INSTALL --preclean --no-multiarch --library=flowUtils.buildbin-libdir flowUtils_1.56.0.tar.gz'
>>>>>>> 

* installing *source* package ‘flowUtils’ ...
** using staged installation
** R
** inst
** byte-compile and prepare package for lazy loading
No methods found in package ‘flowCore’ for requests: ‘action’, ‘assign’, ‘Data’, ‘gate’, ‘tree’ when loading ‘flowUtils’
** help
*** installing help indices
** building package indices
** installing vignettes
** testing if installed package can be loaded from temporary location
No methods found in package ‘flowCore’ for requests: ‘action’, ‘assign’, ‘Data’, ‘gate’, ‘tree’ when loading ‘flowUtils’
** testing if installed package can be loaded from final location
No methods found in package ‘flowCore’ for requests: ‘action’, ‘assign’, ‘Data’, ‘gate’, ‘tree’ when loading ‘flowUtils’
** testing if installed package keeps a record of temporary installation path
* DONE (flowUtils)