Back to Multiple platform build/check report for BioC 3.13
ABCDE[F]GHIJKLMNOPQRSTUVWXYZ

This page was generated on 2021-08-02 15:05:11 -0400 (Mon, 02 Aug 2021).

BUILD BIN results for flowMerge on tokay2

To the developers/maintainers of the flowMerge package:
- Please allow up to 24 hours (and sometimes 48 hours) for your latest push to git@git.bioconductor.org:packages/flowMerge.git to
reflect on this report. See How and When does the builder pull? When will my changes propagate? here for more information.
- Make sure to use the following settings in order to reproduce any error or warning you see on this page.

raw results

Package 656/2041HostnameOS / ArchINSTALLBUILDCHECKBUILD BIN
flowMerge 2.40.0  (landing page)
Greg Finak
Snapshot Date: 2021-08-01 04:50:10 -0400 (Sun, 01 Aug 2021)
URL: https://git.bioconductor.org/packages/flowMerge
Branch: RELEASE_3_13
Last Commit: beb6e37
Last Changed Date: 2021-05-19 11:43:25 -0400 (Wed, 19 May 2021)
nebbiolo1Linux (Ubuntu 20.04.2 LTS) / x86_64  OK    OK    OK  UNNEEDED, same version is already published
tokay2Windows Server 2012 R2 Standard / x64  OK    OK    OK    OK  UNNEEDED, same version is already published
machv2macOS 10.14.6 Mojave / x86_64  OK    OK    OK    OK  UNNEEDED, same version is already published

Summary

Package: flowMerge
Version: 2.40.0
Command: rm -rf flowMerge.buildbin-libdir && mkdir flowMerge.buildbin-libdir && C:\Users\biocbuild\bbs-3.13-bioc\R\bin\R.exe CMD INSTALL --merge-multiarch --build --library=flowMerge.buildbin-libdir flowMerge_2.40.0.tar.gz
StartedAt: 2021-08-02 09:26:55 -0400 (Mon, 02 Aug 2021)
EndedAt: 2021-08-02 09:28:11 -0400 (Mon, 02 Aug 2021)
EllapsedTime: 76.3 seconds
RetCode: 0
Status:   OK  
PackageFile: flowMerge_2.40.0.zip
PackageFileSize: 931.8 KiB

Command output

##############################################################################
##############################################################################
###
### Running command:
###
###   rm -rf flowMerge.buildbin-libdir && mkdir flowMerge.buildbin-libdir && C:\Users\biocbuild\bbs-3.13-bioc\R\bin\R.exe CMD INSTALL --merge-multiarch --build --library=flowMerge.buildbin-libdir flowMerge_2.40.0.tar.gz
###
##############################################################################
##############################################################################



install for i386

* installing *source* package 'flowMerge' ...
** using staged installation
** R
** data
** inst
** byte-compile and prepare package for lazy loading
** help
*** installing help indices
  converting help for package 'flowMerge'
    finding HTML links ... done
    NENT                                    html  
    checkForRemoteErrors                    html  
    fitPiecewiseLinreg-methods              html  
    fitPiecewiseLinreg                      html  
    flagOutliers-methods                    html  
    flagOutliers                            html  
    flowClust.res                           html  
    flowMerge-class                         html  
    finding level-2 HTML links ... done

    flowMerge-internal                      html  
    flowMerge-package                       html  
    flowObj-class                           html  
    flowObj                                 html  
    initPFlowMerge                          html  
    map                                     html  
    merge-methods                           html  
    merge                                   html  
    mergeClusters                           html  
    mergeClusters2                          html  
    pFlowClust                              html  
    pFlowMerge                              html  
    plot-methods                            html  
    ptree                                   html  
    show-methods                            html  
    split-methods                           html  
    summary-methods                         html  
    updateU                                 html  
** building package indices
** installing vignettes
** testing if installed package can be loaded from temporary location
** testing if installed package can be loaded from final location
** testing if installed package keeps a record of temporary installation path

install for x64

* installing *source* package 'flowMerge' ...
** testing if installed package can be loaded
* MD5 sums
packaged installation of 'flowMerge' as flowMerge_2.40.0.zip
* DONE (flowMerge)