Index of /checkResults/release/bioc-LATEST/flowFP/raw-results/nebbiolo1

[ICO]NameLast modifiedSizeDescription

[DIR]Parent Directory  -  
[TXT]buildsrc-out.txt17-Jul-2024 06:38 943  
[   ]buildsrc-summary.dcf17-Jul-2024 06:38 413  
[TXT]checksrc-out.txt17-Jul-2024 06:38 4.0K 
[   ]checksrc-summary.dcf17-Jul-2024 06:38 409  
[TXT]install-out.txt17-Jul-2024 06:38 1.9K 
[   ]install-summary.dcf17-Jul-2024 06:38 257