Index of /checkResults/release/bioc-LATEST/flowFP/raw-results/merida1

[ICO]NameLast modifiedSizeDescription

[DIR]Parent Directory  -  
[TXT]buildbin-out.txt17-Jul-2024 06:41 4.1K 
[   ]buildbin-summary.dcf17-Jul-2024 06:41 524  
[TXT]buildsrc-out.txt17-Jul-2024 06:41 953  
[   ]buildsrc-summary.dcf17-Jul-2024 06:41 424  
[TXT]checksrc-out.txt17-Jul-2024 06:41 4.1K 
[   ]checksrc-summary.dcf17-Jul-2024 06:41 440  
[TXT]install-out.txt17-Jul-2024 06:41 2.2K 
[   ]install-summary.dcf17-Jul-2024 06:41 267