Index of /checkResults/release/bioc-LATEST/flowFP/raw-results/kjohnson1

[ICO]NameLast modifiedSizeDescription

[DIR]Parent Directory  -  
[TXT]buildbin-out.txt13-Jul-2024 06:42 4.7K 
[   ]buildbin-summary.dcf13-Jul-2024 06:42 524  
[TXT]buildsrc-out.txt13-Jul-2024 06:42 953  
[   ]buildsrc-summary.dcf13-Jul-2024 06:42 423  
[TXT]checksrc-out.txt13-Jul-2024 06:42 4.4K 
[   ]checksrc-summary.dcf13-Jul-2024 06:42 446  
[TXT]install-out.txt13-Jul-2024 06:42 2.9K 
[   ]install-summary.dcf13-Jul-2024 06:42 267