Back to Multiple platform build/check report for BioC 3.13
ABCDE[F]GHIJKLMNOPQRSTUVWXYZ

This page was generated on 2021-09-17 15:06:05 -0400 (Fri, 17 Sep 2021).

BUILD results for flowCore on tokay2

To the developers/maintainers of the flowCore package:
- Please allow up to 24 hours (and sometimes 48 hours) for your latest push to git@git.bioconductor.org:packages/flowCore.git to
reflect on this report. See How and When does the builder pull? When will my changes propagate? here for more information.
- Make sure to use the following settings in order to reproduce any error or warning you see on this page.

raw results

Package 647/2041HostnameOS / ArchINSTALLBUILDCHECKBUILD BIN
flowCore 2.4.0  (landing page)
Mike Jiang
Snapshot Date: 2021-09-16 04:50:11 -0400 (Thu, 16 Sep 2021)
git_url: https://git.bioconductor.org/packages/flowCore
git_branch: RELEASE_3_13
git_last_commit: 1f5f4b6
git_last_commit_date: 2021-05-19 11:38:20 -0400 (Wed, 19 May 2021)
nebbiolo1Linux (Ubuntu 20.04.2 LTS) / x86_64  OK    OK    OK  UNNEEDED, same version is already published
tokay2Windows Server 2012 R2 Standard / x64  OK    OK    OK    OK  UNNEEDED, same version is already published
machv2macOS 10.14.6 Mojave / x86_64  OK    OK    OK    OK  UNNEEDED, same version is already published

Summary

Package: flowCore
Version: 2.4.0
Command: chmod a+r flowCore -R && C:\Users\biocbuild\bbs-3.13-bioc\R\bin\R.exe CMD build --keep-empty-dirs --no-resave-data flowCore
StartedAt: 2021-09-16 13:52:41 -0400 (Thu, 16 Sep 2021)
EndedAt: 2021-09-16 13:57:00 -0400 (Thu, 16 Sep 2021)
EllapsedTime: 259.1 seconds
RetCode: 0
Status:   OK  
PackageFile: flowCore_2.4.0.tar.gz
PackageFileSize: 7.02 MiB

Command output

##############################################################################
##############################################################################
###
### Running command:
###
###   chmod a+r flowCore -R && C:\Users\biocbuild\bbs-3.13-bioc\R\bin\R.exe CMD build --keep-empty-dirs --no-resave-data flowCore
###
##############################################################################
##############################################################################


* checking for file 'flowCore/DESCRIPTION' ... OK
* preparing 'flowCore':
* checking DESCRIPTION meta-information ... OK
* cleaning src
* installing the package to build vignettes
* creating vignettes ... OK
* cleaning src
* checking for LF line-endings in source and make files and shell scripts
* checking for empty or unneeded directories
* looking to see if a 'data/datalist' file should be added
  NB: this package now depends on R (>= 3.5.0)
  WARNING: Added dependency on R >= 3.5.0 because serialized objects in
  serialize/load version 3 cannot be read in older versions of R.
  File(s) containing such objects:
    'flowCore/data/GvHD.rda' 'flowCore/tests/testthat/expectResults.rds'
    'flowCore/tests/testthat/ref_flowframes.rds'
* building 'flowCore_2.4.0.tar.gz'