Back to Multiple platform build/check report for BioC 3.13
ABCDE[F]GHIJKLMNOPQRSTUVWXYZ

This page was generated on 2021-09-17 15:06:36 -0400 (Fri, 17 Sep 2021).

CHECK results for flowCore on machv2

To the developers/maintainers of the flowCore package:
- Please allow up to 24 hours (and sometimes 48 hours) for your latest push to git@git.bioconductor.org:packages/flowCore.git to
reflect on this report. See How and When does the builder pull? When will my changes propagate? here for more information.
- Make sure to use the following settings in order to reproduce any error or warning you see on this page.

raw results

Package 647/2041HostnameOS / ArchINSTALLBUILDCHECKBUILD BIN
flowCore 2.4.0  (landing page)
Mike Jiang
Snapshot Date: 2021-09-16 04:50:11 -0400 (Thu, 16 Sep 2021)
git_url: https://git.bioconductor.org/packages/flowCore
git_branch: RELEASE_3_13
git_last_commit: 1f5f4b6
git_last_commit_date: 2021-05-19 11:38:20 -0400 (Wed, 19 May 2021)
nebbiolo1Linux (Ubuntu 20.04.2 LTS) / x86_64  OK    OK    OK  UNNEEDED, same version is already published
tokay2Windows Server 2012 R2 Standard / x64  OK    OK    OK    OK  UNNEEDED, same version is already published
machv2macOS 10.14.6 Mojave / x86_64  OK    OK    OK    OK  UNNEEDED, same version is already published

Summary

Package: flowCore
Version: 2.4.0
Command: /Library/Frameworks/R.framework/Versions/Current/Resources/bin/R CMD check --install=check:flowCore.install-out.txt --library=/Library/Frameworks/R.framework/Versions/Current/Resources/library --no-vignettes --timings flowCore_2.4.0.tar.gz
StartedAt: 2021-09-16 19:11:33 -0400 (Thu, 16 Sep 2021)
EndedAt: 2021-09-16 19:14:21 -0400 (Thu, 16 Sep 2021)
EllapsedTime: 168.6 seconds
RetCode: 0
Status:   OK  
CheckDir: flowCore.Rcheck
Warnings: 0

Command output

##############################################################################
##############################################################################
###
### Running command:
###
###   /Library/Frameworks/R.framework/Versions/Current/Resources/bin/R CMD check --install=check:flowCore.install-out.txt --library=/Library/Frameworks/R.framework/Versions/Current/Resources/library --no-vignettes --timings flowCore_2.4.0.tar.gz
###
##############################################################################
##############################################################################


* using log directory ‘/Users/biocbuild/bbs-3.13-bioc/meat/flowCore.Rcheck’
* using R version 4.1.1 (2021-08-10)
* using platform: x86_64-apple-darwin17.0 (64-bit)
* using session charset: UTF-8
* using option ‘--no-vignettes’
* checking for file ‘flowCore/DESCRIPTION’ ... OK
* this is package ‘flowCore’ version ‘2.4.0’
* package encoding: UTF-8
* checking package namespace information ... OK
* checking package dependencies ... OK
* checking if this is a source package ... OK
* checking if there is a namespace ... OK
* checking for hidden files and directories ... OK
* checking for portable file names ... OK
* checking for sufficient/correct file permissions ... OK
* checking whether package ‘flowCore’ can be installed ... OK
* checking installed package size ... NOTE
  installed size is  9.5Mb
  sub-directories of 1Mb or more:
    R         2.0Mb
    data      5.0Mb
    extdata   1.1Mb
* checking package directory ... OK
* checking ‘build’ directory ... OK
* checking DESCRIPTION meta-information ... OK
* checking top-level files ... OK
* checking for left-over files ... OK
* checking index information ... OK
* checking package subdirectories ... OK
* checking R files for non-ASCII characters ... OK
* checking R files for syntax errors ... OK
* checking whether the package can be loaded ... OK
* checking whether the package can be loaded with stated dependencies ... OK
* checking whether the package can be unloaded cleanly ... OK
* checking whether the namespace can be loaded with stated dependencies ... OK
* checking whether the namespace can be unloaded cleanly ... OK
* checking dependencies in R code ... OK
* checking S3 generic/method consistency ... OK
* checking replacement functions ... OK
* checking foreign function calls ... OK
* checking R code for possible problems ... NOTE
eval,compensatedParameter-missing : <anonymous>: no visible binding for
  global variable ‘mat’
eval,compensatedParameter-missing : <anonymous>: no visible binding for
  global variable ‘msv’
show,flowFrame: no visible global function definition for
  ‘capture.output’
Undefined global functions or variables:
  capture.output mat msv
Consider adding
  importFrom("utils", "capture.output")
to your NAMESPACE file.
* checking Rd files ... OK
* checking Rd metadata ... OK
* checking Rd cross-references ... OK
* checking for missing documentation entries ... OK
* checking for code/documentation mismatches ... OK
* checking Rd \usage sections ... OK
* checking Rd contents ... OK
* checking for unstated dependencies in examples ... OK
* checking contents of ‘data’ directory ... OK
* checking data for non-ASCII characters ... OK
* checking data for ASCII and uncompressed saves ... OK
* checking line endings in C/C++/Fortran sources/headers ... OK
* checking line endings in Makefiles ... OK
* checking compilation flags in Makevars ... OK
* checking for GNU extensions in Makefiles ... OK
* checking for portable use of $(BLAS_LIBS) and $(LAPACK_LIBS) ... OK
* checking use of PKG_*FLAGS in Makefiles ... OK
* checking compiled code ... NOTE
Note: information on .o files is not available
File ‘/Library/Frameworks/R.framework/Versions/4.1/Resources/library/flowCore/libs/flowCore.so’:
  Found ‘_rand’, possibly from ‘rand’ (C)
  Found ‘_srand’, possibly from ‘srand’ (C)

Compiled code should not call entry points which might terminate R nor
write to stdout/stderr instead of to the console, nor use Fortran I/O
nor system RNGs. The detected symbols are linked into the code but
might come from libraries and not actually be called.

See ‘Writing portable packages’ in the ‘Writing R Extensions’ manual.
* checking sizes of PDF files under ‘inst/doc’ ... OK
* checking installed files from ‘inst/doc’ ... OK
* checking files in ‘vignettes’ ... OK
* checking examples ... OK
Examples with CPU (user + system) or elapsed time > 5s
                        user system elapsed
filterResultList-class 6.196  0.231   6.434
* checking for unstated dependencies in ‘tests’ ... OK
* checking tests ...
  Running ‘testthat.R’
 OK
* checking for unstated dependencies in vignettes ... OK
* checking package vignettes in ‘inst/doc’ ... OK
* checking running R code from vignettes ... SKIPPED
* checking re-building of vignette outputs ... SKIPPED
* checking PDF version of manual ... OK
* DONE

Status: 3 NOTEs
See
  ‘/Users/biocbuild/bbs-3.13-bioc/meat/flowCore.Rcheck/00check.log’
for details.



Installation output

flowCore.Rcheck/00install.out

##############################################################################
##############################################################################
###
### Running command:
###
###   /Library/Frameworks/R.framework/Versions/Current/Resources/bin/R CMD INSTALL flowCore
###
##############################################################################
##############################################################################


* installing to library ‘/Library/Frameworks/R.framework/Versions/4.1/Resources/library’
* installing *source* package ‘flowCore’ ...
** using staged installation
** libs
clang++ -mmacosx-version-min=10.13 -std=gnu++11 -I"/Library/Frameworks/R.framework/Resources/include" -DNDEBUG  -I'/Library/Frameworks/R.framework/Versions/4.1/Resources/library/Rcpp/include' -I'/Library/Frameworks/R.framework/Versions/4.1/Resources/library/RcppArmadillo/include' -I'/Library/Frameworks/R.framework/Versions/4.1/Resources/library/BH/include' -I'/Library/Frameworks/R.framework/Versions/4.1/Resources/library/cytolib/include' -I'/Library/Frameworks/R.framework/Versions/4.1/Resources/library/RProtoBufLib/include' -I/usr/local/include   -fPIC  -Wall -g -O2  -c FastLogicle.cpp -o FastLogicle.o
clang++ -mmacosx-version-min=10.13 -std=gnu++11 -I"/Library/Frameworks/R.framework/Resources/include" -DNDEBUG  -I'/Library/Frameworks/R.framework/Versions/4.1/Resources/library/Rcpp/include' -I'/Library/Frameworks/R.framework/Versions/4.1/Resources/library/RcppArmadillo/include' -I'/Library/Frameworks/R.framework/Versions/4.1/Resources/library/BH/include' -I'/Library/Frameworks/R.framework/Versions/4.1/Resources/library/cytolib/include' -I'/Library/Frameworks/R.framework/Versions/4.1/Resources/library/RProtoBufLib/include' -I/usr/local/include   -fPIC  -Wall -g -O2  -c Hyperlog.cpp -o Hyperlog.o
clang++ -mmacosx-version-min=10.13 -std=gnu++11 -I"/Library/Frameworks/R.framework/Resources/include" -DNDEBUG  -I'/Library/Frameworks/R.framework/Versions/4.1/Resources/library/Rcpp/include' -I'/Library/Frameworks/R.framework/Versions/4.1/Resources/library/RcppArmadillo/include' -I'/Library/Frameworks/R.framework/Versions/4.1/Resources/library/BH/include' -I'/Library/Frameworks/R.framework/Versions/4.1/Resources/library/cytolib/include' -I'/Library/Frameworks/R.framework/Versions/4.1/Resources/library/RProtoBufLib/include' -I/usr/local/include   -fPIC  -Wall -g -O2  -c Logicle.cpp -o Logicle.o
clang++ -mmacosx-version-min=10.13 -std=gnu++11 -I"/Library/Frameworks/R.framework/Resources/include" -DNDEBUG  -I'/Library/Frameworks/R.framework/Versions/4.1/Resources/library/Rcpp/include' -I'/Library/Frameworks/R.framework/Versions/4.1/Resources/library/RcppArmadillo/include' -I'/Library/Frameworks/R.framework/Versions/4.1/Resources/library/BH/include' -I'/Library/Frameworks/R.framework/Versions/4.1/Resources/library/cytolib/include' -I'/Library/Frameworks/R.framework/Versions/4.1/Resources/library/RProtoBufLib/include' -I/usr/local/include   -fPIC  -Wall -g -O2  -c RcppExports.cpp -o RcppExports.o
clang++ -mmacosx-version-min=10.13 -std=gnu++11 -I"/Library/Frameworks/R.framework/Resources/include" -DNDEBUG  -I'/Library/Frameworks/R.framework/Versions/4.1/Resources/library/Rcpp/include' -I'/Library/Frameworks/R.framework/Versions/4.1/Resources/library/RcppArmadillo/include' -I'/Library/Frameworks/R.framework/Versions/4.1/Resources/library/BH/include' -I'/Library/Frameworks/R.framework/Versions/4.1/Resources/library/cytolib/include' -I'/Library/Frameworks/R.framework/Versions/4.1/Resources/library/RProtoBufLib/include' -I/usr/local/include   -fPIC  -Wall -g -O2  -c biexponential.cpp -o biexponential.o
clang++ -mmacosx-version-min=10.13 -std=gnu++11 -I"/Library/Frameworks/R.framework/Resources/include" -DNDEBUG  -I'/Library/Frameworks/R.framework/Versions/4.1/Resources/library/Rcpp/include' -I'/Library/Frameworks/R.framework/Versions/4.1/Resources/library/RcppArmadillo/include' -I'/Library/Frameworks/R.framework/Versions/4.1/Resources/library/BH/include' -I'/Library/Frameworks/R.framework/Versions/4.1/Resources/library/cytolib/include' -I'/Library/Frameworks/R.framework/Versions/4.1/Resources/library/RProtoBufLib/include' -I/usr/local/include   -fPIC  -Wall -g -O2  -c convertRawBytes.cpp -o convertRawBytes.o
clang++ -mmacosx-version-min=10.13 -std=gnu++11 -I"/Library/Frameworks/R.framework/Resources/include" -DNDEBUG  -I'/Library/Frameworks/R.framework/Versions/4.1/Resources/library/Rcpp/include' -I'/Library/Frameworks/R.framework/Versions/4.1/Resources/library/RcppArmadillo/include' -I'/Library/Frameworks/R.framework/Versions/4.1/Resources/library/BH/include' -I'/Library/Frameworks/R.framework/Versions/4.1/Resources/library/cytolib/include' -I'/Library/Frameworks/R.framework/Versions/4.1/Resources/library/RProtoBufLib/include' -I/usr/local/include   -fPIC  -Wall -g -O2  -c fcsTextParse.cpp -o fcsTextParse.o
clang++ -mmacosx-version-min=10.13 -std=gnu++11 -I"/Library/Frameworks/R.framework/Resources/include" -DNDEBUG  -I'/Library/Frameworks/R.framework/Versions/4.1/Resources/library/Rcpp/include' -I'/Library/Frameworks/R.framework/Versions/4.1/Resources/library/RcppArmadillo/include' -I'/Library/Frameworks/R.framework/Versions/4.1/Resources/library/BH/include' -I'/Library/Frameworks/R.framework/Versions/4.1/Resources/library/cytolib/include' -I'/Library/Frameworks/R.framework/Versions/4.1/Resources/library/RProtoBufLib/include' -I/usr/local/include   -fPIC  -Wall -g -O2  -c hyperlogTransform.cpp -o hyperlogTransform.o
clang++ -mmacosx-version-min=10.13 -std=gnu++11 -I"/Library/Frameworks/R.framework/Resources/include" -DNDEBUG  -I'/Library/Frameworks/R.framework/Versions/4.1/Resources/library/Rcpp/include' -I'/Library/Frameworks/R.framework/Versions/4.1/Resources/library/RcppArmadillo/include' -I'/Library/Frameworks/R.framework/Versions/4.1/Resources/library/BH/include' -I'/Library/Frameworks/R.framework/Versions/4.1/Resources/library/cytolib/include' -I'/Library/Frameworks/R.framework/Versions/4.1/Resources/library/RProtoBufLib/include' -I/usr/local/include   -fPIC  -Wall -g -O2  -c inPolygon.cpp -o inPolygon.o
clang++ -mmacosx-version-min=10.13 -std=gnu++11 -I"/Library/Frameworks/R.framework/Resources/include" -DNDEBUG  -I'/Library/Frameworks/R.framework/Versions/4.1/Resources/library/Rcpp/include' -I'/Library/Frameworks/R.framework/Versions/4.1/Resources/library/RcppArmadillo/include' -I'/Library/Frameworks/R.framework/Versions/4.1/Resources/library/BH/include' -I'/Library/Frameworks/R.framework/Versions/4.1/Resources/library/cytolib/include' -I'/Library/Frameworks/R.framework/Versions/4.1/Resources/library/RProtoBufLib/include' -I/usr/local/include   -fPIC  -Wall -g -O2  -c inPolytope.cpp -o inPolytope.o
clang++ -mmacosx-version-min=10.13 -std=gnu++11 -I"/Library/Frameworks/R.framework/Resources/include" -DNDEBUG  -I'/Library/Frameworks/R.framework/Versions/4.1/Resources/library/Rcpp/include' -I'/Library/Frameworks/R.framework/Versions/4.1/Resources/library/RcppArmadillo/include' -I'/Library/Frameworks/R.framework/Versions/4.1/Resources/library/BH/include' -I'/Library/Frameworks/R.framework/Versions/4.1/Resources/library/cytolib/include' -I'/Library/Frameworks/R.framework/Versions/4.1/Resources/library/RProtoBufLib/include' -I/usr/local/include   -fPIC  -Wall -g -O2  -c logicleTransform.cpp -o logicleTransform.o
clang++ -mmacosx-version-min=10.13 -std=gnu++11 -I"/Library/Frameworks/R.framework/Resources/include" -DNDEBUG  -I'/Library/Frameworks/R.framework/Versions/4.1/Resources/library/Rcpp/include' -I'/Library/Frameworks/R.framework/Versions/4.1/Resources/library/RcppArmadillo/include' -I'/Library/Frameworks/R.framework/Versions/4.1/Resources/library/BH/include' -I'/Library/Frameworks/R.framework/Versions/4.1/Resources/library/cytolib/include' -I'/Library/Frameworks/R.framework/Versions/4.1/Resources/library/RProtoBufLib/include' -I/usr/local/include   -fPIC  -Wall -g -O2  -c pairVectorRcppWrap.cpp -o pairVectorRcppWrap.o
clang++ -mmacosx-version-min=10.13 -std=gnu++11 -I"/Library/Frameworks/R.framework/Resources/include" -DNDEBUG  -I'/Library/Frameworks/R.framework/Versions/4.1/Resources/library/Rcpp/include' -I'/Library/Frameworks/R.framework/Versions/4.1/Resources/library/RcppArmadillo/include' -I'/Library/Frameworks/R.framework/Versions/4.1/Resources/library/BH/include' -I'/Library/Frameworks/R.framework/Versions/4.1/Resources/library/cytolib/include' -I'/Library/Frameworks/R.framework/Versions/4.1/Resources/library/RProtoBufLib/include' -I/usr/local/include   -fPIC  -Wall -g -O2  -c poly_centroid.cpp -o poly_centroid.o
clang++ -mmacosx-version-min=10.13 -std=gnu++11 -I"/Library/Frameworks/R.framework/Resources/include" -DNDEBUG  -I'/Library/Frameworks/R.framework/Versions/4.1/Resources/library/Rcpp/include' -I'/Library/Frameworks/R.framework/Versions/4.1/Resources/library/RcppArmadillo/include' -I'/Library/Frameworks/R.framework/Versions/4.1/Resources/library/BH/include' -I'/Library/Frameworks/R.framework/Versions/4.1/Resources/library/cytolib/include' -I'/Library/Frameworks/R.framework/Versions/4.1/Resources/library/RProtoBufLib/include' -I/usr/local/include   -fPIC  -Wall -g -O2  -c sortBytes.cpp -o sortBytes.o
clang++ -mmacosx-version-min=10.13 -std=gnu++11 -I"/Library/Frameworks/R.framework/Resources/include" -DNDEBUG  -I'/Library/Frameworks/R.framework/Versions/4.1/Resources/library/Rcpp/include' -I'/Library/Frameworks/R.framework/Versions/4.1/Resources/library/RcppArmadillo/include' -I'/Library/Frameworks/R.framework/Versions/4.1/Resources/library/BH/include' -I'/Library/Frameworks/R.framework/Versions/4.1/Resources/library/cytolib/include' -I'/Library/Frameworks/R.framework/Versions/4.1/Resources/library/RProtoBufLib/include' -I/usr/local/include   -fPIC  -Wall -g -O2  -c uint2double.cpp -o uint2double.o
clang++ -mmacosx-version-min=10.13 -std=gnu++11 -I"/Library/Frameworks/R.framework/Resources/include" -DNDEBUG  -I'/Library/Frameworks/R.framework/Versions/4.1/Resources/library/Rcpp/include' -I'/Library/Frameworks/R.framework/Versions/4.1/Resources/library/RcppArmadillo/include' -I'/Library/Frameworks/R.framework/Versions/4.1/Resources/library/BH/include' -I'/Library/Frameworks/R.framework/Versions/4.1/Resources/library/cytolib/include' -I'/Library/Frameworks/R.framework/Versions/4.1/Resources/library/RProtoBufLib/include' -I/usr/local/include   -fPIC  -Wall -g -O2  -c zeroin.cpp -o zeroin.o
clang++ -mmacosx-version-min=10.13 -std=gnu++11 -dynamiclib -Wl,-headerpad_max_install_names -undefined dynamic_lookup -single_module -multiply_defined suppress -L/Library/Frameworks/R.framework/Resources/lib -L/usr/local/lib -o flowCore.so FastLogicle.o Hyperlog.o Logicle.o RcppExports.o biexponential.o convertRawBytes.o fcsTextParse.o hyperlogTransform.o inPolygon.o inPolytope.o logicleTransform.o pairVectorRcppWrap.o poly_centroid.o sortBytes.o uint2double.o zeroin.o /Library/Frameworks/R.framework/Versions/4.1/Resources/library/cytolib/lib/libcytolib.a -F/Library/Frameworks/R.framework/.. -framework R -Wl,-framework -Wl,CoreFoundation
if [ `uname -s` = 'Darwin' ]; then install_name_tool -change /usr/local/clang4/lib/libc++.1.dylib /usr/lib/libc++.1.dylib flowCore.so; fi
installing to /Library/Frameworks/R.framework/Versions/4.1/Resources/library/00LOCK-flowCore/00new/flowCore/libs
** R
** data
** inst
** byte-compile and prepare package for lazy loading
** help
*** installing help indices
** building package indices
** installing vignettes
   ‘HowTo-flowCore.Rnw’ using ‘UTF-8’ 
** testing if installed package can be loaded from temporary location
** checking absolute paths in shared objects and dynamic libraries
** testing if installed package can be loaded from final location
** testing if installed package keeps a record of temporary installation path
* DONE (flowCore)

Tests output

flowCore.Rcheck/tests/testthat.Rout


R version 4.1.1 (2021-08-10) -- "Kick Things"
Copyright (C) 2021 The R Foundation for Statistical Computing
Platform: x86_64-apple-darwin17.0 (64-bit)

R is free software and comes with ABSOLUTELY NO WARRANTY.
You are welcome to redistribute it under certain conditions.
Type 'license()' or 'licence()' for distribution details.

R is a collaborative project with many contributors.
Type 'contributors()' for more information and
'citation()' on how to cite R or R packages in publications.

Type 'demo()' for some demos, 'help()' for on-line help, or
'help.start()' for an HTML browser interface to help.
Type 'q()' to quit R.

> library(testthat)
> library(flowCore)
> library(flowStats)
> 
> 
> test_check("flowCore")
Loading required package: BiocGenerics
Loading required package: parallel

Attaching package: 'BiocGenerics'

The following objects are masked from 'package:parallel':

    clusterApply, clusterApplyLB, clusterCall, clusterEvalQ,
    clusterExport, clusterMap, parApply, parCapply, parLapply,
    parLapplyLB, parRapply, parSapply, parSapplyLB

The following object is masked from 'package:flowStats':

    normalize

The following object is masked from 'package:flowCore':

    normalize

The following objects are masked from 'package:stats':

    IQR, mad, sd, var, xtabs

The following objects are masked from 'package:base':

    Filter, Find, Map, Position, Reduce, anyDuplicated, append,
    as.data.frame, basename, cbind, colnames, dirname, do.call,
    duplicated, eval, evalq, get, grep, grepl, intersect, is.unsorted,
    lapply, mapply, match, mget, order, paste, pmax, pmax.int, pmin,
    pmin.int, rank, rbind, rownames, sapply, setdiff, sort, table,
    tapply, union, unique, unsplit, which.max, which.min

Welcome to Bioconductor

    Vignettes contain introductory material; view with
    'browseVignettes()'. To cite Bioconductor, see
    'citation("Biobase")', and for packages 'citation("pkgname")'.

══ Skipped tests ═══════════════════════════════════════════════════════════════
• dir.exists(dataPath) is not TRUE (1)
• file.exists(filename) is not TRUE (2)

[ FAIL 0 | WARN 10 | SKIP 3 | PASS 334 ]
> 
> #devtools::test("~/rglab/workspace/flowCore")
> 
> proc.time()
   user  system elapsed 
 24.715   1.447  26.237 

Example timings

flowCore.Rcheck/flowCore-Ex.timings

nameusersystemelapsed
EHtrans-class0.0620.0070.071
FCSTransTransform0.7540.0440.800
Subset-methods0.2260.0100.236
arcsinhTransform0.0710.0020.073
asinht-class0.0320.0020.034
asinhtGml2-class0.0360.0030.040
biexponentialTransform3.0750.0633.140
boundaryFilter-class0.0840.0030.088
characterOrNumeric-class0.0010.0000.001
characterOrParameters-class0.0010.0010.001
characterOrTransformation-class0.0010.0010.001
coerce0.0730.0070.080
collapse_desc0.8180.0350.854
compensatedParameter-class0.1580.0070.167
compensation-class0.3490.0500.400
decompensate0.0620.0030.065
dg1polynomial-class0.0340.0040.095
each_col0.0400.0020.043
ellipsoidGate-class0.0660.0020.068
exponential-class0.0230.0120.079
expressionFilter-class0.1150.0030.119
filter-methods0.8200.0250.846
filter-on-methods0.1110.0070.118
filterList-class0.0080.0010.010
filterResult-class0.0010.0010.002
filterResultList-class6.1960.2316.434
filterSummary-class0.1180.0110.128
filterSummaryList-class0.9440.0400.984
flowFrame-class4.6910.1664.866
flowSet-class2.9180.1103.031
fr_append_cols0.6510.0120.663
fsApply0.1640.0100.175
getIndexSort0.0320.0010.034
hyperlog-class1.2880.0281.317
hyperlogtGml2-class0.0310.0000.032
identifier-methods0.0240.0000.025
inverseLogicleTransform0.6150.0110.627
invsplitscale-class0.0250.0020.026
keyword-methods0.5970.0200.617
kmeansFilter-class0.1250.0010.126
linearTransform0.0300.0020.032
lintGml2-class0.0310.0100.041
lnTransform1.5410.0421.585
logTransform0.0430.0010.044
logarithm-class0.0340.0010.036
logicalFilterResult-class0.0000.0000.001
logicleTransform0.7300.0110.742
logicletGml2-class0.0580.0050.064
logtGml2-class0.0380.0010.040
manyFilterResult-class0.0010.0010.001
markernames0.6590.0120.672
multipleFilterResult-class0.0010.0010.001
parameters-methods0.0350.0020.036
polygonGate-class0.0770.0060.083
quadGate-class0.1930.0030.196
quadratic-class0.0320.0000.033
quadraticTransform0.0370.0010.038
ratio-class0.0430.0010.043
ratiotGml2-class0.0250.0010.026
read.FCS0.0930.0030.096
read.FCSheader0.0070.0040.011
read.flowSet0.0940.0010.095
rectangleGate-class0.1070.0080.116
rotate_gate0.0000.0000.001
sampleFilter-class0.0620.0020.064
scaleTransform0.0410.0010.042
scale_gate000
shift_gate0.0000.0010.000
singleParameterTransform-class0.0010.0010.003
sinht-class0.0310.0010.031
split-methods1.3930.0251.419
splitScaleTransform1.2330.0271.261
splitscale-class0.0390.0020.040
squareroot-class0.0390.0010.040
timeFilter-class1.8460.0441.896
transform-class0.0010.0010.002
transform1.2830.0261.311
transformFilter-class0.1600.0040.165
transformList-class0.7860.0270.819
transformMap-class0.0010.0010.001
transform_gate000
truncateTransform0.0420.0010.043
unitytransform-class0.0210.0010.021
write.FCS0.0560.0030.060
write.flowSet0.9780.0210.999