Back to Multiple platform build/check report for BioC 3.13
ABCDE[F]GHIJKLMNOPQRSTUVWXYZ

This page was generated on 2021-07-21 15:05:49 -0400 (Wed, 21 Jul 2021).

BUILD results for flowClust on machv2

To the developers/maintainers of the flowClust package:
- Please allow up to 24 hours (and sometimes 48 hours) for your latest push to git@git.bioconductor.org:packages/flowClust.git to
reflect on this report. See How and When does the builder pull? When will my changes propagate? here for more information.
- Make sure to use the following settings in order to reproduce any error or warning you see on this page.

raw results

Package 646/2041HostnameOS / ArchINSTALLBUILDCHECKBUILD BIN
flowClust 3.30.0  (landing page)
Greg Finak , Mike Jiang
Snapshot Date: 2021-07-20 04:50:13 -0400 (Tue, 20 Jul 2021)
URL: https://git.bioconductor.org/packages/flowClust
Branch: RELEASE_3_13
Last Commit: c52585b
Last Changed Date: 2021-05-19 11:40:35 -0400 (Wed, 19 May 2021)
nebbiolo1Linux (Ubuntu 20.04.2 LTS) / x86_64  OK    OK    OK  UNNEEDED, same version is already published
tokay2Windows Server 2012 R2 Standard / x64  OK    OK    OK    OK  UNNEEDED, same version is already published
machv2macOS 10.14.6 Mojave / x86_64  OK    OK    WARNINGS    OK  UNNEEDED, same version is already published

Summary

Package: flowClust
Version: 3.30.0
Command: /Library/Frameworks/R.framework/Versions/Current/Resources/bin/R CMD build --keep-empty-dirs --no-resave-data flowClust
StartedAt: 2021-07-20 11:52:55 -0400 (Tue, 20 Jul 2021)
EndedAt: 2021-07-20 11:56:05 -0400 (Tue, 20 Jul 2021)
EllapsedTime: 190.2 seconds
RetCode: 0
Status:   OK  
PackageFile: flowClust_3.30.0.tar.gz
PackageFileSize: 1.716 MiB

Command output

##############################################################################
##############################################################################
###
### Running command:
###
###   /Library/Frameworks/R.framework/Versions/Current/Resources/bin/R CMD build --keep-empty-dirs --no-resave-data flowClust
###
##############################################################################
##############################################################################


* checking for file ‘flowClust/DESCRIPTION’ ... OK
* preparing ‘flowClust’:
* checking DESCRIPTION meta-information ... OK
* cleaning src
* running ‘cleanup’
* installing the package to build vignettes
* creating vignettes ... OK
* cleaning src
* running ‘cleanup’
* checking for LF line-endings in source and make files and shell scripts
* checking for empty or unneeded directories
* looking to see if a ‘data/datalist’ file should be added
* building ‘flowClust_3.30.0.tar.gz’