Back to Multiple platform build/check report for BioC 3.19:   simplified   long
ABCDE[F]GHIJKLMNOPQRSTUVWXYZ

This page was generated on 2024-06-21 17:38 -0400 (Fri, 21 Jun 2024).

HostnameOSArch (*)R versionInstalled pkgs
nebbiolo1Linux (Ubuntu 22.04.3 LTS)x86_644.4.0 (2024-04-24) -- "Puppy Cup" 4758
palomino3Windows Server 2022 Datacenterx644.4.0 (2024-04-24 ucrt) -- "Puppy Cup" 4492
merida1macOS 12.7.4 Montereyx86_644.4.0 (2024-04-24) -- "Puppy Cup" 4506
kjohnson1macOS 13.6.6 Venturaarm644.4.0 (2024-04-24) -- "Puppy Cup" 4464
Click on any hostname to see more info about the system (e.g. compilers)      (*) as reported by 'uname -p', except on Windows and Mac OS X

Package 733/2300HostnameOS / ArchINSTALLBUILDCHECKBUILD BIN
flowCHIC 1.38.0  (landing page)
Author: Joachim Schumann
Snapshot Date: 2024-06-19 14:00 -0400 (Wed, 19 Jun 2024)
git_url: https://git.bioconductor.org/packages/flowCHIC
git_branch: RELEASE_3_19
git_last_commit: 762b916
git_last_commit_date: 2024-04-30 10:39:46 -0400 (Tue, 30 Apr 2024)
nebbiolo1Linux (Ubuntu 22.04.3 LTS) / x86_64  OK    OK    OK  UNNEEDED, same version is already published
palomino3Windows Server 2022 Datacenter / x64  OK    OK    OK    OK  UNNEEDED, same version is already published
merida1macOS 12.7.4 Monterey / x86_64  OK    OK    OK    OK  UNNEEDED, same version is already published
kjohnson1macOS 13.6.6 Ventura / arm64  OK    OK    OK    OK  UNNEEDED, same version is already published


CHECK results for flowCHIC on nebbiolo1

To the developers/maintainers of the flowCHIC package:
- Allow up to 24 hours (and sometimes 48 hours) for your latest push to git@git.bioconductor.org:packages/flowCHIC.git to reflect on this report. See Troubleshooting Build Report for more information.
- Use the following Renviron settings to reproduce errors and warnings.
- If 'R CMD check' started to fail recently on the Linux builder(s) over a missing dependency, add the missing dependency to 'Suggests:' in your DESCRIPTION file. See Renviron.bioc for more information.

raw results


Summary

Package: flowCHIC
Version: 1.38.0
Command: /home/biocbuild/bbs-3.19-bioc/R/bin/R CMD check --install=check:flowCHIC.install-out.txt --library=/home/biocbuild/bbs-3.19-bioc/R/site-library --timings flowCHIC_1.38.0.tar.gz
StartedAt: 2024-06-19 23:14:33 -0400 (Wed, 19 Jun 2024)
EndedAt: 2024-06-19 23:16:26 -0400 (Wed, 19 Jun 2024)
EllapsedTime: 112.3 seconds
RetCode: 0
Status:   OK  
CheckDir: flowCHIC.Rcheck
Warnings: 0

Command output

##############################################################################
##############################################################################
###
### Running command:
###
###   /home/biocbuild/bbs-3.19-bioc/R/bin/R CMD check --install=check:flowCHIC.install-out.txt --library=/home/biocbuild/bbs-3.19-bioc/R/site-library --timings flowCHIC_1.38.0.tar.gz
###
##############################################################################
##############################################################################


* using log directory ‘/home/biocbuild/bbs-3.19-bioc/meat/flowCHIC.Rcheck’
* using R version 4.4.0 (2024-04-24)
* using platform: x86_64-pc-linux-gnu
* R was compiled by
    gcc (Ubuntu 11.4.0-1ubuntu1~22.04) 11.4.0
    GNU Fortran (Ubuntu 11.4.0-1ubuntu1~22.04) 11.4.0
* running under: Ubuntu 22.04.4 LTS
* using session charset: UTF-8
* checking for file ‘flowCHIC/DESCRIPTION’ ... OK
* checking extension type ... Package
* this is package ‘flowCHIC’ version ‘1.38.0’
* package encoding: UTF-8
* checking package namespace information ... OK
* checking package dependencies ... OK
* checking if this is a source package ... OK
* checking if there is a namespace ... OK
* checking for hidden files and directories ... OK
* checking for portable file names ... OK
* checking for sufficient/correct file permissions ... OK
* checking whether package ‘flowCHIC’ can be installed ... OK
* checking installed package size ... OK
* checking package directory ... OK
* checking ‘build’ directory ... OK
* checking DESCRIPTION meta-information ... NOTE
Malformed Description field: should contain one or more complete sentences.
* checking top-level files ... OK
* checking for left-over files ... OK
* checking index information ... OK
* checking package subdirectories ... OK
* checking code files for non-ASCII characters ... OK
* checking R files for syntax errors ... OK
* checking whether the package can be loaded ... OK
* checking whether the package can be loaded with stated dependencies ... OK
* checking whether the package can be unloaded cleanly ... OK
* checking whether the namespace can be loaded with stated dependencies ... OK
* checking whether the namespace can be unloaded cleanly ... OK
* checking loading without being on the library search path ... OK
* checking dependencies in R code ... OK
* checking S3 generic/method consistency ... OK
* checking replacement functions ... OK
* checking foreign function calls ... OK
* checking R code for possible problems ... NOTE
fcs_to_img,character: warning in hexbin(x, y, xbin = 128): partial
  argument match of 'xbin' to 'xbins'
img_sub,character: warning in hexbin(x, y, xbin = xbin): partial
  argument match of 'xbin' to 'xbins'
fcs_to_img,character: no visible global function definition for ‘png’
fcs_to_img,character: no visible binding for global variable ‘count’
fcs_to_img,character: no visible global function definition for
  ‘dev.off’
img_sub,character: no visible global function definition for ‘png’
img_sub,character: no visible binding for global variable ‘count’
img_sub,character: no visible global function definition for ‘dev.off’
plot_nmds,data.frame-data.frame: no visible global function definition
  for ‘as.dist’
plot_nmds,data.frame-data.frame: no visible global function definition
  for ‘par’
plot_nmds,data.frame-data.frame: no visible global function definition
  for ‘hclust’
plot_nmds,data.frame-data.frame: no visible global function definition
  for ‘points’
plot_nmds,data.frame-data.frame: no visible global function definition
  for ‘text’
plot_nmds,data.frame-data.frame: no visible global function definition
  for ‘legend’
Undefined global functions or variables:
  as.dist count dev.off hclust legend par png points text
Consider adding
  importFrom("grDevices", "dev.off", "png")
  importFrom("graphics", "legend", "par", "points", "text")
  importFrom("stats", "as.dist", "hclust")
to your NAMESPACE file.
* checking Rd files ... OK
* checking Rd metadata ... OK
* checking Rd cross-references ... OK
* checking for missing documentation entries ... OK
* checking for code/documentation mismatches ... OK
* checking Rd \usage sections ... OK
* checking Rd contents ... OK
* checking for unstated dependencies in examples ... OK
* checking contents of ‘data’ directory ... OK
* checking data for non-ASCII characters ... OK
* checking data for ASCII and uncompressed saves ... OK
* checking files in ‘vignettes’ ... OK
* checking examples ... OK
Examples with CPU (user + system) or elapsed time > 5s
                        user system elapsed
calculate_overlaps_xor 7.891  0.337   8.216
* checking for unstated dependencies in vignettes ... OK
* checking package vignettes ... OK
* checking re-building of vignette outputs ... OK
* checking PDF version of manual ... OK
* DONE

Status: 2 NOTEs
See
  ‘/home/biocbuild/bbs-3.19-bioc/meat/flowCHIC.Rcheck/00check.log’
for details.


Installation output

flowCHIC.Rcheck/00install.out

##############################################################################
##############################################################################
###
### Running command:
###
###   /home/biocbuild/bbs-3.19-bioc/R/bin/R CMD INSTALL flowCHIC
###
##############################################################################
##############################################################################


* installing to library ‘/home/biocbuild/bbs-3.19-bioc/R/site-library’
* installing *source* package ‘flowCHIC’ ...
** using staged installation
** R
** data
** inst
** byte-compile and prepare package for lazy loading
** help
*** installing help indices
** building package indices
** installing vignettes
** testing if installed package can be loaded from temporary location
** testing if installed package can be loaded from final location
** testing if installed package keeps a record of temporary installation path
* DONE (flowCHIC)

Tests output


Example timings

flowCHIC.Rcheck/flowCHIC-Ex.timings

nameusersystemelapsed
calculate_overlaps_xor7.8910.3378.216
fcs_to_img0.9970.0321.029
img_sub2.3160.1082.424
plot_nmds4.2720.1084.380