Back to Multiple platform build/check report for BioC 3.13
ABCDE[F]GHIJKLMNOPQRSTUVWXYZ

This page was generated on 2021-09-22 15:05:15 -0400 (Wed, 22 Sep 2021).

CHECK results for fishpond on tokay2

To the developers/maintainers of the fishpond package:
- Please allow up to 24 hours (and sometimes 48 hours) for your latest push to git@git.bioconductor.org:packages/fishpond.git to
reflect on this report. See How and When does the builder pull? When will my changes propagate? here for more information.
- Make sure to use the following settings in order to reproduce any error or warning you see on this page.

raw results

Package 636/2041HostnameOS / ArchINSTALLBUILDCHECKBUILD BIN
fishpond 1.8.0  (landing page)
Michael Love
Snapshot Date: 2021-09-21 04:50:12 -0400 (Tue, 21 Sep 2021)
git_url: https://git.bioconductor.org/packages/fishpond
git_branch: RELEASE_3_13
git_last_commit: 38a320c
git_last_commit_date: 2021-05-19 12:41:13 -0400 (Wed, 19 May 2021)
nebbiolo1Linux (Ubuntu 20.04.2 LTS) / x86_64  OK    OK    OK  UNNEEDED, same version is already published
tokay2Windows Server 2012 R2 Standard / x64  OK    OK    OK    OK  UNNEEDED, same version is already published
machv2macOS 10.14.6 Mojave / x86_64  OK    OK    OK    OK  UNNEEDED, same version is already published

Summary

Package: fishpond
Version: 1.8.0
Command: C:\Users\biocbuild\bbs-3.13-bioc\R\bin\R.exe CMD check --force-multiarch --install=check:fishpond.install-out.txt --library=C:\Users\biocbuild\bbs-3.13-bioc\R\library --no-vignettes --timings fishpond_1.8.0.tar.gz
StartedAt: 2021-09-21 22:47:56 -0400 (Tue, 21 Sep 2021)
EndedAt: 2021-09-21 22:53:04 -0400 (Tue, 21 Sep 2021)
EllapsedTime: 308.0 seconds
RetCode: 0
Status:   OK  
CheckDir: fishpond.Rcheck
Warnings: 0

Command output

##############################################################################
##############################################################################
###
### Running command:
###
###   C:\Users\biocbuild\bbs-3.13-bioc\R\bin\R.exe CMD check --force-multiarch --install=check:fishpond.install-out.txt --library=C:\Users\biocbuild\bbs-3.13-bioc\R\library --no-vignettes --timings fishpond_1.8.0.tar.gz
###
##############################################################################
##############################################################################


* using log directory 'C:/Users/biocbuild/bbs-3.13-bioc/meat/fishpond.Rcheck'
* using R version 4.1.1 (2021-08-10)
* using platform: x86_64-w64-mingw32 (64-bit)
* using session charset: ISO8859-1
* using option '--no-vignettes'
* checking for file 'fishpond/DESCRIPTION' ... OK
* this is package 'fishpond' version '1.8.0'
* package encoding: UTF-8
* checking package namespace information ... OK
* checking package dependencies ... OK
* checking if this is a source package ... OK
* checking if there is a namespace ... OK
* checking for hidden files and directories ... OK
* checking for portable file names ... OK
* checking whether package 'fishpond' can be installed ... OK
* checking installed package size ... OK
* checking package directory ... OK
* checking 'build' directory ... OK
* checking DESCRIPTION meta-information ... OK
* checking top-level files ... OK
* checking for left-over files ... OK
* checking index information ... OK
* checking package subdirectories ... OK
* checking R files for non-ASCII characters ... OK
* checking R files for syntax errors ... OK
* loading checks for arch 'i386'
** checking whether the package can be loaded ... OK
** checking whether the package can be loaded with stated dependencies ... OK
** checking whether the package can be unloaded cleanly ... OK
** checking whether the namespace can be loaded with stated dependencies ... OK
** checking whether the namespace can be unloaded cleanly ... OK
* loading checks for arch 'x64'
** checking whether the package can be loaded ... OK
** checking whether the package can be loaded with stated dependencies ... OK
** checking whether the package can be unloaded cleanly ... OK
** checking whether the namespace can be loaded with stated dependencies ... OK
** checking whether the namespace can be unloaded cleanly ... OK
* checking dependencies in R code ... NOTE
Unexported objects imported by ':::' calls:
  'samr:::localfdr' 'samr:::predictlocalfdr' 'samr:::qvalue.func'
  'samr:::samr.compute.delta.table.seq'
  See the note in ?`:::` about the use of this operator.
* checking S3 generic/method consistency ... OK
* checking replacement functions ... OK
* checking foreign function calls ... OK
* checking R code for possible problems ... OK
* checking Rd files ... OK
* checking Rd metadata ... OK
* checking Rd cross-references ... OK
* checking for missing documentation entries ... OK
* checking for code/documentation mismatches ... OK
* checking Rd \usage sections ... OK
* checking Rd contents ... OK
* checking for unstated dependencies in examples ... OK
* checking line endings in C/C++/Fortran sources/headers ... OK
* checking use of PKG_*FLAGS in Makefiles ... OK
* checking compiled code ... NOTE
Note: information on .o files for i386 is not available
Note: information on .o files for x64 is not available
File 'C:/Users/biocbuild/bbs-3.13-bioc/R/library/fishpond/libs/i386/fishpond.dll':
  Found 'abort', possibly from 'abort' (C), 'runtime' (Fortran)
  Found 'exit', possibly from 'exit' (C), 'stop' (Fortran)
  Found 'printf', possibly from 'printf' (C)
File 'C:/Users/biocbuild/bbs-3.13-bioc/R/library/fishpond/libs/x64/fishpond.dll':
  Found 'abort', possibly from 'abort' (C), 'runtime' (Fortran)
  Found 'exit', possibly from 'exit' (C), 'stop' (Fortran)
  Found 'printf', possibly from 'printf' (C)

Compiled code should not call entry points which might terminate R nor
write to stdout/stderr instead of to the console, nor use Fortran I/O
nor system RNGs. The detected symbols are linked into the code but
might come from libraries and not actually be called.

See 'Writing portable packages' in the 'Writing R Extensions' manual.
* checking files in 'vignettes' ... OK
* checking examples ...
** running examples for arch 'i386' ... OK
** running examples for arch 'x64' ... OK
* checking for unstated dependencies in 'tests' ... OK
* checking tests ...
** running tests for arch 'i386' ...
  Running 'testthat.R'
 OK
** running tests for arch 'x64' ...
  Running 'testthat.R'
 OK
* checking for unstated dependencies in vignettes ... OK
* checking package vignettes in 'inst/doc' ... OK
* checking running R code from vignettes ... SKIPPED
* checking re-building of vignette outputs ... SKIPPED
* checking PDF version of manual ... OK
* DONE

Status: 2 NOTEs
See
  'C:/Users/biocbuild/bbs-3.13-bioc/meat/fishpond.Rcheck/00check.log'
for details.



Installation output

fishpond.Rcheck/00install.out

##############################################################################
##############################################################################
###
### Running command:
###
###   C:\cygwin\bin\curl.exe -O http://155.52.207.165/BBS/3.13/bioc/src/contrib/fishpond_1.8.0.tar.gz && rm -rf fishpond.buildbin-libdir && mkdir fishpond.buildbin-libdir && C:\Users\biocbuild\bbs-3.13-bioc\R\bin\R.exe CMD INSTALL --merge-multiarch --build --library=fishpond.buildbin-libdir fishpond_1.8.0.tar.gz && C:\Users\biocbuild\bbs-3.13-bioc\R\bin\R.exe CMD INSTALL fishpond_1.8.0.zip && rm fishpond_1.8.0.tar.gz fishpond_1.8.0.zip
###
##############################################################################
##############################################################################


  % Total    % Received % Xferd  Average Speed   Time    Time     Time  Current
                                 Dload  Upload   Total   Spent    Left  Speed

  0     0    0     0    0     0      0      0 --:--:-- --:--:-- --:--:--     0
100 50814  100 50814    0     0   325k      0 --:--:-- --:--:-- --:--:--  328k

install for i386

* installing *source* package 'fishpond' ...
** using staged installation
** libs
"C:/rtools40/mingw32/bin/"g++  -std=gnu++11 -I"C:/Users/BIOCBU~1/BBS-3~1.13-/R/include" -DNDEBUG  -I'C:/Users/biocbuild/bbs-3.13-bioc/R/library/Rcpp/include'   -I"c:/extsoft/include"     -O2 -Wall  -mfpmath=sse -msse2 -mstackrealign  -c RcppExports.cpp -o RcppExports.o
"C:/rtools40/mingw32/bin/"g++  -std=gnu++11 -I"C:/Users/BIOCBU~1/BBS-3~1.13-/R/include" -DNDEBUG  -I'C:/Users/biocbuild/bbs-3.13-bioc/R/library/Rcpp/include'   -I"c:/extsoft/include"     -O2 -Wall  -mfpmath=sse -msse2 -mstackrealign  -c readEDS.cpp -o readEDS.o
C:/rtools40/mingw32/bin/g++ -shared -s -static-libgcc -o fishpond.dll tmp.def RcppExports.o readEDS.o -lz -Lc:/extsoft/lib/i386 -Lc:/extsoft/lib -LC:/Users/BIOCBU~1/BBS-3~1.13-/R/bin/i386 -lR
installing to C:/Users/biocbuild/bbs-3.13-bioc/meat/fishpond.buildbin-libdir/00LOCK-fishpond/00new/fishpond/libs/i386
** R
** inst
** byte-compile and prepare package for lazy loading
** help
*** installing help indices
  converting help for package 'fishpond'
    finding HTML links ... done
    addStatsFromCSV                         html  
    computeInfRV                            html  
    deswish                                 html  
    fishpond-package                        html  
    isoformProportions                      html  
    labelKeep                               html  
    makeInfReps                             html  
    makeSimSwishData                        html  
    miniSwish                               html  
    plotInfReps                             html  
    plotMASwish                             html  
    readEDS                                 html  
    scaleInfReps                            html  
    splitSwish                              html  
    swish                                   html  
** building package indices
** installing vignettes
** testing if installed package can be loaded from temporary location
** testing if installed package can be loaded from final location
** testing if installed package keeps a record of temporary installation path

install for x64

* installing *source* package 'fishpond' ...
** libs
"C:/rtools40/mingw64/bin/"g++  -std=gnu++11 -I"C:/Users/BIOCBU~1/BBS-3~1.13-/R/include" -DNDEBUG  -I'C:/Users/biocbuild/bbs-3.13-bioc/R/library/Rcpp/include'   -I"C:/extsoft/include"     -O2 -Wall  -mfpmath=sse -msse2 -mstackrealign  -c RcppExports.cpp -o RcppExports.o
"C:/rtools40/mingw64/bin/"g++  -std=gnu++11 -I"C:/Users/BIOCBU~1/BBS-3~1.13-/R/include" -DNDEBUG  -I'C:/Users/biocbuild/bbs-3.13-bioc/R/library/Rcpp/include'   -I"C:/extsoft/include"     -O2 -Wall  -mfpmath=sse -msse2 -mstackrealign  -c readEDS.cpp -o readEDS.o
C:/rtools40/mingw64/bin/g++ -shared -s -static-libgcc -o fishpond.dll tmp.def RcppExports.o readEDS.o -lz -LC:/extsoft/lib/x64 -LC:/extsoft/lib -LC:/Users/BIOCBU~1/BBS-3~1.13-/R/bin/x64 -lR
installing to C:/Users/biocbuild/bbs-3.13-bioc/meat/fishpond.buildbin-libdir/fishpond/libs/x64
** testing if installed package can be loaded
* MD5 sums
packaged installation of 'fishpond' as fishpond_1.8.0.zip
* DONE (fishpond)
* installing to library 'C:/Users/biocbuild/bbs-3.13-bioc/R/library'
package 'fishpond' successfully unpacked and MD5 sums checked

Tests output

fishpond.Rcheck/tests_i386/testthat.Rout


R version 4.1.1 (2021-08-10) -- "Kick Things"
Copyright (C) 2021 The R Foundation for Statistical Computing
Platform: i386-w64-mingw32/i386 (32-bit)

R is free software and comes with ABSOLUTELY NO WARRANTY.
You are welcome to redistribute it under certain conditions.
Type 'license()' or 'licence()' for distribution details.

R is a collaborative project with many contributors.
Type 'contributors()' for more information and
'citation()' on how to cite R or R packages in publications.

Type 'demo()' for some demos, 'help()' for on-line help, or
'help.start()' for an HTML browser interface to help.
Type 'q()' to quit R.

> library(testthat)
> library(fishpond)
> 
> test_check("fishpond")
== Skipped tests ===============================================================
* empty test (5)

[ FAIL 0 | WARN 0 | SKIP 5 | PASS 17 ]
> 
> proc.time()
   user  system elapsed 
  56.53    1.26   58.70 

fishpond.Rcheck/tests_x64/testthat.Rout


R version 4.1.1 (2021-08-10) -- "Kick Things"
Copyright (C) 2021 The R Foundation for Statistical Computing
Platform: x86_64-w64-mingw32/x64 (64-bit)

R is free software and comes with ABSOLUTELY NO WARRANTY.
You are welcome to redistribute it under certain conditions.
Type 'license()' or 'licence()' for distribution details.

R is a collaborative project with many contributors.
Type 'contributors()' for more information and
'citation()' on how to cite R or R packages in publications.

Type 'demo()' for some demos, 'help()' for on-line help, or
'help.start()' for an HTML browser interface to help.
Type 'q()' to quit R.

> library(testthat)
> library(fishpond)
> 
> test_check("fishpond")
== Skipped tests ===============================================================
* empty test (5)

[ FAIL 0 | WARN 0 | SKIP 5 | PASS 17 ]
> 
> proc.time()
   user  system elapsed 
  54.71    0.87   55.57 

Example timings

fishpond.Rcheck/examples_i386/fishpond-Ex.timings

nameusersystemelapsed
deswish0.290.000.29
labelKeep0.720.050.77
makeInfReps0.330.050.38
makeSimSwishData0.170.000.17
plotInfReps0.390.050.44
plotMASwish2.010.062.08
scaleInfReps0.380.080.45
swish1.030.041.08

fishpond.Rcheck/examples_x64/fishpond-Ex.timings

nameusersystemelapsed
deswish0.330.000.33
labelKeep0.840.020.86
makeInfReps0.380.030.41
makeSimSwishData0.260.030.29
plotInfReps0.380.030.43
plotMASwish2.200.112.31
scaleInfReps0.490.020.50
swish1.370.031.41