Back to Multiple platform build/check report for BioC 3.13
ABCDE[F]GHIJKLMNOPQRSTUVWXYZ

This page was generated on 2021-09-24 15:06:09 -0400 (Fri, 24 Sep 2021).

BUILD BIN results for fishpond on tokay2

To the developers/maintainers of the fishpond package:
- Please allow up to 24 hours (and sometimes 48 hours) for your latest push to git@git.bioconductor.org:packages/fishpond.git to
reflect on this report. See How and When does the builder pull? When will my changes propagate? here for more information.
- Make sure to use the following settings in order to reproduce any error or warning you see on this page.

raw results

Package 636/2041HostnameOS / ArchINSTALLBUILDCHECKBUILD BIN
fishpond 1.8.0  (landing page)
Michael Love
Snapshot Date: 2021-09-23 04:50:12 -0400 (Thu, 23 Sep 2021)
git_url: https://git.bioconductor.org/packages/fishpond
git_branch: RELEASE_3_13
git_last_commit: 38a320c
git_last_commit_date: 2021-05-19 12:41:13 -0400 (Wed, 19 May 2021)
nebbiolo1Linux (Ubuntu 20.04.2 LTS) / x86_64  OK    OK    OK  UNNEEDED, same version is already published
tokay2Windows Server 2012 R2 Standard / x64  OK    OK    OK    OK  UNNEEDED, same version is already published
machv2macOS 10.14.6 Mojave / x86_64  OK    OK    OK    OK  UNNEEDED, same version is already published

Summary

Package: fishpond
Version: 1.8.0
Command: rm -rf fishpond.buildbin-libdir && mkdir fishpond.buildbin-libdir && C:\Users\biocbuild\bbs-3.13-bioc\R\bin\R.exe CMD INSTALL --merge-multiarch --build --library=fishpond.buildbin-libdir fishpond_1.8.0.tar.gz
StartedAt: 2021-09-24 08:26:45 -0400 (Fri, 24 Sep 2021)
EndedAt: 2021-09-24 08:28:20 -0400 (Fri, 24 Sep 2021)
EllapsedTime: 94.7 seconds
RetCode: 0
Status:   OK  
PackageFile: fishpond_1.8.0.zip
PackageFileSize: 1.475 MiB

Command output

##############################################################################
##############################################################################
###
### Running command:
###
###   rm -rf fishpond.buildbin-libdir && mkdir fishpond.buildbin-libdir && C:\Users\biocbuild\bbs-3.13-bioc\R\bin\R.exe CMD INSTALL --merge-multiarch --build --library=fishpond.buildbin-libdir fishpond_1.8.0.tar.gz
###
##############################################################################
##############################################################################



install for i386

* installing *source* package 'fishpond' ...
** using staged installation
** libs
"C:/rtools40/mingw32/bin/"g++  -std=gnu++11 -I"C:/Users/BIOCBU~1/BBS-3~1.13-/R/include" -DNDEBUG  -I'C:/Users/biocbuild/bbs-3.13-bioc/R/library/Rcpp/include'   -I"c:/extsoft/include"     -O2 -Wall  -mfpmath=sse -msse2 -mstackrealign  -c RcppExports.cpp -o RcppExports.o
"C:/rtools40/mingw32/bin/"g++  -std=gnu++11 -I"C:/Users/BIOCBU~1/BBS-3~1.13-/R/include" -DNDEBUG  -I'C:/Users/biocbuild/bbs-3.13-bioc/R/library/Rcpp/include'   -I"c:/extsoft/include"     -O2 -Wall  -mfpmath=sse -msse2 -mstackrealign  -c readEDS.cpp -o readEDS.o
C:/rtools40/mingw32/bin/g++ -shared -s -static-libgcc -o fishpond.dll tmp.def RcppExports.o readEDS.o -lz -Lc:/extsoft/lib/i386 -Lc:/extsoft/lib -LC:/Users/BIOCBU~1/BBS-3~1.13-/R/bin/i386 -lR
installing to C:/Users/biocbuild/bbs-3.13-bioc/meat/fishpond.buildbin-libdir/00LOCK-fishpond/00new/fishpond/libs/i386
** R
** inst
** byte-compile and prepare package for lazy loading
** help
*** installing help indices
  converting help for package 'fishpond'
    finding HTML links ... done
    addStatsFromCSV                         html  
    computeInfRV                            html  
    deswish                                 html  
    fishpond-package                        html  
    isoformProportions                      html  
    labelKeep                               html  
    makeInfReps                             html  
    makeSimSwishData                        html  
    miniSwish                               html  
    plotInfReps                             html  
    plotMASwish                             html  
    readEDS                                 html  
    scaleInfReps                            html  
    splitSwish                              html  
    swish                                   html  
** building package indices
** installing vignettes
** testing if installed package can be loaded from temporary location
** testing if installed package can be loaded from final location
** testing if installed package keeps a record of temporary installation path

install for x64

* installing *source* package 'fishpond' ...
** libs
"C:/rtools40/mingw64/bin/"g++  -std=gnu++11 -I"C:/Users/BIOCBU~1/BBS-3~1.13-/R/include" -DNDEBUG  -I'C:/Users/biocbuild/bbs-3.13-bioc/R/library/Rcpp/include'   -I"C:/extsoft/include"     -O2 -Wall  -mfpmath=sse -msse2 -mstackrealign  -c RcppExports.cpp -o RcppExports.o
"C:/rtools40/mingw64/bin/"g++  -std=gnu++11 -I"C:/Users/BIOCBU~1/BBS-3~1.13-/R/include" -DNDEBUG  -I'C:/Users/biocbuild/bbs-3.13-bioc/R/library/Rcpp/include'   -I"C:/extsoft/include"     -O2 -Wall  -mfpmath=sse -msse2 -mstackrealign  -c readEDS.cpp -o readEDS.o
C:/rtools40/mingw64/bin/g++ -shared -s -static-libgcc -o fishpond.dll tmp.def RcppExports.o readEDS.o -lz -LC:/extsoft/lib/x64 -LC:/extsoft/lib -LC:/Users/BIOCBU~1/BBS-3~1.13-/R/bin/x64 -lR
installing to C:/Users/biocbuild/bbs-3.13-bioc/meat/fishpond.buildbin-libdir/fishpond/libs/x64
** testing if installed package can be loaded
* MD5 sums
packaged installation of 'fishpond' as fishpond_1.8.0.zip
* DONE (fishpond)