Back to Multiple platform build/check report for BioC 3.13
ABCDE[F]GHIJKLMNOPQRSTUVWXYZ

This page was generated on 2021-09-24 15:06:40 -0400 (Fri, 24 Sep 2021).

BUILD BIN results for fishpond on machv2

To the developers/maintainers of the fishpond package:
- Please allow up to 24 hours (and sometimes 48 hours) for your latest push to git@git.bioconductor.org:packages/fishpond.git to
reflect on this report. See How and When does the builder pull? When will my changes propagate? here for more information.
- Make sure to use the following settings in order to reproduce any error or warning you see on this page.

raw results

Package 636/2041HostnameOS / ArchINSTALLBUILDCHECKBUILD BIN
fishpond 1.8.0  (landing page)
Michael Love
Snapshot Date: 2021-09-23 04:50:12 -0400 (Thu, 23 Sep 2021)
git_url: https://git.bioconductor.org/packages/fishpond
git_branch: RELEASE_3_13
git_last_commit: 38a320c
git_last_commit_date: 2021-05-19 12:41:13 -0400 (Wed, 19 May 2021)
nebbiolo1Linux (Ubuntu 20.04.2 LTS) / x86_64  OK    OK    OK  UNNEEDED, same version is already published
tokay2Windows Server 2012 R2 Standard / x64  OK    OK    OK    OK  UNNEEDED, same version is already published
machv2macOS 10.14.6 Mojave / x86_64  OK    OK    OK    OK  UNNEEDED, same version is already published

Summary

Package: fishpond
Version: 1.8.0
Command: rm -rf fishpond.buildbin-libdir && mkdir fishpond.buildbin-libdir && /Users/biocbuild/BBS/utils/build-universal.sh fishpond_1.8.0.tar.gz /Library/Frameworks/R.framework/Versions/Current/Resources/bin/R fishpond.buildbin-libdir
StartedAt: 2021-09-24 02:04:08 -0400 (Fri, 24 Sep 2021)
EndedAt: 2021-09-24 02:05:13 -0400 (Fri, 24 Sep 2021)
EllapsedTime: 65.2 seconds
RetCode: 0
Status:   OK  
PackageFile: fishpond_1.8.0.tgz
PackageFileSize: 2.099 MiB

Command output

##############################################################################
##############################################################################
###
### Running command:
###
###   rm -rf fishpond.buildbin-libdir && mkdir fishpond.buildbin-libdir && /Users/biocbuild/BBS/utils/build-universal.sh fishpond_1.8.0.tar.gz /Library/Frameworks/R.framework/Versions/Current/Resources/bin/R fishpond.buildbin-libdir
###
##############################################################################
##############################################################################


>>>>>>> 
>>>>>>> INSTALLATION WITH 'R CMD INSTALL --preclean --no-multiarch --library=fishpond.buildbin-libdir fishpond_1.8.0.tar.gz'
>>>>>>> 

* installing *source* package ‘fishpond’ ...
** using staged installation
** libs
clang++ -mmacosx-version-min=10.13 -std=gnu++11 -I"/Library/Frameworks/R.framework/Resources/include" -DNDEBUG  -I'/Library/Frameworks/R.framework/Versions/4.1/Resources/library/Rcpp/include' -I/usr/local/include   -fPIC  -Wall -g -O2  -c RcppExports.cpp -o RcppExports.o
clang++ -mmacosx-version-min=10.13 -std=gnu++11 -I"/Library/Frameworks/R.framework/Resources/include" -DNDEBUG  -I'/Library/Frameworks/R.framework/Versions/4.1/Resources/library/Rcpp/include' -I/usr/local/include   -fPIC  -Wall -g -O2  -c readEDS.cpp -o readEDS.o
clang++ -mmacosx-version-min=10.13 -std=gnu++11 -dynamiclib -Wl,-headerpad_max_install_names -undefined dynamic_lookup -single_module -multiply_defined suppress -L/Library/Frameworks/R.framework/Resources/lib -L/usr/local/lib -o fishpond.so RcppExports.o readEDS.o -F/Library/Frameworks/R.framework/.. -framework R -Wl,-framework -Wl,CoreFoundation
installing to /Users/biocbuild/bbs-3.13-bioc/meat/fishpond.buildbin-libdir/00LOCK-fishpond/00new/fishpond/libs
** R
** inst
** byte-compile and prepare package for lazy loading
** help
*** installing help indices
** building package indices
** installing vignettes
** testing if installed package can be loaded from temporary location
** checking absolute paths in shared objects and dynamic libraries
** testing if installed package can be loaded from final location
** testing if installed package keeps a record of temporary installation path
* DONE (fishpond)


>>>>>>> 
>>>>>>> FIXING LINKS FOR fishpond.buildbin-libdir/fishpond/libs/fishpond.so
>>>>>>> 

install_name_tool -change "/usr/local/lib/libgcc_s.1.dylib" "/Library/Frameworks/R.framework/Versions/4.1/Resources/lib/libgcc_s.1.dylib" "fishpond.buildbin-libdir/fishpond/libs/fishpond.so"
install_name_tool -change "/usr/local/lib/libgfortran.5.dylib" "/Library/Frameworks/R.framework/Versions/4.1/Resources/lib/libgfortran.5.dylib" "fishpond.buildbin-libdir/fishpond/libs/fishpond.so"
install_name_tool -change "/usr/local/lib/libquadmath.0.dylib" "/Library/Frameworks/R.framework/Versions/4.1/Resources/lib/libquadmath.0.dylib" "fishpond.buildbin-libdir/fishpond/libs/fishpond.so"