Back to Multiple platform build/check report for BioC 3.19:   simplified   long
ABCDE[F]GHIJKLMNOPQRSTUVWXYZ

This page was generated on 2024-05-22 11:33:53 -0400 (Wed, 22 May 2024).

HostnameOSArch (*)R versionInstalled pkgs
nebbiolo1Linux (Ubuntu 22.04.3 LTS)x86_644.4.0 (2024-04-24) -- "Puppy Cup" 4751
palomino3Windows Server 2022 Datacenterx644.4.0 (2024-04-24 ucrt) -- "Puppy Cup" 4485
lconwaymacOS 12.7.1 Montereyx86_644.4.0 (2024-04-24) -- "Puppy Cup" 3444
Click on any hostname to see more info about the system (e.g. compilers)      (*) as reported by 'uname -p', except on Windows and Mac OS X

All results for package fgsea


To the developers/maintainers of the fgsea package:
- Allow up to 24 hours (and sometimes 48 hours) for your latest push to git@git.bioconductor.org:packages/fgsea.git to reflect on this report. See Troubleshooting Build Report for more information.
- Use the following Renviron settings to reproduce errors and warnings.
- If 'R CMD check' started to fail recently on the Linux builder(s) over a missing dependency, add the missing dependency to 'Suggests:' in your DESCRIPTION file. See Renviron.bioc for more information.

raw results

Package 720/2300HostnameOS / ArchINSTALLBUILDCHECKBUILD BIN
fgsea 1.30.0  (landing page)
Alexey Sergushichev
Snapshot Date: 2024-05-21 14:00:15 -0400 (Tue, 21 May 2024)
git_url: https://git.bioconductor.org/packages/fgsea
git_branch: RELEASE_3_19
git_last_commit: 5f63439
git_last_commit_date: 2024-04-30 10:52:02 -0400 (Tue, 30 Apr 2024)
nebbiolo1Linux (Ubuntu 22.04.3 LTS) / x86_64  OK    OK    OK  UNNEEDED, same version is already published
palomino3Windows Server 2022 Datacenter / x64  OK    OK    OK    OK  UNNEEDED, same version is already published
lconwaymacOS 12.7.1 Monterey / x86_64  OK    OK    WARNINGS    OK  UNNEEDED, same version is already published
kjohnson3macOS 13.6.5 Ventura / arm64see weekly results here

Results for Bioconductor software packages that depend directly on package fgsea

QUICK STATSOS / ArchINSTALLBUILDCHECKBUILD BIN
nebbiolo1Linux (Ubuntu 22.04.3 LTS) / x86_64
0127
0226
00224
palomino3Windows Server 2022 Datacenter / x64
0127
0127
01224
0027
lconwaymacOS 12.7.1 Monterey / x86_64
01513
01810
0118
0010
Package 1/28HostnameOS / ArchINSTALLBUILDCHECKBUILD BIN
ATACCoGAPS 1.6.0  (landing page)
Rossin Erbe
git_last_commit: d9555fb
git_last_commit_date: 2024-04-30 11:43:31 -0400
nebbiolo1Linux (Ubuntu 22.04.3 LTS) / x86_64  OK    OK    OK  UNNEEDED, same version is already published
palomino3Windows Server 2022 Datacenter / x64  OK    OK    OK    OK  UNNEEDED, same version is already published
lconwaymacOS 12.7.1 Monterey / x86_64  ERROR    ERROR  skippedskipped
kjohnson3macOS 13.6.5 Ventura / arm64see weekly results here
Package 2/28HostnameOS / ArchINSTALLBUILDCHECKBUILD BIN
BioNAR 1.6.0  (landing page)
Anatoly Sorokin
git_last_commit: 61eee62
git_last_commit_date: 2024-04-30 11:45:27 -0400
nebbiolo1Linux (Ubuntu 22.04.3 LTS) / x86_64  OK    OK    OK  UNNEEDED, same version is already published
palomino3Windows Server 2022 Datacenter / x64  OK    OK    OK    OK  UNNEEDED, same version is already published
lconwaymacOS 12.7.1 Monterey / x86_64  OK    OK    OK    OK  UNNEEDED, same version is already published
kjohnson3macOS 13.6.5 Ventura / arm64see weekly results here
Package 3/28HostnameOS / ArchINSTALLBUILDCHECKBUILD BIN
CelliD 1.12.0  (landing page)
Akira Cortal
git_last_commit: 32cdf76
git_last_commit_date: 2024-04-30 11:32:13 -0400
nebbiolo1Linux (Ubuntu 22.04.3 LTS) / x86_64  OK    OK    WARNINGS  UNNEEDED, same version is already published
palomino3Windows Server 2022 Datacenter / x64  OK    OK    WARNINGS    OK  UNNEEDED, same version is already published
lconwaymacOS 12.7.1 Monterey / x86_64  ERROR    ERROR  skippedskipped
kjohnson3macOS 13.6.5 Ventura / arm64see weekly results here
Package 4/28HostnameOS / ArchINSTALLBUILDCHECKBUILD BIN
CEMiTool 1.28.0  (landing page)
Helder Nakaya
git_last_commit: f232237
git_last_commit_date: 2024-04-30 10:59:39 -0400
nebbiolo1Linux (Ubuntu 22.04.3 LTS) / x86_64  OK    OK    OK  UNNEEDED, same version is already published
palomino3Windows Server 2022 Datacenter / x64  OK    OK    OK    OK  UNNEEDED, same version is already published
lconwaymacOS 12.7.1 Monterey / x86_64  OK    OK    OK    OK  UNNEEDED, same version is already published
kjohnson3macOS 13.6.5 Ventura / arm64see weekly results here
Package 5/28HostnameOS / ArchINSTALLBUILDCHECKBUILD BIN
clustifyr 1.16.0  (landing page)
Kent Riemondy
git_last_commit: 6d3d12e
git_last_commit_date: 2024-04-30 11:20:53 -0400
nebbiolo1Linux (Ubuntu 22.04.3 LTS) / x86_64  OK    OK    OK  UNNEEDED, same version is already published
palomino3Windows Server 2022 Datacenter / x64  OK    OK    OK    OK  UNNEEDED, same version is already published
lconwaymacOS 12.7.1 Monterey / x86_64  ERROR    ERROR  skippedskipped
kjohnson3macOS 13.6.5 Ventura / arm64see weekly results here
Package 6/28HostnameOS / ArchINSTALLBUILDCHECKBUILD BIN
CoGAPS 3.24.0  (landing page)
Elana J. Fertig
git_last_commit: 5ecafd4
git_last_commit_date: 2024-04-30 10:22:20 -0400
nebbiolo1Linux (Ubuntu 22.04.3 LTS) / x86_64  OK    OK    OK  UNNEEDED, same version is already published
palomino3Windows Server 2022 Datacenter / x64  OK    OK    OK    OK  UNNEEDED, same version is already published
lconwaymacOS 12.7.1 Monterey / x86_64  ERROR    ERROR  skippedskipped
kjohnson3macOS 13.6.5 Ventura / arm64see weekly results here
Package 7/28HostnameOS / ArchINSTALLBUILDCHECKBUILD BIN
cTRAP 1.22.0  (landing page)
Nuno Saraiva-Agostinho
git_last_commit: 3cc210c
git_last_commit_date: 2024-04-30 11:10:28 -0400
nebbiolo1Linux (Ubuntu 22.04.3 LTS) / x86_64  OK    OK    OK  UNNEEDED, same version is already published
palomino3Windows Server 2022 Datacenter / x64  OK    OK    OK    OK  UNNEEDED, same version is already published
lconwaymacOS 12.7.1 Monterey / x86_64  OK    OK    OK    OK  UNNEEDED, same version is already published
kjohnson3macOS 13.6.5 Ventura / arm64see weekly results here
Package 8/28HostnameOS / ArchINSTALLBUILDCHECKBUILD BIN
DOSE 3.30.1  (landing page)
Guangchuang Yu
git_last_commit: 651ad4c
git_last_commit_date: 2024-05-16 06:13:21 -0400
nebbiolo1Linux (Ubuntu 22.04.3 LTS) / x86_64  OK    OK    OK  UNNEEDED, same version is already published
palomino3Windows Server 2022 Datacenter / x64  OK    OK    OK    OK  UNNEEDED, same version is already published
lconwaymacOS 12.7.1 Monterey / x86_64  OK    OK    OK    OK  UNNEEDED, same version is already published
kjohnson3macOS 13.6.5 Ventura / arm64see weekly results here
Package 9/28HostnameOS / ArchINSTALLBUILDCHECKBUILD BIN
EventPointer 3.12.0  (landing page)
Juan A. Ferrer-Bonsoms
git_last_commit: 93a9ebf
git_last_commit_date: 2024-04-30 10:56:34 -0400
nebbiolo1Linux (Ubuntu 22.04.3 LTS) / x86_64  OK    OK    OK  UNNEEDED, same version is already published
palomino3Windows Server 2022 Datacenter / x64  OK    OK    OK    OK  UNNEEDED, same version is already published
lconwaymacOS 12.7.1 Monterey / x86_64  ERROR    ERROR  skippedskipped
kjohnson3macOS 13.6.5 Ventura / arm64see weekly results here
Package 10/28HostnameOS / ArchINSTALLBUILDCHECKBUILD BIN
fobitools 1.12.0  (landing page)
Pol Castellano-Escuder
git_last_commit: 0717adc
git_last_commit_date: 2024-04-30 11:31:02 -0400
nebbiolo1Linux (Ubuntu 22.04.3 LTS) / x86_64  OK    ERROR  skipped
palomino3Windows Server 2022 Datacenter / x64  OK    OK    OK    OK  UNNEEDED, same version is already published
lconwaymacOS 12.7.1 Monterey / x86_64  OK    ERROR  skippedskipped
kjohnson3macOS 13.6.5 Ventura / arm64see weekly results here
Package 11/28HostnameOS / ArchINSTALLBUILDCHECKBUILD BIN
gsean 1.24.0  (landing page)
Dongmin Jung
git_last_commit: 0a989f8
git_last_commit_date: 2024-04-30 11:03:41 -0400
nebbiolo1Linux (Ubuntu 22.04.3 LTS) / x86_64  OK    OK    OK  UNNEEDED, same version is already published
palomino3Windows Server 2022 Datacenter / x64  OK    OK    OK    OK  UNNEEDED, same version is already published
lconwaymacOS 12.7.1 Monterey / x86_64  OK    ERROR  skippedskipped
kjohnson3macOS 13.6.5 Ventura / arm64see weekly results here
Package 12/28HostnameOS / ArchINSTALLBUILDCHECKBUILD BIN
lipidr 2.18.0  (landing page)
Ahmed Mohamed
git_last_commit: dfe1fe4
git_last_commit_date: 2024-04-30 11:14:21 -0400
nebbiolo1Linux (Ubuntu 22.04.3 LTS) / x86_64  OK    OK    OK  UNNEEDED, same version is already published
palomino3Windows Server 2022 Datacenter / x64  OK    OK    OK    OK  UNNEEDED, same version is already published
lconwaymacOS 12.7.1 Monterey / x86_64  ERROR    ERROR  skippedskipped
kjohnson3macOS 13.6.5 Ventura / arm64see weekly results here
Package 13/28HostnameOS / ArchINSTALLBUILDCHECKBUILD BIN
mCSEA 1.24.0  (landing page)
Jordi Martorell-Marugán
git_last_commit: 419e949
git_last_commit_date: 2024-04-30 11:03:23 -0400
nebbiolo1Linux (Ubuntu 22.04.3 LTS) / x86_64  OK    OK    OK  UNNEEDED, same version is already published
palomino3Windows Server 2022 Datacenter / x64  OK    OK    OK    OK  UNNEEDED, same version is already published
lconwaymacOS 12.7.1 Monterey / x86_64  ERROR    ERROR  skippedskipped
kjohnson3macOS 13.6.5 Ventura / arm64see weekly results here
Package 14/28HostnameOS / ArchINSTALLBUILDCHECKBUILD BIN
metapone 1.10.0  (landing page)
Tianwei Yu
git_last_commit: ef007eb
git_last_commit_date: 2024-04-30 11:37:01 -0400
nebbiolo1Linux (Ubuntu 22.04.3 LTS) / x86_64  OK    OK    OK  UNNEEDED, same version is already published
palomino3Windows Server 2022 Datacenter / x64  OK    OK    OK    OK  UNNEEDED, same version is already published
lconwaymacOS 12.7.1 Monterey / x86_64  OK    OK    OK    OK  UNNEEDED, same version is already published
kjohnson3macOS 13.6.5 Ventura / arm64see weekly results here
Package 15/28HostnameOS / ArchINSTALLBUILDCHECKBUILD BIN
MIRit 1.0.0  (landing page)
Jacopo Ronchi
git_last_commit: ed1b3ba
git_last_commit_date: 2024-04-30 11:53:58 -0400
nebbiolo1Linux (Ubuntu 22.04.3 LTS) / x86_64  ERROR    ERROR  skipped
palomino3Windows Server 2022 Datacenter / x64  ERROR    ERROR  skippedskipped
lconwaymacOS 12.7.1 Monterey / x86_64  ERROR    ERROR  skippedskipped
kjohnson3macOS 13.6.5 Ventura / arm64see weekly results here
Package 16/28HostnameOS / ArchINSTALLBUILDCHECKBUILD BIN
multiGSEA 1.14.0  (landing page)
Sebastian Canzler
git_last_commit: 7fd1d9a
git_last_commit_date: 2024-04-30 11:24:57 -0400
nebbiolo1Linux (Ubuntu 22.04.3 LTS) / x86_64  OK    OK    OK  UNNEEDED, same version is already published
palomino3Windows Server 2022 Datacenter / x64  OK    OK    OK    OK  UNNEEDED, same version is already published
lconwaymacOS 12.7.1 Monterey / x86_64  OK    OK    OK    OK  UNNEEDED, same version is already published
kjohnson3macOS 13.6.5 Ventura / arm64see weekly results here
Package 17/28HostnameOS / ArchINSTALLBUILDCHECKBUILD BIN
NanoTube 1.10.0  (landing page)
Caleb Class
git_last_commit: 0aede91
git_last_commit_date: 2024-04-30 11:35:24 -0400
nebbiolo1Linux (Ubuntu 22.04.3 LTS) / x86_64  OK    OK    OK  UNNEEDED, same version is already published
palomino3Windows Server 2022 Datacenter / x64  OK    OK    OK    OK  UNNEEDED, same version is already published
lconwaymacOS 12.7.1 Monterey / x86_64  OK    ERROR  skippedskipped
kjohnson3macOS 13.6.5 Ventura / arm64see weekly results here
Package 18/28HostnameOS / ArchINSTALLBUILDCHECKBUILD BIN
nipalsMCIA 1.2.0  (landing page)
Maximilian Mattessich
git_last_commit: fb5c587
git_last_commit_date: 2024-04-30 11:51:41 -0400
nebbiolo1Linux (Ubuntu 22.04.3 LTS) / x86_64  OK    OK    OK  UNNEEDED, same version is already published
palomino3Windows Server 2022 Datacenter / x64  OK    OK    OK    OK  UNNEEDED, same version is already published
lconwaymacOS 12.7.1 Monterey / x86_64  ERROR    ERROR  skippedskipped
kjohnson3macOS 13.6.5 Ventura / arm64see weekly results here
Package 19/28HostnameOS / ArchINSTALLBUILDCHECKBUILD BIN
omicsViewer 1.8.0  (landing page)
Chen Meng
git_last_commit: 18d5636
git_last_commit_date: 2024-04-30 11:42:27 -0400
nebbiolo1Linux (Ubuntu 22.04.3 LTS) / x86_64  OK    OK    OK  UNNEEDED, same version is already published
palomino3Windows Server 2022 Datacenter / x64  OK    OK    OK    OK  UNNEEDED, same version is already published
lconwaymacOS 12.7.1 Monterey / x86_64  ERROR    ERROR  skippedskipped
kjohnson3macOS 13.6.5 Ventura / arm64see weekly results here
Package 20/28HostnameOS / ArchINSTALLBUILDCHECKBUILD BIN
pairedGSEA 1.4.0  (landing page)
Søren Helweg Dam
git_last_commit: 438a425
git_last_commit_date: 2024-04-30 11:49:03 -0400
nebbiolo1Linux (Ubuntu 22.04.3 LTS) / x86_64  OK    OK    OK  UNNEEDED, same version is already published
palomino3Windows Server 2022 Datacenter / x64  OK    OK    OK    OK  UNNEEDED, same version is already published
lconwaymacOS 12.7.1 Monterey / x86_64  ERROR    ERROR  skippedskipped
kjohnson3macOS 13.6.5 Ventura / arm64see weekly results here
Package 21/28HostnameOS / ArchINSTALLBUILDCHECKBUILD BIN
phantasus 1.24.0  (landing page)
Alexey Sergushichev
git_last_commit: d2f95bd
git_last_commit_date: 2024-04-30 11:04:55 -0400
nebbiolo1Linux (Ubuntu 22.04.3 LTS) / x86_64  OK    OK    OK  UNNEEDED, same version is already published
palomino3Windows Server 2022 Datacenter / x64  OK    OK    ERROR    OK  
lconwaymacOS 12.7.1 Monterey / x86_64  ERROR    ERROR  skippedskipped
kjohnson3macOS 13.6.5 Ventura / arm64see weekly results here
Package 22/28HostnameOS / ArchINSTALLBUILDCHECKBUILD BIN
piano 2.20.0  (landing page)
Leif Varemo Wigge
git_last_commit: 2427fea
git_last_commit_date: 2024-04-30 10:31:34 -0400
nebbiolo1Linux (Ubuntu 22.04.3 LTS) / x86_64  OK    OK    OK  UNNEEDED, same version is already published
palomino3Windows Server 2022 Datacenter / x64  OK    OK    OK    OK  UNNEEDED, same version is already published
lconwaymacOS 12.7.1 Monterey / x86_64  OK    OK    OK    OK  UNNEEDED, same version is already published
kjohnson3macOS 13.6.5 Ventura / arm64see weekly results here
Package 23/28HostnameOS / ArchINSTALLBUILDCHECKBUILD BIN
PPInfer 1.30.0  (landing page)
Dongmin Jung
git_last_commit: a745894
git_last_commit_date: 2024-04-30 10:57:58 -0400
nebbiolo1Linux (Ubuntu 22.04.3 LTS) / x86_64  OK    OK    OK  UNNEEDED, same version is already published
palomino3Windows Server 2022 Datacenter / x64  OK    OK    OK    OK  UNNEEDED, same version is already published
lconwaymacOS 12.7.1 Monterey / x86_64  OK    OK    OK    OK  UNNEEDED, same version is already published
kjohnson3macOS 13.6.5 Ventura / arm64see weekly results here
Package 24/28HostnameOS / ArchINSTALLBUILDCHECKBUILD BIN
projectR 1.20.0  (landing page)
Genevieve Stein-O'Brien
git_last_commit: d729872
git_last_commit_date: 2024-04-30 11:13:19 -0400
nebbiolo1Linux (Ubuntu 22.04.3 LTS) / x86_64  OK    OK    OK  UNNEEDED, same version is already published
palomino3Windows Server 2022 Datacenter / x64  OK    OK    OK    OK  UNNEEDED, same version is already published
lconwaymacOS 12.7.1 Monterey / x86_64  OK    OK    ERROR    OK  
kjohnson3macOS 13.6.5 Ventura / arm64see weekly results here
Package 25/28HostnameOS / ArchINSTALLBUILDCHECKBUILD BIN
RegEnrich 1.14.0  (landing page)
Weiyang Tao
git_last_commit: d3d50a8
git_last_commit_date: 2024-04-30 11:24:44 -0400
nebbiolo1Linux (Ubuntu 22.04.3 LTS) / x86_64  OK    OK    OK  UNNEEDED, same version is already published
palomino3Windows Server 2022 Datacenter / x64  OK    OK    OK    OK  UNNEEDED, same version is already published
lconwaymacOS 12.7.1 Monterey / x86_64  ERROR    ERROR  skippedskipped
kjohnson3macOS 13.6.5 Ventura / arm64see weekly results here
Package 26/28HostnameOS / ArchINSTALLBUILDCHECKBUILD BIN
RegionalST 1.2.0  (landing page)
Ziyi Li
git_last_commit: 4a6fc9d
git_last_commit_date: 2024-04-30 11:50:45 -0400
nebbiolo1Linux (Ubuntu 22.04.3 LTS) / x86_64  OK    OK    OK  UNNEEDED, same version is already published
palomino3Windows Server 2022 Datacenter / x64  OK    OK    OK    OK  UNNEEDED, same version is already published
lconwaymacOS 12.7.1 Monterey / x86_64  ERROR    ERROR  skippedskipped
kjohnson3macOS 13.6.5 Ventura / arm64see weekly results here
Package 27/28HostnameOS / ArchINSTALLBUILDCHECKBUILD BIN
signatureSearch 1.18.0  (landing page)
Brendan Gongol
git_last_commit: 8c6cc1e
git_last_commit_date: 2024-04-30 11:19:09 -0400
nebbiolo1Linux (Ubuntu 22.04.3 LTS) / x86_64  OK    OK    OK  UNNEEDED, same version is already published
palomino3Windows Server 2022 Datacenter / x64  OK    OK    OK    OK  UNNEEDED, same version is already published
lconwaymacOS 12.7.1 Monterey / x86_64  ERROR    ERROR  skippedskipped
kjohnson3macOS 13.6.5 Ventura / arm64see weekly results here
Package 28/28HostnameOS / ArchINSTALLBUILDCHECKBUILD BIN
ViSEAGO 1.18.0  (landing page)
Aurelien Brionne
git_last_commit: 5e80111
git_last_commit_date: 2024-04-30 11:15:53 -0400
nebbiolo1Linux (Ubuntu 22.04.3 LTS) / x86_64  OK    OK    WARNINGS  UNNEEDED, same version is already published
palomino3Windows Server 2022 Datacenter / x64  OK    OK    WARNINGS    OK  UNNEEDED, same version is already published
lconwaymacOS 12.7.1 Monterey / x86_64  OK    OK    WARNINGS    OK  UNNEEDED, same version is already published
kjohnson3macOS 13.6.5 Ventura / arm64see weekly results here