Back to Multiple platform build/check report for BioC 3.13
ABCDE[F]GHIJKLMNOPQRSTUVWXYZ

This page was generated on 2021-07-21 15:05:49 -0400 (Wed, 21 Jul 2021).

BUILD BIN results for fgga on machv2

To the developers/maintainers of the fgga package:
- Please allow up to 24 hours (and sometimes 48 hours) for your latest push to git@git.bioconductor.org:packages/fgga.git to
reflect on this report. See How and When does the builder pull? When will my changes propagate? here for more information.
- Make sure to use the following settings in order to reproduce any error or warning you see on this page.

raw results

Package 630/2041HostnameOS / ArchINSTALLBUILDCHECKBUILD BIN
fgga 1.0.0  (landing page)
Spetale Flavio
Snapshot Date: 2021-07-20 04:50:13 -0400 (Tue, 20 Jul 2021)
URL: https://git.bioconductor.org/packages/fgga
Branch: RELEASE_3_13
Last Commit: aefd8a8
Last Changed Date: 2021-05-19 13:03:00 -0400 (Wed, 19 May 2021)
nebbiolo1Linux (Ubuntu 20.04.2 LTS) / x86_64  OK    OK    OK  UNNEEDED, same version is already published
tokay2Windows Server 2012 R2 Standard / x64  OK    OK    OK    OK  UNNEEDED, same version is already published
machv2macOS 10.14.6 Mojave / x86_64  OK    OK    WARNINGS    OK  UNNEEDED, same version is already published

Summary

Package: fgga
Version: 1.0.0
Command: rm -rf fgga.buildbin-libdir && mkdir fgga.buildbin-libdir && /Users/biocbuild/BBS/utils/build-universal.sh fgga_1.0.0.tar.gz /Library/Frameworks/R.framework/Versions/Current/Resources/bin/R fgga.buildbin-libdir
StartedAt: 2021-07-21 02:02:10 -0400 (Wed, 21 Jul 2021)
EndedAt: 2021-07-21 02:03:02 -0400 (Wed, 21 Jul 2021)
EllapsedTime: 52.0 seconds
RetCode: 0
Status:   OK  
PackageFile: fgga_1.0.0.tgz
PackageFileSize: 1.326 MiB

Command output

##############################################################################
##############################################################################
###
### Running command:
###
###   rm -rf fgga.buildbin-libdir && mkdir fgga.buildbin-libdir && /Users/biocbuild/BBS/utils/build-universal.sh fgga_1.0.0.tar.gz /Library/Frameworks/R.framework/Versions/Current/Resources/bin/R fgga.buildbin-libdir
###
##############################################################################
##############################################################################


>>>>>>> 
>>>>>>> INSTALLATION WITH 'R CMD INSTALL --preclean --no-multiarch --library=fgga.buildbin-libdir fgga_1.0.0.tar.gz'
>>>>>>> 

* installing *source* package ‘fgga’ ...
** using staged installation
** R
** data
** inst
** byte-compile and prepare package for lazy loading
** help
*** installing help indices
** building package indices
** installing vignettes
** testing if installed package can be loaded from temporary location
Warning: DEPRECATION: As of BiocFileCache (>1.15.1), default caching location has changed.
  Problematic cache: /Users/biocbuild/Library/Caches/BiocFileCache
  See https://www.bioconductor.org/packages/devel/bioc/vignettes/BiocFileCache/inst/doc/BiocFileCache.html#default-caching-location-update

** testing if installed package can be loaded from final location
Warning: DEPRECATION: As of BiocFileCache (>1.15.1), default caching location has changed.
  Problematic cache: /Users/biocbuild/Library/Caches/BiocFileCache
  See https://www.bioconductor.org/packages/devel/bioc/vignettes/BiocFileCache/inst/doc/BiocFileCache.html#default-caching-location-update

** testing if installed package keeps a record of temporary installation path
* DONE (fgga)