Back to Multiple platform build/check report for BioC 3.13
ABCDE[F]GHIJKLMNOPQRSTUVWXYZ

This page was generated on 2021-07-23 15:05:38 -0400 (Fri, 23 Jul 2021).

INSTALL results for fcoex on nebbiolo1

To the developers/maintainers of the fcoex package:
- Please allow up to 24 hours (and sometimes 48 hours) for your latest push to git@git.bioconductor.org:packages/fcoex.git to
reflect on this report. See How and When does the builder pull? When will my changes propagate? here for more information.
- Make sure to use the following settings in order to reproduce any error or warning you see on this page.

raw results

Package 623/2041HostnameOS / ArchINSTALLBUILDCHECKBUILD BIN
fcoex 1.6.0  (landing page)
Tiago Lubiana
Snapshot Date: 2021-07-22 04:50:13 -0400 (Thu, 22 Jul 2021)
URL: https://git.bioconductor.org/packages/fcoex
Branch: RELEASE_3_13
Last Commit: f4e35ed
Last Changed Date: 2021-05-19 12:47:53 -0400 (Wed, 19 May 2021)
nebbiolo1Linux (Ubuntu 20.04.2 LTS) / x86_64  OK    OK    WARNINGS  UNNEEDED, same version is already published
tokay2Windows Server 2012 R2 Standard / x64  OK    OK    WARNINGS    OK  UNNEEDED, same version is already published
machv2macOS 10.14.6 Mojave / x86_64  OK    OK    WARNINGS    OK  UNNEEDED, same version is already published

Summary

Package: fcoex
Version: 1.6.0
Command: /home/biocbuild/bbs-3.13-bioc/R/bin/R CMD INSTALL fcoex
StartedAt: 2021-07-22 06:23:55 -0400 (Thu, 22 Jul 2021)
EndedAt: 2021-07-22 06:24:36 -0400 (Thu, 22 Jul 2021)
EllapsedTime: 41.0 seconds
RetCode: 0
Status:   OK  

Command output

##############################################################################
##############################################################################
###
### Running command:
###
###   /home/biocbuild/bbs-3.13-bioc/R/bin/R CMD INSTALL fcoex
###
##############################################################################
##############################################################################


* installing to library ‘/home/biocbuild/bbs-3.13-bioc/R/library’
* installing *source* package ‘fcoex’ ...
** using staged installation
** R
** data
*** moving datasets to lazyload DB

Warning: replacing previous import ‘Matrix::head’ by ‘utils::head’ when loading ‘fcoex’
in method for ‘mod_ora’ with signature ‘"fcoex"’: no definition for class “fcoex”
** byte-compile and prepare package for lazy loading
Warning: replacing previous import ‘Matrix::head’ by ‘utils::head’ when loading ‘fcoex’
in method for ‘mod_ora’ with signature ‘"fcoex"’: no definition for class “fcoex”
** help
*** installing help indices
** building package indices
** installing vignettes
** testing if installed package can be loaded from temporary location
Warning: replacing previous import ‘Matrix::head’ by ‘utils::head’ when loading ‘fcoex’
** testing if installed package can be loaded from final location
Warning: replacing previous import ‘Matrix::head’ by ‘utils::head’ when loading ‘fcoex’
** testing if installed package keeps a record of temporary installation path
* DONE (fcoex)