Back to Multiple platform build/check report for BioC 3.13
ABCDE[F]GHIJKLMNOPQRSTUVWXYZ

This page was generated on 2021-09-13 15:06:56 -0400 (Mon, 13 Sep 2021).

BUILD BIN results for fCCAC on machv2

To the developers/maintainers of the fCCAC package:
- Please allow up to 24 hours (and sometimes 48 hours) for your latest push to git@git.bioconductor.org:packages/fCCAC.git to
reflect on this report. See How and When does the builder pull? When will my changes propagate? here for more information.
- Make sure to use the following settings in order to reproduce any error or warning you see on this page.

raw results

Package 621/2041HostnameOS / ArchINSTALLBUILDCHECKBUILD BIN
fCCAC 1.18.0  (landing page)
Pedro Madrigal
Snapshot Date: 2021-09-12 04:50:10 -0400 (Sun, 12 Sep 2021)
git_url: https://git.bioconductor.org/packages/fCCAC
git_branch: RELEASE_3_13
git_last_commit: 9de3dbd
git_last_commit_date: 2021-05-19 12:24:25 -0400 (Wed, 19 May 2021)
nebbiolo1Linux (Ubuntu 20.04.2 LTS) / x86_64  OK    OK    OK  UNNEEDED, same version is already published
tokay2Windows Server 2012 R2 Standard / x64  OK    OK    OK    OK  UNNEEDED, same version is already published
machv2macOS 10.14.6 Mojave / x86_64  OK    OK    OK    OK  UNNEEDED, same version is already published

Summary

Package: fCCAC
Version: 1.18.0
Command: rm -rf fCCAC.buildbin-libdir && mkdir fCCAC.buildbin-libdir && /Users/biocbuild/BBS/utils/build-universal.sh fCCAC_1.18.0.tar.gz /Library/Frameworks/R.framework/Versions/Current/Resources/bin/R fCCAC.buildbin-libdir
StartedAt: 2021-09-13 02:23:27 -0400 (Mon, 13 Sep 2021)
EndedAt: 2021-09-13 02:24:37 -0400 (Mon, 13 Sep 2021)
EllapsedTime: 70.0 seconds
RetCode: 0
Status:   OK  
PackageFile: fCCAC_1.18.0.tgz
PackageFileSize: 3.522 MiB

Command output

##############################################################################
##############################################################################
###
### Running command:
###
###   rm -rf fCCAC.buildbin-libdir && mkdir fCCAC.buildbin-libdir && /Users/biocbuild/BBS/utils/build-universal.sh fCCAC_1.18.0.tar.gz /Library/Frameworks/R.framework/Versions/Current/Resources/bin/R fCCAC.buildbin-libdir
###
##############################################################################
##############################################################################


>>>>>>> 
>>>>>>> INSTALLATION WITH 'R CMD INSTALL --preclean --no-multiarch --library=fCCAC.buildbin-libdir fCCAC_1.18.0.tar.gz'
>>>>>>> 

* installing *source* package ‘fCCAC’ ...
** using staged installation
** R
** inst
** byte-compile and prepare package for lazy loading
Warning: replacing previous import ‘Biostrings::pattern’ by ‘grid::pattern’ when loading ‘genomation’
** help
*** installing help indices
** building package indices
** installing vignettes
** testing if installed package can be loaded from temporary location
Warning: replacing previous import ‘Biostrings::pattern’ by ‘grid::pattern’ when loading ‘genomation’
** testing if installed package can be loaded from final location
Warning: replacing previous import ‘Biostrings::pattern’ by ‘grid::pattern’ when loading ‘genomation’
** testing if installed package keeps a record of temporary installation path
* DONE (fCCAC)