Back to Multiple platform build/check report for BioC 3.13
ABCD[E]FGHIJKLMNOPQRSTUVWXYZ

This page was generated on 2021-09-22 15:05:14 -0400 (Wed, 22 Sep 2021).

BUILD BIN results for exomePeak2 on tokay2

To the developers/maintainers of the exomePeak2 package:
- Please allow up to 24 hours (and sometimes 48 hours) for your latest push to git@git.bioconductor.org:packages/exomePeak2.git to
reflect on this report. See How and When does the builder pull? When will my changes propagate? here for more information.
- Make sure to use the following settings in order to reproduce any error or warning you see on this page.

raw results

Package 605/2041HostnameOS / ArchINSTALLBUILDCHECKBUILD BIN
exomePeak2 1.4.2  (landing page)
Zhen Wei
Snapshot Date: 2021-09-21 04:50:12 -0400 (Tue, 21 Sep 2021)
git_url: https://git.bioconductor.org/packages/exomePeak2
git_branch: RELEASE_3_13
git_last_commit: d8d75f9
git_last_commit_date: 2021-09-07 12:28:10 -0400 (Tue, 07 Sep 2021)
nebbiolo1Linux (Ubuntu 20.04.2 LTS) / x86_64  OK    OK    OK  UNNEEDED, same version is already published
tokay2Windows Server 2012 R2 Standard / x64  OK    OK    OK    OK  UNNEEDED, same version is already published
machv2macOS 10.14.6 Mojave / x86_64  OK    OK    OK    OK  UNNEEDED, same version is already published

Summary

Package: exomePeak2
Version: 1.4.2
Command: rm -rf exomePeak2.buildbin-libdir && mkdir exomePeak2.buildbin-libdir && C:\Users\biocbuild\bbs-3.13-bioc\R\bin\R.exe CMD INSTALL --merge-multiarch --build --library=exomePeak2.buildbin-libdir exomePeak2_1.4.2.tar.gz
StartedAt: 2021-09-22 08:54:58 -0400 (Wed, 22 Sep 2021)
EndedAt: 2021-09-22 08:57:05 -0400 (Wed, 22 Sep 2021)
EllapsedTime: 127.0 seconds
RetCode: 0
Status:   OK  
PackageFile: exomePeak2_1.4.2.zip
PackageFileSize: 2.723 MiB

Command output

##############################################################################
##############################################################################
###
### Running command:
###
###   rm -rf exomePeak2.buildbin-libdir && mkdir exomePeak2.buildbin-libdir && C:\Users\biocbuild\bbs-3.13-bioc\R\bin\R.exe CMD INSTALL --merge-multiarch --build --library=exomePeak2.buildbin-libdir exomePeak2_1.4.2.tar.gz
###
##############################################################################
##############################################################################



install for i386

* installing *source* package 'exomePeak2' ...
** using staged installation
** R
** inst
** byte-compile and prepare package for lazy loading
** help
*** installing help indices
  converting help for package 'exomePeak2'
    finding HTML links ... done
    GC_content_over_grl                     html  
    GCsizeFactors-methods                   html  
    GLM_inference                           html  
    LibraryType-methods                     html  
    MeripBamFileList-class                  html  
    finding level-2 HTML links ... done

    Parameter-methods                       html  
    Results-methods                         html  
    SummarizedExomePeak-class               html  
    call_peaks_with_GLM                     html  
    convertTxDb                             html  
    ctest                                   html  
    decision_deseq2                         html  
    disj_background                         html  
    estimateSeqDepth-methods                html  
    exomePeak2                              html  
    exomePeak2Results-methods               html  
    exomePeakCalling-methods                html  
    exome_bins_from_txdb                    html  
    exonPlot                                html  
    exons_by_unique_gene                    html  
    exportResults-methods                   html  
    flank_on_exons                          html  
    glmDM-methods                           html  
    glmM-methods                            html  
    mclust_bg                               html  
    normalizeGC-methods                     html  
    plotExonLength-methods                  html  
    plotLfcGC-methods                       html  
    plotReadsGC-methods                     html  
    plotSizeFactors-methods                 html  
    quiet                                   html  
    reads_five_POS                          html  
    reads_five_POS_rev                      html  
    reduce_peaks                            html  
    remove_introns                          html  
    replace_bg                              html  
    scanMeripBAM                            html  
    sort_sep                                html  
    split_by_name                           html  
** building package indices
** installing vignettes
** testing if installed package can be loaded from temporary location
** testing if installed package can be loaded from final location
** testing if installed package keeps a record of temporary installation path

install for x64

* installing *source* package 'exomePeak2' ...
** testing if installed package can be loaded
* MD5 sums
packaged installation of 'exomePeak2' as exomePeak2_1.4.2.zip
* DONE (exomePeak2)