Back to Multiple platform build/check report for BioC 3.13
ABCD[E]FGHIJKLMNOPQRSTUVWXYZ

This page was generated on 2021-09-20 15:05:41 -0400 (Mon, 20 Sep 2021).

BUILD results for exomePeak2 on machv2

To the developers/maintainers of the exomePeak2 package:
- Please allow up to 24 hours (and sometimes 48 hours) for your latest push to git@git.bioconductor.org:packages/exomePeak2.git to
reflect on this report. See How and When does the builder pull? When will my changes propagate? here for more information.
- Make sure to use the following settings in order to reproduce any error or warning you see on this page.

raw results

Package 605/2041HostnameOS / ArchINSTALLBUILDCHECKBUILD BIN
exomePeak2 1.4.2  (landing page)
Zhen Wei
Snapshot Date: 2021-09-19 04:50:10 -0400 (Sun, 19 Sep 2021)
git_url: https://git.bioconductor.org/packages/exomePeak2
git_branch: RELEASE_3_13
git_last_commit: d8d75f9
git_last_commit_date: 2021-09-07 12:28:10 -0400 (Tue, 07 Sep 2021)
nebbiolo1Linux (Ubuntu 20.04.2 LTS) / x86_64  OK    OK    OK  UNNEEDED, same version is already published
tokay2Windows Server 2012 R2 Standard / x64  OK    OK    OK    OK  UNNEEDED, same version is already published
machv2macOS 10.14.6 Mojave / x86_64  OK    OK    OK    OK  UNNEEDED, same version is already published

Summary

Package: exomePeak2
Version: 1.4.2
Command: /Library/Frameworks/R.framework/Versions/Current/Resources/bin/R CMD build --keep-empty-dirs --no-resave-data exomePeak2
StartedAt: 2021-09-19 11:56:22 -0400 (Sun, 19 Sep 2021)
EndedAt: 2021-09-19 11:59:47 -0400 (Sun, 19 Sep 2021)
EllapsedTime: 205.0 seconds
RetCode: 0
Status:   OK  
PackageFile: exomePeak2_1.4.2.tar.gz
PackageFileSize: 2.508 MiB

Command output

##############################################################################
##############################################################################
###
### Running command:
###
###   /Library/Frameworks/R.framework/Versions/Current/Resources/bin/R CMD build --keep-empty-dirs --no-resave-data exomePeak2
###
##############################################################################
##############################################################################


* checking for file ‘exomePeak2/DESCRIPTION’ ... OK
* preparing ‘exomePeak2’:
* checking DESCRIPTION meta-information ... OK
* installing the package to build vignettes
* creating vignettes ... OK
* checking for LF line-endings in source and make files and shell scripts
* checking for empty or unneeded directories
Omitted ‘LazyData’ from DESCRIPTION
* building ‘exomePeak2_1.4.2.tar.gz’