Back to Multiple platform build/check report for BioC 3.13
ABCD[E]FGHIJKLMNOPQRSTUVWXYZ

This page was generated on 2021-09-20 15:05:12 -0400 (Mon, 20 Sep 2021).

BUILD results for esATAC on tokay2

To the developers/maintainers of the esATAC package:
- Please allow up to 24 hours (and sometimes 48 hours) for your latest push to git@git.bioconductor.org:packages/esATAC.git to
reflect on this report. See How and When does the builder pull? When will my changes propagate? here for more information.
- Make sure to use the following settings in order to reproduce any error or warning you see on this page.

raw results

Package 595/2041HostnameOS / ArchINSTALLBUILDCHECKBUILD BIN
esATAC 1.14.0  (landing page)
Zheng Wei
Snapshot Date: 2021-09-19 04:50:10 -0400 (Sun, 19 Sep 2021)
git_url: https://git.bioconductor.org/packages/esATAC
git_branch: RELEASE_3_13
git_last_commit: 2939dd0
git_last_commit_date: 2021-05-19 12:31:59 -0400 (Wed, 19 May 2021)
nebbiolo1Linux (Ubuntu 20.04.2 LTS) / x86_64  OK    OK    WARNINGS  UNNEEDED, same version is already published
tokay2Windows Server 2012 R2 Standard / x64  OK    OK    WARNINGS    OK  UNNEEDED, same version is already published
machv2macOS 10.14.6 Mojave / x86_64  OK    OK    WARNINGS    OK  UNNEEDED, same version is already published

Summary

Package: esATAC
Version: 1.14.0
Command: chmod a+r esATAC -R && C:\Users\biocbuild\bbs-3.13-bioc\R\bin\R.exe --arch x64 CMD build --keep-empty-dirs --no-resave-data esATAC
StartedAt: 2021-09-19 13:27:40 -0400 (Sun, 19 Sep 2021)
EndedAt: 2021-09-19 13:31:12 -0400 (Sun, 19 Sep 2021)
EllapsedTime: 212.1 seconds
RetCode: 0
Status:   OK  
PackageFile: esATAC_1.14.0.tar.gz
PackageFileSize: 9.857 MiB

Command output

##############################################################################
##############################################################################
###
### Running command:
###
###   chmod a+r esATAC -R && C:\Users\biocbuild\bbs-3.13-bioc\R\bin\R.exe --arch x64 CMD build --keep-empty-dirs --no-resave-data esATAC
###
##############################################################################
##############################################################################


* checking for file 'esATAC/DESCRIPTION' ... OK
* preparing 'esATAC':
* checking DESCRIPTION meta-information ... OK
* cleaning src
* installing the package to build vignettes
* creating vignettes ... OK
* cleaning src
* checking for LF line-endings in source and make files and shell scripts
* checking for empty or unneeded directories
Omitted 'LazyData' from DESCRIPTION
* building 'esATAC_1.14.0.tar.gz'