Back to Multiple platform build/check report for BioC 3.13
ABCD[E]FGHIJKLMNOPQRSTUVWXYZ

This page was generated on 2021-09-13 15:06:24 -0400 (Mon, 13 Sep 2021).

BUILD BIN results for esATAC on tokay2

To the developers/maintainers of the esATAC package:
- Please allow up to 24 hours (and sometimes 48 hours) for your latest push to git@git.bioconductor.org:packages/esATAC.git to
reflect on this report. See How and When does the builder pull? When will my changes propagate? here for more information.
- Make sure to use the following settings in order to reproduce any error or warning you see on this page.

raw results

Package 595/2041HostnameOS / ArchINSTALLBUILDCHECKBUILD BIN
esATAC 1.14.0  (landing page)
Zheng Wei
Snapshot Date: 2021-09-12 04:50:10 -0400 (Sun, 12 Sep 2021)
git_url: https://git.bioconductor.org/packages/esATAC
git_branch: RELEASE_3_13
git_last_commit: 2939dd0
git_last_commit_date: 2021-05-19 12:31:59 -0400 (Wed, 19 May 2021)
nebbiolo1Linux (Ubuntu 20.04.2 LTS) / x86_64  OK    OK    WARNINGS  UNNEEDED, same version is already published
tokay2Windows Server 2012 R2 Standard / x64  OK    OK    WARNINGS    OK  UNNEEDED, same version is already published
machv2macOS 10.14.6 Mojave / x86_64  OK    OK    WARNINGS    OK  UNNEEDED, same version is already published

Summary

Package: esATAC
Version: 1.14.0
Command: rm -rf esATAC.buildbin-libdir && mkdir esATAC.buildbin-libdir && C:\Users\biocbuild\bbs-3.13-bioc\R\bin\R.exe --arch x64 CMD INSTALL --no-multiarch --build --library=esATAC.buildbin-libdir esATAC_1.14.0.tar.gz
StartedAt: 2021-09-13 08:42:29 -0400 (Mon, 13 Sep 2021)
EndedAt: 2021-09-13 08:45:59 -0400 (Mon, 13 Sep 2021)
EllapsedTime: 209.7 seconds
RetCode: 0
Status:   OK  
PackageFile: esATAC_1.14.0.zip
PackageFileSize: 8.495 MiB

Command output

##############################################################################
##############################################################################
###
### Running command:
###
###   rm -rf esATAC.buildbin-libdir && mkdir esATAC.buildbin-libdir && C:\Users\biocbuild\bbs-3.13-bioc\R\bin\R.exe --arch x64 CMD INSTALL --no-multiarch --build --library=esATAC.buildbin-libdir esATAC_1.14.0.tar.gz
###
##############################################################################
##############################################################################


* installing *source* package 'esATAC' ...
** using staged installation
** libs
"C:/rtools40/mingw64/bin/"g++  -std=gnu++11 -I"C:/Users/biocbuild/bbs-3.13-bioc/R/include" -DNDEBUG -DNDEBUG -DPLF_SYS_WIN -DR_EVN_FLAG -I'C:/Users/biocbuild/bbs-3.13-bioc/R/library/Rcpp/include'   -I"C:/extsoft/include"     -O2 -Wall  -mfpmath=sse -msse2 -mstackrealign  -c BedLine.cpp -o BedLine.o
"C:/rtools40/mingw64/bin/"g++  -std=gnu++11 -I"C:/Users/biocbuild/bbs-3.13-bioc/R/include" -DNDEBUG -DNDEBUG -DPLF_SYS_WIN -DR_EVN_FLAG -I'C:/Users/biocbuild/bbs-3.13-bioc/R/library/Rcpp/include'   -I"C:/extsoft/include"     -O2 -Wall  -mfpmath=sse -msse2 -mstackrealign  -c BedUtils.cpp -o BedUtils.o
"C:/rtools40/mingw64/bin/"g++  -std=gnu++11 -I"C:/Users/biocbuild/bbs-3.13-bioc/R/include" -DNDEBUG -DNDEBUG -DPLF_SYS_WIN -DR_EVN_FLAG -I'C:/Users/biocbuild/bbs-3.13-bioc/R/library/Rcpp/include'   -I"C:/extsoft/include"     -O2 -Wall  -mfpmath=sse -msse2 -mstackrealign  -c ChrDivi.cpp -o ChrDivi.o
"C:/rtools40/mingw64/bin/"g++  -std=gnu++11 -I"C:/Users/biocbuild/bbs-3.13-bioc/R/include" -DNDEBUG -DNDEBUG -DPLF_SYS_WIN -DR_EVN_FLAG -I'C:/Users/biocbuild/bbs-3.13-bioc/R/library/Rcpp/include'   -I"C:/extsoft/include"     -O2 -Wall  -mfpmath=sse -msse2 -mstackrealign  -c CutCountPre.cpp -o CutCountPre.o
"C:/rtools40/mingw64/bin/"g++  -std=gnu++11 -I"C:/Users/biocbuild/bbs-3.13-bioc/R/include" -DNDEBUG -DNDEBUG -DPLF_SYS_WIN -DR_EVN_FLAG -I'C:/Users/biocbuild/bbs-3.13-bioc/R/library/Rcpp/include'   -I"C:/extsoft/include"     -O2 -Wall  -mfpmath=sse -msse2 -mstackrealign  -c CutSiteCount.cpp -o CutSiteCount.o
"C:/rtools40/mingw64/bin/"g++  -std=gnu++11 -I"C:/Users/biocbuild/bbs-3.13-bioc/R/include" -DNDEBUG -DNDEBUG -DPLF_SYS_WIN -DR_EVN_FLAG -I'C:/Users/biocbuild/bbs-3.13-bioc/R/library/Rcpp/include'   -I"C:/extsoft/include"     -O2 -Wall  -mfpmath=sse -msse2 -mstackrealign  -c LibComplexQC.cpp -o LibComplexQC.o
"C:/rtools40/mingw64/bin/"g++  -std=gnu++11 -I"C:/Users/biocbuild/bbs-3.13-bioc/R/include" -DNDEBUG -DNDEBUG -DPLF_SYS_WIN -DR_EVN_FLAG -I'C:/Users/biocbuild/bbs-3.13-bioc/R/library/Rcpp/include'   -I"C:/extsoft/include"     -O2 -Wall  -mfpmath=sse -msse2 -mstackrealign  -c RcppExports.cpp -o RcppExports.o
"C:/rtools40/mingw64/bin/"g++  -std=gnu++11 -I"C:/Users/biocbuild/bbs-3.13-bioc/R/include" -DNDEBUG -DNDEBUG -DPLF_SYS_WIN -DR_EVN_FLAG -I'C:/Users/biocbuild/bbs-3.13-bioc/R/library/Rcpp/include'   -I"C:/extsoft/include"     -O2 -Wall  -mfpmath=sse -msse2 -mstackrealign  -c SortBed.cpp -o SortBed.o
"C:/rtools40/mingw64/bin/"g++  -std=gnu++11 -I"C:/Users/biocbuild/bbs-3.13-bioc/R/include" -DNDEBUG -DNDEBUG -DPLF_SYS_WIN -DR_EVN_FLAG -I'C:/Users/biocbuild/bbs-3.13-bioc/R/library/Rcpp/include'   -I"C:/extsoft/include"     -O2 -Wall  -mfpmath=sse -msse2 -mstackrealign  -c rcpp_wrapper.cpp -o rcpp_wrapper.o
rcpp_wrapper.cpp: In function 'int CutSiteCount_wrapper(Rcpp::List)':
rcpp_wrapper.cpp:334:7: warning: variable 'tmp_k' set but not used [-Wunused-but-set-variable]
   int tmp_k;
       ^~~~~
"C:/rtools40/mingw64/bin/"g++  -std=gnu++11 -I"C:/Users/biocbuild/bbs-3.13-bioc/R/include" -DNDEBUG -DNDEBUG -DPLF_SYS_WIN -DR_EVN_FLAG -I'C:/Users/biocbuild/bbs-3.13-bioc/R/library/Rcpp/include'   -I"C:/extsoft/include"     -O2 -Wall  -mfpmath=sse -msse2 -mstackrealign  -c renamer.cpp -o renamer.o
"C:/rtools40/mingw64/bin/"g++  -std=gnu++11 -I"C:/Users/biocbuild/bbs-3.13-bioc/R/include" -DNDEBUG -DNDEBUG -DPLF_SYS_WIN -DR_EVN_FLAG -I'C:/Users/biocbuild/bbs-3.13-bioc/R/library/Rcpp/include'   -I"C:/extsoft/include"     -O2 -Wall  -mfpmath=sse -msse2 -mstackrealign  -c sam2bed.cc -o sam2bed.o
C:/rtools40/mingw64/bin/g++ -shared -s -static-libgcc -o esATAC.dll tmp.def BedLine.o BedUtils.o ChrDivi.o CutCountPre.o CutSiteCount.o LibComplexQC.o RcppExports.o SortBed.o rcpp_wrapper.o renamer.o sam2bed.o -LC:/extsoft/lib/x64 -LC:/extsoft/lib -LC:/Users/biocbuild/bbs-3.13-bioc/R/bin/x64 -lR
installing to C:/Users/biocbuild/bbs-3.13-bioc/meat/esATAC.buildbin-libdir/00LOCK-esATAC/00new/esATAC/libs/x64
** R
** inst
** byte-compile and prepare package for lazy loading
** help
*** installing help indices
  converting help for package 'esATAC'
    finding HTML links ... done
    ATACProc-class                          html  
    BamToBed                                html  
    BedToBigWig                             html  
REDIRECT:topic	 Previous alias or file overwritten by alias: C:/Users/biocbuild/bbs-3.13-bioc/meat/esATAC.buildbin-libdir/00LOCK-esATAC/00new/esATAC/help/bedToBigWig.html
    BedUtils                                html  
REDIRECT:topic	 Previous alias or file overwritten by alias: C:/Users/biocbuild/bbs-3.13-bioc/meat/esATAC.buildbin-libdir/00LOCK-esATAC/00new/esATAC/help/bedUtils.html
    Bowtie2Mapping                          html  
REDIRECT:topic	 Previous alias or file overwritten by alias: C:/Users/biocbuild/bbs-3.13-bioc/meat/esATAC.buildbin-libdir/00LOCK-esATAC/00new/esATAC/help/bowtie2Mapping.html
    finding level-2 HTML links ... done

    CutSiteCountR                           html  
    CutSitePre                              html  
    FRiPQC                                  html  
REDIRECT:topic	 Previous alias or file overwritten by alias: C:/Users/biocbuild/bbs-3.13-bioc/meat/esATAC.buildbin-libdir/00LOCK-esATAC/00new/esATAC/help/fripQC.html
    FastQC                                  html  
    FindAdapter                             html  
REDIRECT:topic	 Previous alias or file overwritten by alias: C:/Users/biocbuild/bbs-3.13-bioc/meat/esATAC.buildbin-libdir/00LOCK-esATAC/00new/esATAC/help/findAdapter.html
    FragLenDistr                            html  
REDIRECT:topic	 Previous alias or file overwritten by alias: C:/Users/biocbuild/bbs-3.13-bioc/meat/esATAC.buildbin-libdir/00LOCK-esATAC/00new/esATAC/help/fragLenDistr.html
    LibComplexQC                            html  
REDIRECT:topic	 Previous alias or file overwritten by alias: C:/Users/biocbuild/bbs-3.13-bioc/meat/esATAC.buildbin-libdir/00LOCK-esATAC/00new/esATAC/help/libComplexQC.html
    PeakCallingFseq                         html  
    PeakQC                                  html  
REDIRECT:topic	 Previous alias or file overwritten by alias: C:/Users/biocbuild/bbs-3.13-bioc/meat/esATAC.buildbin-libdir/00LOCK-esATAC/00new/esATAC/help/peakQC.html
    RGo                                     html  
    RMotifScan                              html  
    RMotifScanPair                          html  
    RPeakAnno                               html  
    RPeakComp                               html  
    RSNPs                                   html  
    RemoveAdapter                           html  
REDIRECT:topic	 Previous alias or file overwritten by alias: C:/Users/biocbuild/bbs-3.13-bioc/meat/esATAC.buildbin-libdir/00LOCK-esATAC/00new/esATAC/help/removeAdapter.html
    Renamer                                 html  
REDIRECT:topic	 Previous alias or file overwritten by alias: C:/Users/biocbuild/bbs-3.13-bioc/meat/esATAC.buildbin-libdir/00LOCK-esATAC/00new/esATAC/help/renamer.html
    Rsortbam                                html  
    SamToBam                                html  
    SamToBed                                html  
REDIRECT:topic	 Previous alias or file overwritten by alias: C:/Users/biocbuild/bbs-3.13-bioc/meat/esATAC.buildbin-libdir/00LOCK-esATAC/00new/esATAC/help/samToBed.html
    SingleRepReport                         html  
    TSSQC                                   html  
REDIRECT:topic	 Previous alias or file overwritten by alias: C:/Users/biocbuild/bbs-3.13-bioc/meat/esATAC.buildbin-libdir/00LOCK-esATAC/00new/esATAC/help/tssQC.html
    UnzipAndMerge                           html  
REDIRECT:topic	 Previous alias or file overwritten by alias: C:/Users/biocbuild/bbs-3.13-bioc/meat/esATAC.buildbin-libdir/00LOCK-esATAC/00new/esATAC/help/unzipAndMerge.html
    atacPipe2                               html  
    atacRepsPipe                            html  
    atacRepsPipe2                           html  
    esATAC-package                          html  
    getMotifInfo                            html  
** building package indices
** installing vignettes
** testing if installed package can be loaded from temporary location
Warning in options(stringsAsFactors = TRUE) :
  'options(stringsAsFactors = TRUE)' is deprecated and will be disabled
** testing if installed package can be loaded from final location
Warning in options(stringsAsFactors = TRUE) :
  'options(stringsAsFactors = TRUE)' is deprecated and will be disabled
** testing if installed package keeps a record of temporary installation path
* MD5 sums
packaged installation of 'esATAC' as esATAC_1.14.0.zip
* DONE (esATAC)