Index of /checkResults/release/bioc-LATEST/esATAC/raw-results/nebbiolo1

[ICO]NameLast modifiedSizeDescription

[DIR]Parent Directory  -  
[TXT]buildsrc-out.txt13-Jul-2024 06:38 872  
[   ]buildsrc-summary.dcf13-Jul-2024 06:38 415  
[TXT]checksrc-out.txt13-Jul-2024 06:38 5.5K 
[   ]checksrc-summary.dcf13-Jul-2024 06:38 410  
[TXT]install-out.txt13-Jul-2024 06:38 4.8K 
[   ]install-summary.dcf13-Jul-2024 06:38 257